BEGIN:VCALENDAR
VERSION:2.0
PRODID:-//Irish Kevin&#039;s Bar - ECPv6.15.20//NONSGML v1.0//EN
CALSCALE:GREGORIAN
METHOD:PUBLISH
X-ORIGINAL-URL:https://irishkevins.com
X-WR-CALDESC:Events for Irish Kevin&#039;s Bar
REFRESH-INTERVAL;VALUE=DURATION:PT1H
X-Robots-Tag:noindex
X-PUBLISHED-TTL:PT1H
BEGIN:VTIMEZONE
TZID:America/New_York
BEGIN:DAYLIGHT
TZOFFSETFROM:-0500
TZOFFSETTO:-0400
TZNAME:EDT
DTSTART:20240310T070000
END:DAYLIGHT
BEGIN:STANDARD
TZOFFSETFROM:-0400
TZOFFSETTO:-0500
TZNAME:EST
DTSTART:20241103T060000
END:STANDARD
BEGIN:DAYLIGHT
TZOFFSETFROM:-0500
TZOFFSETTO:-0400
TZNAME:EDT
DTSTART:20250309T070000
END:DAYLIGHT
BEGIN:STANDARD
TZOFFSETFROM:-0400
TZOFFSETTO:-0500
TZNAME:EST
DTSTART:20251102T060000
END:STANDARD
BEGIN:DAYLIGHT
TZOFFSETFROM:-0500
TZOFFSETTO:-0400
TZNAME:EDT
DTSTART:20260308T070000
END:DAYLIGHT
BEGIN:STANDARD
TZOFFSETFROM:-0400
TZOFFSETTO:-0500
TZNAME:EST
DTSTART:20261101T060000
END:STANDARD
END:VTIMEZONE
BEGIN:VEVENT
DTSTART;TZID=America/New_York:20251024T100000
DTEND;TZID=America/New_York:20251024T133000
DTSTAMP:20260422T170604
CREATED:20251008T165823Z
LAST-MODIFIED:20251008T165823Z
UID:990005723-1761300000-1761312600@irishkevins.com
SUMMARY:Jeff Harris
DESCRIPTION:
URL:https://irishkevins.com/event/jeff-harris-4/2025-10-24/
CATEGORIES:Jeff Harris
ATTACH;FMTTYPE=image/jpeg:https://irishkevins.com/wp-content/uploads/2023/11/Jeff-Harris.jpeg
END:VEVENT
BEGIN:VEVENT
DTSTART;TZID=America/New_York:20251024T133000
DTEND;TZID=America/New_York:20251024T170000
DTSTAMP:20260422T170604
CREATED:20251008T175357Z
LAST-MODIFIED:20251008T175357Z
UID:990005779-1761312600-1761325200@irishkevins.com
SUMMARY:Mylo O'Maolain
DESCRIPTION:
URL:https://irishkevins.com/event/mylo-omaolain-8/2025-10-24/
CATEGORIES:Mylo O'Maolain
END:VEVENT
BEGIN:VEVENT
DTSTART;TZID=America/New_York:20251024T170000
DTEND;TZID=America/New_York:20251024T201500
DTSTAMP:20260422T170604
CREATED:20251008T174308Z
LAST-MODIFIED:20251008T181549Z
UID:990005760-1761325200-1761336900@irishkevins.com
SUMMARY:Irish Kevin
DESCRIPTION:
URL:https://irishkevins.com/event/irish-kevin/2025-10-24/
CATEGORIES:Irish Kevin
ATTACH;FMTTYPE=image/jpeg:https://irishkevins.com/wp-content/uploads/2023/12/Irish-Kevin.jpg
END:VEVENT
BEGIN:VEVENT
DTSTART;TZID=America/New_York:20251024T201500
DTEND;TZID=America/New_York:20251024T233000
DTSTAMP:20260422T170604
CREATED:20251008T180835Z
LAST-MODIFIED:20251008T180835Z
UID:990005810-1761336900-1761348600@irishkevins.com
SUMMARY:NY Pauly
DESCRIPTION:
URL:https://irishkevins.com/event/ny-pauly/2025-10-24/
CATEGORIES:NY Pauly
ATTACH;FMTTYPE=image/jpeg:https://irishkevins.com/wp-content/uploads/2023/09/NY-Pauly-380.jpg
END:VEVENT
BEGIN:VEVENT
DTSTART;TZID=America/New_York:20251024T233000
DTEND;TZID=America/New_York:20251025T033000
DTSTAMP:20260422T170604
CREATED:20251008T170612Z
LAST-MODIFIED:20251008T170612Z
UID:990005734-1761348600-1761363000@irishkevins.com
SUMMARY:Riptide Riot
DESCRIPTION:
URL:https://irishkevins.com/event/riptide-riot-4/2025-10-24/
CATEGORIES:Tim and Jim
END:VEVENT
END:VCALENDAR