BEGIN:VCALENDAR
VERSION:2.0
PRODID:-//Irish Kevin&#039;s Bar - ECPv6.15.20//NONSGML v1.0//EN
CALSCALE:GREGORIAN
METHOD:PUBLISH
X-ORIGINAL-URL:https://irishkevins.com
X-WR-CALDESC:Events for Irish Kevin&#039;s Bar
REFRESH-INTERVAL;VALUE=DURATION:PT1H
X-Robots-Tag:noindex
X-PUBLISHED-TTL:PT1H
BEGIN:VTIMEZONE
TZID:America/New_York
BEGIN:DAYLIGHT
TZOFFSETFROM:-0500
TZOFFSETTO:-0400
TZNAME:EDT
DTSTART:20240310T070000
END:DAYLIGHT
BEGIN:STANDARD
TZOFFSETFROM:-0400
TZOFFSETTO:-0500
TZNAME:EST
DTSTART:20241103T060000
END:STANDARD
BEGIN:DAYLIGHT
TZOFFSETFROM:-0500
TZOFFSETTO:-0400
TZNAME:EDT
DTSTART:20250309T070000
END:DAYLIGHT
BEGIN:STANDARD
TZOFFSETFROM:-0400
TZOFFSETTO:-0500
TZNAME:EST
DTSTART:20251102T060000
END:STANDARD
BEGIN:DAYLIGHT
TZOFFSETFROM:-0500
TZOFFSETTO:-0400
TZNAME:EDT
DTSTART:20260308T070000
END:DAYLIGHT
BEGIN:STANDARD
TZOFFSETFROM:-0400
TZOFFSETTO:-0500
TZNAME:EST
DTSTART:20261101T060000
END:STANDARD
END:VTIMEZONE
BEGIN:VEVENT
DTSTART;TZID=America/New_York:20251103T110000
DTEND;TZID=America/New_York:20251103T143000
DTSTAMP:20260422T154200
CREATED:20251109T201125Z
LAST-MODIFIED:20251109T201125Z
UID:990005824-1762167600-1762180200@irishkevins.com
SUMMARY:Bradd Shadduck
DESCRIPTION:
URL:https://irishkevins.com/event/bradd-shadduck-2/2025-11-03/
CATEGORIES:Bradd Shadduck
ATTACH;FMTTYPE=image/jpeg:https://irishkevins.com/wp-content/uploads/2023/11/Bradd-Shadduck.jpeg
END:VEVENT
BEGIN:VEVENT
DTSTART;TZID=America/New_York:20251103T143000
DTEND;TZID=America/New_York:20251103T180000
DTSTAMP:20260422T154200
CREATED:20251109T202007Z
LAST-MODIFIED:20251109T202007Z
UID:990005848-1762180200-1762192800@irishkevins.com
SUMMARY:Jeff Harris
DESCRIPTION:
URL:https://irishkevins.com/event/jeff-harris-2/2025-11-03/
CATEGORIES:Jeff Harris
ATTACH;FMTTYPE=image/jpeg:https://irishkevins.com/wp-content/uploads/2023/09/Jeff-Harris-380.jpg
END:VEVENT
BEGIN:VEVENT
DTSTART;TZID=America/New_York:20251103T180000
DTEND;TZID=America/New_York:20251103T220000
DTSTAMP:20260422T154200
CREATED:20251109T210532Z
LAST-MODIFIED:20251109T210532Z
UID:990005916-1762192800-1762207200@irishkevins.com
SUMMARY:NY Pauly
DESCRIPTION:
URL:https://irishkevins.com/event/ny-pauly-4/2025-11-03/
CATEGORIES:NY Pauly
ATTACH;FMTTYPE=image/jpeg:https://irishkevins.com/wp-content/uploads/2023/09/NY-Pauly-380.jpg
END:VEVENT
BEGIN:VEVENT
DTSTART;TZID=America/New_York:20251103T220000
DTEND;TZID=America/New_York:20251104T020000
DTSTAMP:20260422T154200
CREATED:20251109T204412Z
LAST-MODIFIED:20251109T204412Z
UID:990005891-1762207200-1762221600@irishkevins.com
SUMMARY:Mylo O'Maolain
DESCRIPTION:
URL:https://irishkevins.com/event/mylo-omaolain-2/2025-11-03/
CATEGORIES:Mylo O'Maolain
END:VEVENT
END:VCALENDAR