BEGIN:VCALENDAR
VERSION:2.0
PRODID:-//Irish Kevin&#039;s Bar - ECPv6.15.20//NONSGML v1.0//EN
CALSCALE:GREGORIAN
METHOD:PUBLISH
X-WR-CALNAME:Irish Kevin&#039;s Bar
X-ORIGINAL-URL:https://irishkevins.com
X-WR-CALDESC:Events for Irish Kevin&#039;s Bar
REFRESH-INTERVAL;VALUE=DURATION:PT1H
X-Robots-Tag:noindex
X-PUBLISHED-TTL:PT1H
BEGIN:VTIMEZONE
TZID:America/New_York
BEGIN:DAYLIGHT
TZOFFSETFROM:-0500
TZOFFSETTO:-0400
TZNAME:EDT
DTSTART:20240310T070000
END:DAYLIGHT
BEGIN:STANDARD
TZOFFSETFROM:-0400
TZOFFSETTO:-0500
TZNAME:EST
DTSTART:20241103T060000
END:STANDARD
BEGIN:DAYLIGHT
TZOFFSETFROM:-0500
TZOFFSETTO:-0400
TZNAME:EDT
DTSTART:20250309T070000
END:DAYLIGHT
BEGIN:STANDARD
TZOFFSETFROM:-0400
TZOFFSETTO:-0500
TZNAME:EST
DTSTART:20251102T060000
END:STANDARD
BEGIN:DAYLIGHT
TZOFFSETFROM:-0500
TZOFFSETTO:-0400
TZNAME:EDT
DTSTART:20260308T070000
END:DAYLIGHT
BEGIN:STANDARD
TZOFFSETFROM:-0400
TZOFFSETTO:-0500
TZNAME:EST
DTSTART:20261101T060000
END:STANDARD
END:VTIMEZONE
BEGIN:VEVENT
DTSTART;TZID=America/New_York:20251107T110000
DTEND;TZID=America/New_York:20251107T143000
DTSTAMP:20260422T153826
CREATED:20251109T202007Z
LAST-MODIFIED:20251109T202007Z
UID:990005849-1762513200-1762525800@irishkevins.com
SUMMARY:Jeff Harris
DESCRIPTION:
URL:https://irishkevins.com/event/jeff-harris-2/2025-11-07/
CATEGORIES:Jeff Harris
ATTACH;FMTTYPE=image/jpeg:https://irishkevins.com/wp-content/uploads/2023/09/Jeff-Harris-380.jpg
END:VEVENT
BEGIN:VEVENT
DTSTART;TZID=America/New_York:20251107T143000
DTEND;TZID=America/New_York:20251107T183000
DTSTAMP:20260422T153826
CREATED:20251109T201540Z
LAST-MODIFIED:20251109T201540Z
UID:990005843-1762525800-1762540200@irishkevins.com
SUMMARY:Jack Wolf
DESCRIPTION:
URL:https://irishkevins.com/event/jack-wolf-4/2025-11-07/
CATEGORIES:Jack Wolf
END:VEVENT
BEGIN:VEVENT
DTSTART;TZID=America/New_York:20251107T183000
DTEND;TZID=America/New_York:20251107T223000
DTSTAMP:20260422T153826
CREATED:20251109T210532Z
LAST-MODIFIED:20251109T210532Z
UID:990005918-1762540200-1762554600@irishkevins.com
SUMMARY:NY Pauly
DESCRIPTION:
URL:https://irishkevins.com/event/ny-pauly-4/2025-11-07/
CATEGORIES:NY Pauly
ATTACH;FMTTYPE=image/jpeg:https://irishkevins.com/wp-content/uploads/2023/09/NY-Pauly-380.jpg
END:VEVENT
BEGIN:VEVENT
DTSTART;TZID=America/New_York:20251107T223000
DTEND;TZID=America/New_York:20251108T023000
DTSTAMP:20260422T153826
CREATED:20251109T202459Z
LAST-MODIFIED:20251109T202459Z
UID:990005870-1762554600-1762569000@irishkevins.com
SUMMARY:Oren and Jim Show
DESCRIPTION:
URL:https://irishkevins.com/event/oren-and-jim-show/2025-11-07/
CATEGORIES:Oren and Jim
END:VEVENT
END:VCALENDAR