BEGIN:VCALENDAR
VERSION:2.0
PRODID:-//Irish Kevin&#039;s Bar - ECPv6.15.20//NONSGML v1.0//EN
CALSCALE:GREGORIAN
METHOD:PUBLISH
X-WR-CALNAME:Irish Kevin&#039;s Bar
X-ORIGINAL-URL:https://irishkevins.com
X-WR-CALDESC:Events for Irish Kevin&#039;s Bar
REFRESH-INTERVAL;VALUE=DURATION:PT1H
X-Robots-Tag:noindex
X-PUBLISHED-TTL:PT1H
BEGIN:VTIMEZONE
TZID:America/New_York
BEGIN:DAYLIGHT
TZOFFSETFROM:-0500
TZOFFSETTO:-0400
TZNAME:EDT
DTSTART:20240310T070000
END:DAYLIGHT
BEGIN:STANDARD
TZOFFSETFROM:-0400
TZOFFSETTO:-0500
TZNAME:EST
DTSTART:20241103T060000
END:STANDARD
BEGIN:DAYLIGHT
TZOFFSETFROM:-0500
TZOFFSETTO:-0400
TZNAME:EDT
DTSTART:20250309T070000
END:DAYLIGHT
BEGIN:STANDARD
TZOFFSETFROM:-0400
TZOFFSETTO:-0500
TZNAME:EST
DTSTART:20251102T060000
END:STANDARD
BEGIN:DAYLIGHT
TZOFFSETFROM:-0500
TZOFFSETTO:-0400
TZNAME:EDT
DTSTART:20260308T070000
END:DAYLIGHT
BEGIN:STANDARD
TZOFFSETFROM:-0400
TZOFFSETTO:-0500
TZNAME:EST
DTSTART:20261101T060000
END:STANDARD
BEGIN:DAYLIGHT
TZOFFSETFROM:-0500
TZOFFSETTO:-0400
TZNAME:EDT
DTSTART:20270314T070000
END:DAYLIGHT
BEGIN:STANDARD
TZOFFSETFROM:-0400
TZOFFSETTO:-0500
TZNAME:EST
DTSTART:20271107T060000
END:STANDARD
END:VTIMEZONE
BEGIN:VEVENT
DTSTART;TZID=America/New_York:20251231T110000
DTEND;TZID=America/New_York:20251231T150000
DTSTAMP:20260422T122358
CREATED:20251203T005547Z
LAST-MODIFIED:20251203T005547Z
UID:990006036-1767178800-1767193200@irishkevins.com
SUMMARY:Oren Polak
DESCRIPTION:
URL:https://irishkevins.com/event/oren-polak-5/2025-12-31/
CATEGORIES:Oren Polak
ATTACH;FMTTYPE=image/jpeg:https://irishkevins.com/wp-content/uploads/2023/09/Oren-Polak-450.jpg
END:VEVENT
BEGIN:VEVENT
DTSTART;TZID=America/New_York:20251231T150000
DTEND;TZID=America/New_York:20251231T190000
DTSTAMP:20260422T122358
CREATED:20251203T001252Z
LAST-MODIFIED:20251203T001252Z
UID:990005956-1767193200-1767207600@irishkevins.com
SUMMARY:Bradd Shadduck
DESCRIPTION:
URL:https://irishkevins.com/event/bradd-shadduck-3/2025-12-31/
CATEGORIES:Bradd Shadduck
ATTACH;FMTTYPE=image/jpeg:https://irishkevins.com/wp-content/uploads/2023/09/Bradd-Shadduck-380.jpg
END:VEVENT
BEGIN:VEVENT
DTSTART;TZID=America/New_York:20251231T190000
DTEND;TZID=America/New_York:20251231T230000
DTSTAMP:20260422T122358
CREATED:20251203T004011Z
LAST-MODIFIED:20251203T004011Z
UID:990006011-1767207600-1767222000@irishkevins.com
SUMMARY:Irish Kevin
DESCRIPTION:
URL:https://irishkevins.com/event/irish-kevin-4/2025-12-31/
CATEGORIES:Irish Kevin
ATTACH;FMTTYPE=image/jpeg:https://irishkevins.com/wp-content/uploads/2023/12/Irish-Kevin.jpg
END:VEVENT
BEGIN:VEVENT
DTSTART;TZID=America/New_York:20251231T230000
DTEND;TZID=America/New_York:20260101T030000
DTSTAMP:20260422T122358
CREATED:20251203T003108Z
LAST-MODIFIED:20251203T003108Z
UID:990005988-1767222000-1767236400@irishkevins.com
SUMMARY:Simonian Wolf
DESCRIPTION:
URL:https://irishkevins.com/event/simonian-wolf-6/
CATEGORIES:Kari and Jim Show
END:VEVENT
END:VCALENDAR