BEGIN:VCALENDAR
VERSION:2.0
PRODID:-//Irish Kevin&#039;s Bar - ECPv6.15.20//NONSGML v1.0//EN
CALSCALE:GREGORIAN
METHOD:PUBLISH
X-ORIGINAL-URL:https://irishkevins.com
X-WR-CALDESC:Events for Irish Kevin&#039;s Bar
REFRESH-INTERVAL;VALUE=DURATION:PT1H
X-Robots-Tag:noindex
X-PUBLISHED-TTL:PT1H
BEGIN:VTIMEZONE
TZID:America/New_York
BEGIN:DAYLIGHT
TZOFFSETFROM:-0500
TZOFFSETTO:-0400
TZNAME:EDT
DTSTART:20250309T070000
END:DAYLIGHT
BEGIN:STANDARD
TZOFFSETFROM:-0400
TZOFFSETTO:-0500
TZNAME:EST
DTSTART:20251102T060000
END:STANDARD
BEGIN:DAYLIGHT
TZOFFSETFROM:-0500
TZOFFSETTO:-0400
TZNAME:EDT
DTSTART:20260308T070000
END:DAYLIGHT
BEGIN:STANDARD
TZOFFSETFROM:-0400
TZOFFSETTO:-0500
TZNAME:EST
DTSTART:20261101T060000
END:STANDARD
BEGIN:DAYLIGHT
TZOFFSETFROM:-0500
TZOFFSETTO:-0400
TZNAME:EDT
DTSTART:20270314T070000
END:DAYLIGHT
BEGIN:STANDARD
TZOFFSETFROM:-0400
TZOFFSETTO:-0500
TZNAME:EST
DTSTART:20271107T060000
END:STANDARD
END:VTIMEZONE
BEGIN:VEVENT
DTSTART;TZID=America/New_York:20260208T110000
DTEND;TZID=America/New_York:20260208T143000
DTSTAMP:20260422T101642
CREATED:20260204T163515Z
LAST-MODIFIED:20260204T163515Z
UID:990006295-1770548400-1770561000@irishkevins.com
SUMMARY:Tim Bradach
DESCRIPTION:
URL:https://irishkevins.com/event/tim-bradach-7/2026-02-08/
CATEGORIES:Tim Bradach
END:VEVENT
BEGIN:VEVENT
DTSTART;TZID=America/New_York:20260208T143000
DTEND;TZID=America/New_York:20260208T180000
DTSTAMP:20260422T101642
CREATED:20260204T155516Z
LAST-MODIFIED:20260204T155516Z
UID:990006193-1770561000-1770573600@irishkevins.com
SUMMARY:Jeff Harris
DESCRIPTION:
URL:https://irishkevins.com/event/jeff-harris-7/2026-02-08/
CATEGORIES:Jeff Harris
ATTACH;FMTTYPE=image/jpeg:https://irishkevins.com/wp-content/uploads/2023/09/Jeff-Harris-380.jpg
END:VEVENT
BEGIN:VEVENT
DTSTART;TZID=America/New_York:20260208T180000
DTEND;TZID=America/New_York:20260208T220000
DTSTAMP:20260422T101642
CREATED:20260204T162854Z
LAST-MODIFIED:20260204T162854Z
UID:990006268-1770573600-1770588000@irishkevins.com
SUMMARY:Oren Polak
DESCRIPTION:
URL:https://irishkevins.com/event/oren-polak-7/2026-02-08/
CATEGORIES:Oren Polak
ATTACH;FMTTYPE=image/jpeg:https://irishkevins.com/wp-content/uploads/2023/09/Oren-Polak-450.jpg
END:VEVENT
BEGIN:VEVENT
DTSTART;TZID=America/New_York:20260208T220000
DTEND;TZID=America/New_York:20260209T020000
DTSTAMP:20260422T101642
CREATED:20260204T162347Z
LAST-MODIFIED:20260204T162347Z
UID:990006253-1770588000-1770602400@irishkevins.com
SUMMARY:Mylo O'Maolain
DESCRIPTION:
URL:https://irishkevins.com/event/mylo-omaolain-5/2026-02-08/
CATEGORIES:Mylo O'Maolain
END:VEVENT
END:VCALENDAR