BEGIN:VCALENDAR
VERSION:2.0
PRODID:-//Irish Kevin&#039;s Bar - ECPv6.15.20//NONSGML v1.0//EN
CALSCALE:GREGORIAN
METHOD:PUBLISH
X-WR-CALNAME:Irish Kevin&#039;s Bar
X-ORIGINAL-URL:https://irishkevins.com
X-WR-CALDESC:Events for Irish Kevin&#039;s Bar
REFRESH-INTERVAL;VALUE=DURATION:PT1H
X-Robots-Tag:noindex
X-PUBLISHED-TTL:PT1H
BEGIN:VTIMEZONE
TZID:America/New_York
BEGIN:DAYLIGHT
TZOFFSETFROM:-0500
TZOFFSETTO:-0400
TZNAME:EDT
DTSTART:20250309T070000
END:DAYLIGHT
BEGIN:STANDARD
TZOFFSETFROM:-0400
TZOFFSETTO:-0500
TZNAME:EST
DTSTART:20251102T060000
END:STANDARD
BEGIN:DAYLIGHT
TZOFFSETFROM:-0500
TZOFFSETTO:-0400
TZNAME:EDT
DTSTART:20260308T070000
END:DAYLIGHT
BEGIN:STANDARD
TZOFFSETFROM:-0400
TZOFFSETTO:-0500
TZNAME:EST
DTSTART:20261101T060000
END:STANDARD
BEGIN:DAYLIGHT
TZOFFSETFROM:-0500
TZOFFSETTO:-0400
TZNAME:EDT
DTSTART:20270314T070000
END:DAYLIGHT
BEGIN:STANDARD
TZOFFSETFROM:-0400
TZOFFSETTO:-0500
TZNAME:EST
DTSTART:20271107T060000
END:STANDARD
END:VTIMEZONE
BEGIN:VEVENT
DTSTART;TZID=America/New_York:20260317T150000
DTEND;TZID=America/New_York:20260317T190000
DTSTAMP:20260422T182425
CREATED:20260302T190629Z
LAST-MODIFIED:20260302T190629Z
UID:990006375-1773759600-1773774000@irishkevins.com
SUMMARY:Irish Kevin
DESCRIPTION:
URL:https://irishkevins.com/event/irish-kevin-3/2026-03-17/
CATEGORIES:Irish Kevin
ATTACH;FMTTYPE=image/jpeg:https://irishkevins.com/wp-content/uploads/2023/12/Irish-Kevin.jpg
END:VEVENT
BEGIN:VEVENT
DTSTART;TZID=America/New_York:20260314T183000
DTEND;TZID=America/New_York:20260314T223000
DTSTAMP:20260422T182425
CREATED:20260302T190629Z
LAST-MODIFIED:20260302T190629Z
UID:990006374-1773513000-1773527400@irishkevins.com
SUMMARY:Irish Kevin
DESCRIPTION:
URL:https://irishkevins.com/event/irish-kevin-3/2026-03-14/
CATEGORIES:Irish Kevin
ATTACH;FMTTYPE=image/jpeg:https://irishkevins.com/wp-content/uploads/2023/12/Irish-Kevin.jpg
END:VEVENT
BEGIN:VEVENT
DTSTART;TZID=America/New_York:20260312T143000
DTEND;TZID=America/New_York:20260312T183000
DTSTAMP:20260422T182425
CREATED:20260302T190629Z
LAST-MODIFIED:20260302T190629Z
UID:990006373-1773325800-1773340200@irishkevins.com
SUMMARY:Irish Kevin
DESCRIPTION:
URL:https://irishkevins.com/event/irish-kevin-3/2026-03-12/
CATEGORIES:Irish Kevin
ATTACH;FMTTYPE=image/jpeg:https://irishkevins.com/wp-content/uploads/2023/12/Irish-Kevin.jpg
END:VEVENT
BEGIN:VEVENT
DTSTART;TZID=America/New_York:20260311T180000
DTEND;TZID=America/New_York:20260311T220000
DTSTAMP:20260422T182425
CREATED:20260302T190629Z
LAST-MODIFIED:20260302T190629Z
UID:990006372-1773252000-1773266400@irishkevins.com
SUMMARY:Irish Kevin
DESCRIPTION:
URL:https://irishkevins.com/event/irish-kevin-3/2026-03-11/
CATEGORIES:Irish Kevin
ATTACH;FMTTYPE=image/jpeg:https://irishkevins.com/wp-content/uploads/2023/12/Irish-Kevin.jpg
END:VEVENT
BEGIN:VEVENT
DTSTART;TZID=America/New_York:20260310T143000
DTEND;TZID=America/New_York:20260310T180000
DTSTAMP:20260422T182425
CREATED:20260302T190629Z
LAST-MODIFIED:20260302T190629Z
UID:990006371-1773153000-1773165600@irishkevins.com
SUMMARY:Irish Kevin
DESCRIPTION:
URL:https://irishkevins.com/event/irish-kevin-3/2026-03-10/
CATEGORIES:Irish Kevin
ATTACH;FMTTYPE=image/jpeg:https://irishkevins.com/wp-content/uploads/2023/12/Irish-Kevin.jpg
END:VEVENT
BEGIN:VEVENT
DTSTART;TZID=America/New_York:20260307T183000
DTEND;TZID=America/New_York:20260307T223000
DTSTAMP:20260422T182425
CREATED:20260302T190629Z
LAST-MODIFIED:20260302T190629Z
UID:990006370-1772908200-1772922600@irishkevins.com
SUMMARY:Irish Kevin
DESCRIPTION:
URL:https://irishkevins.com/event/irish-kevin-3/2026-03-07/
CATEGORIES:Irish Kevin
ATTACH;FMTTYPE=image/jpeg:https://irishkevins.com/wp-content/uploads/2023/12/Irish-Kevin.jpg
END:VEVENT
BEGIN:VEVENT
DTSTART;TZID=America/New_York:20260305T143000
DTEND;TZID=America/New_York:20260305T183000
DTSTAMP:20260422T182425
CREATED:20260302T190629Z
LAST-MODIFIED:20260302T190629Z
UID:990006369-1772721000-1772735400@irishkevins.com
SUMMARY:Irish Kevin
DESCRIPTION:
URL:https://irishkevins.com/event/irish-kevin-3/2026-03-05/
CATEGORIES:Irish Kevin
ATTACH;FMTTYPE=image/jpeg:https://irishkevins.com/wp-content/uploads/2023/12/Irish-Kevin.jpg
END:VEVENT
BEGIN:VEVENT
DTSTART;TZID=America/New_York:20260304T180000
DTEND;TZID=America/New_York:20260304T220000
DTSTAMP:20260422T182425
CREATED:20260302T190629Z
LAST-MODIFIED:20260302T190629Z
UID:990006368-1772647200-1772661600@irishkevins.com
SUMMARY:Irish Kevin
DESCRIPTION:
URL:https://irishkevins.com/event/irish-kevin-3/2026-03-04/
CATEGORIES:Irish Kevin
ATTACH;FMTTYPE=image/jpeg:https://irishkevins.com/wp-content/uploads/2023/12/Irish-Kevin.jpg
END:VEVENT
BEGIN:VEVENT
DTSTART;TZID=America/New_York:20260303T143000
DTEND;TZID=America/New_York:20260303T180000
DTSTAMP:20260422T182425
CREATED:20260302T190629Z
LAST-MODIFIED:20260302T190629Z
UID:990006367-1772548200-1772560800@irishkevins.com
SUMMARY:Irish Kevin
DESCRIPTION:
URL:https://irishkevins.com/event/irish-kevin-3/2026-03-03/
CATEGORIES:Irish Kevin
ATTACH;FMTTYPE=image/jpeg:https://irishkevins.com/wp-content/uploads/2023/12/Irish-Kevin.jpg
END:VEVENT
BEGIN:VEVENT
DTSTART;TZID=America/New_York:20260228T183000
DTEND;TZID=America/New_York:20260228T223000
DTSTAMP:20260422T182425
CREATED:20260204T161640Z
LAST-MODIFIED:20260204T161640Z
UID:990006247-1772303400-1772317800@irishkevins.com
SUMMARY:Irish Kevin
DESCRIPTION:
URL:https://irishkevins.com/event/irish-kevin-6/2026-02-28/
CATEGORIES:Irish Kevin
ATTACH;FMTTYPE=image/jpeg:https://irishkevins.com/wp-content/uploads/2023/12/Irish-Kevin.jpg
END:VEVENT
BEGIN:VEVENT
DTSTART;TZID=America/New_York:20260226T143000
DTEND;TZID=America/New_York:20260226T183000
DTSTAMP:20260422T182425
CREATED:20260204T161640Z
LAST-MODIFIED:20260204T161640Z
UID:990006246-1772116200-1772130600@irishkevins.com
SUMMARY:Irish Kevin
DESCRIPTION:
URL:https://irishkevins.com/event/irish-kevin-6/2026-02-26/
CATEGORIES:Irish Kevin
ATTACH;FMTTYPE=image/jpeg:https://irishkevins.com/wp-content/uploads/2023/12/Irish-Kevin.jpg
END:VEVENT
BEGIN:VEVENT
DTSTART;TZID=America/New_York:20260225T180000
DTEND;TZID=America/New_York:20260225T220000
DTSTAMP:20260422T182425
CREATED:20260204T161640Z
LAST-MODIFIED:20260204T161640Z
UID:990006245-1772042400-1772056800@irishkevins.com
SUMMARY:Irish Kevin
DESCRIPTION:
URL:https://irishkevins.com/event/irish-kevin-6/2026-02-25/
CATEGORIES:Irish Kevin
ATTACH;FMTTYPE=image/jpeg:https://irishkevins.com/wp-content/uploads/2023/12/Irish-Kevin.jpg
END:VEVENT
BEGIN:VEVENT
DTSTART;TZID=America/New_York:20260224T143000
DTEND;TZID=America/New_York:20260224T180000
DTSTAMP:20260422T182425
CREATED:20260204T161640Z
LAST-MODIFIED:20260204T161640Z
UID:990006244-1771943400-1771956000@irishkevins.com
SUMMARY:Irish Kevin
DESCRIPTION:
URL:https://irishkevins.com/event/irish-kevin-6/2026-02-24/
CATEGORIES:Irish Kevin
ATTACH;FMTTYPE=image/jpeg:https://irishkevins.com/wp-content/uploads/2023/12/Irish-Kevin.jpg
END:VEVENT
BEGIN:VEVENT
DTSTART;TZID=America/New_York:20260221T183000
DTEND;TZID=America/New_York:20260221T223000
DTSTAMP:20260422T182425
CREATED:20260204T161640Z
LAST-MODIFIED:20260204T161640Z
UID:990006243-1771698600-1771713000@irishkevins.com
SUMMARY:Irish Kevin
DESCRIPTION:
URL:https://irishkevins.com/event/irish-kevin-6/2026-02-21/
CATEGORIES:Irish Kevin
ATTACH;FMTTYPE=image/jpeg:https://irishkevins.com/wp-content/uploads/2023/12/Irish-Kevin.jpg
END:VEVENT
BEGIN:VEVENT
DTSTART;TZID=America/New_York:20260219T143000
DTEND;TZID=America/New_York:20260219T183000
DTSTAMP:20260422T182425
CREATED:20260204T161640Z
LAST-MODIFIED:20260204T161640Z
UID:990006242-1771511400-1771525800@irishkevins.com
SUMMARY:Irish Kevin
DESCRIPTION:
URL:https://irishkevins.com/event/irish-kevin-6/2026-02-19/
CATEGORIES:Irish Kevin
ATTACH;FMTTYPE=image/jpeg:https://irishkevins.com/wp-content/uploads/2023/12/Irish-Kevin.jpg
END:VEVENT
BEGIN:VEVENT
DTSTART;TZID=America/New_York:20260218T180000
DTEND;TZID=America/New_York:20260218T220000
DTSTAMP:20260422T182425
CREATED:20260204T161640Z
LAST-MODIFIED:20260204T161640Z
UID:990006241-1771437600-1771452000@irishkevins.com
SUMMARY:Irish Kevin
DESCRIPTION:
URL:https://irishkevins.com/event/irish-kevin-6/2026-02-18/
CATEGORIES:Irish Kevin
ATTACH;FMTTYPE=image/jpeg:https://irishkevins.com/wp-content/uploads/2023/12/Irish-Kevin.jpg
END:VEVENT
BEGIN:VEVENT
DTSTART;TZID=America/New_York:20260217T143000
DTEND;TZID=America/New_York:20260217T180000
DTSTAMP:20260422T182425
CREATED:20260204T161640Z
LAST-MODIFIED:20260204T161640Z
UID:990006240-1771338600-1771351200@irishkevins.com
SUMMARY:Irish Kevin
DESCRIPTION:
URL:https://irishkevins.com/event/irish-kevin-6/2026-02-17/
CATEGORIES:Irish Kevin
ATTACH;FMTTYPE=image/jpeg:https://irishkevins.com/wp-content/uploads/2023/12/Irish-Kevin.jpg
END:VEVENT
BEGIN:VEVENT
DTSTART;TZID=America/New_York:20260214T183000
DTEND;TZID=America/New_York:20260214T223000
DTSTAMP:20260422T182425
CREATED:20260204T161640Z
LAST-MODIFIED:20260204T161640Z
UID:990006239-1771093800-1771108200@irishkevins.com
SUMMARY:Irish Kevin
DESCRIPTION:
URL:https://irishkevins.com/event/irish-kevin-6/2026-02-14/
CATEGORIES:Irish Kevin
ATTACH;FMTTYPE=image/jpeg:https://irishkevins.com/wp-content/uploads/2023/12/Irish-Kevin.jpg
END:VEVENT
BEGIN:VEVENT
DTSTART;TZID=America/New_York:20260212T143000
DTEND;TZID=America/New_York:20260212T183000
DTSTAMP:20260422T182425
CREATED:20260204T161640Z
LAST-MODIFIED:20260204T161640Z
UID:990006238-1770906600-1770921000@irishkevins.com
SUMMARY:Irish Kevin
DESCRIPTION:
URL:https://irishkevins.com/event/irish-kevin-6/2026-02-12/
CATEGORIES:Irish Kevin
ATTACH;FMTTYPE=image/jpeg:https://irishkevins.com/wp-content/uploads/2023/12/Irish-Kevin.jpg
END:VEVENT
BEGIN:VEVENT
DTSTART;TZID=America/New_York:20260211T180000
DTEND;TZID=America/New_York:20260211T220000
DTSTAMP:20260422T182425
CREATED:20260204T161640Z
LAST-MODIFIED:20260204T161640Z
UID:990006237-1770832800-1770847200@irishkevins.com
SUMMARY:Irish Kevin
DESCRIPTION:
URL:https://irishkevins.com/event/irish-kevin-6/2026-02-11/
CATEGORIES:Irish Kevin
ATTACH;FMTTYPE=image/jpeg:https://irishkevins.com/wp-content/uploads/2023/12/Irish-Kevin.jpg
END:VEVENT
BEGIN:VEVENT
DTSTART;TZID=America/New_York:20260210T143000
DTEND;TZID=America/New_York:20260210T180000
DTSTAMP:20260422T182425
CREATED:20260204T161640Z
LAST-MODIFIED:20260204T161640Z
UID:990006236-1770733800-1770746400@irishkevins.com
SUMMARY:Irish Kevin
DESCRIPTION:
URL:https://irishkevins.com/event/irish-kevin-6/2026-02-10/
CATEGORIES:Irish Kevin
ATTACH;FMTTYPE=image/jpeg:https://irishkevins.com/wp-content/uploads/2023/12/Irish-Kevin.jpg
END:VEVENT
BEGIN:VEVENT
DTSTART;TZID=America/New_York:20260207T183000
DTEND;TZID=America/New_York:20260207T223000
DTSTAMP:20260422T182425
CREATED:20260204T161640Z
LAST-MODIFIED:20260204T161640Z
UID:990006235-1770489000-1770503400@irishkevins.com
SUMMARY:Irish Kevin
DESCRIPTION:
URL:https://irishkevins.com/event/irish-kevin-6/2026-02-07/
CATEGORIES:Irish Kevin
ATTACH;FMTTYPE=image/jpeg:https://irishkevins.com/wp-content/uploads/2023/12/Irish-Kevin.jpg
END:VEVENT
BEGIN:VEVENT
DTSTART;TZID=America/New_York:20260203T143000
DTEND;TZID=America/New_York:20260203T180000
DTSTAMP:20260422T182425
CREATED:20260204T161640Z
LAST-MODIFIED:20260204T161640Z
UID:990006234-1770129000-1770141600@irishkevins.com
SUMMARY:Irish Kevin
DESCRIPTION:
URL:https://irishkevins.com/event/irish-kevin-6/2026-02-03/
CATEGORIES:Irish Kevin
ATTACH;FMTTYPE=image/jpeg:https://irishkevins.com/wp-content/uploads/2023/12/Irish-Kevin.jpg
END:VEVENT
BEGIN:VEVENT
DTSTART;TZID=America/New_York:20260131T183000
DTEND;TZID=America/New_York:20260131T223000
DTSTAMP:20260422T182425
CREATED:20260104T202316Z
LAST-MODIFIED:20260104T202316Z
UID:990006131-1769884200-1769898600@irishkevins.com
SUMMARY:Irish Kevin
DESCRIPTION:
URL:https://irishkevins.com/event/irish-kevin-5/2026-01-31/
CATEGORIES:Irish Kevin
ATTACH;FMTTYPE=image/jpeg:https://irishkevins.com/wp-content/uploads/2023/12/Irish-Kevin.jpg
END:VEVENT
BEGIN:VEVENT
DTSTART;TZID=America/New_York:20260129T143000
DTEND;TZID=America/New_York:20260129T183000
DTSTAMP:20260422T182425
CREATED:20260104T202316Z
LAST-MODIFIED:20260104T202316Z
UID:990006130-1769697000-1769711400@irishkevins.com
SUMMARY:Irish Kevin
DESCRIPTION:
URL:https://irishkevins.com/event/irish-kevin-5/2026-01-29/
CATEGORIES:Irish Kevin
ATTACH;FMTTYPE=image/jpeg:https://irishkevins.com/wp-content/uploads/2023/12/Irish-Kevin.jpg
END:VEVENT
BEGIN:VEVENT
DTSTART;TZID=America/New_York:20260128T180000
DTEND;TZID=America/New_York:20260128T220000
DTSTAMP:20260422T182425
CREATED:20260104T202316Z
LAST-MODIFIED:20260104T202316Z
UID:990006129-1769623200-1769637600@irishkevins.com
SUMMARY:Irish Kevin
DESCRIPTION:
URL:https://irishkevins.com/event/irish-kevin-5/2026-01-28/
CATEGORIES:Irish Kevin
ATTACH;FMTTYPE=image/jpeg:https://irishkevins.com/wp-content/uploads/2023/12/Irish-Kevin.jpg
END:VEVENT
BEGIN:VEVENT
DTSTART;TZID=America/New_York:20260127T143000
DTEND;TZID=America/New_York:20260127T180000
DTSTAMP:20260422T182425
CREATED:20260104T202316Z
LAST-MODIFIED:20260104T202316Z
UID:990006128-1769524200-1769536800@irishkevins.com
SUMMARY:Irish Kevin
DESCRIPTION:
URL:https://irishkevins.com/event/irish-kevin-5/2026-01-27/
CATEGORIES:Irish Kevin
ATTACH;FMTTYPE=image/jpeg:https://irishkevins.com/wp-content/uploads/2023/12/Irish-Kevin.jpg
END:VEVENT
BEGIN:VEVENT
DTSTART;TZID=America/New_York:20260124T183000
DTEND;TZID=America/New_York:20260124T223000
DTSTAMP:20260422T182425
CREATED:20260104T202316Z
LAST-MODIFIED:20260104T202316Z
UID:990006127-1769279400-1769293800@irishkevins.com
SUMMARY:Irish Kevin
DESCRIPTION:
URL:https://irishkevins.com/event/irish-kevin-5/2026-01-24/
CATEGORIES:Irish Kevin
ATTACH;FMTTYPE=image/jpeg:https://irishkevins.com/wp-content/uploads/2023/12/Irish-Kevin.jpg
END:VEVENT
BEGIN:VEVENT
DTSTART;TZID=America/New_York:20260122T143000
DTEND;TZID=America/New_York:20260122T183000
DTSTAMP:20260422T182425
CREATED:20260104T202316Z
LAST-MODIFIED:20260104T202316Z
UID:990006126-1769092200-1769106600@irishkevins.com
SUMMARY:Irish Kevin
DESCRIPTION:
URL:https://irishkevins.com/event/irish-kevin-5/2026-01-22/
CATEGORIES:Irish Kevin
ATTACH;FMTTYPE=image/jpeg:https://irishkevins.com/wp-content/uploads/2023/12/Irish-Kevin.jpg
END:VEVENT
BEGIN:VEVENT
DTSTART;TZID=America/New_York:20260121T180000
DTEND;TZID=America/New_York:20260121T220000
DTSTAMP:20260422T182425
CREATED:20260104T202316Z
LAST-MODIFIED:20260104T202316Z
UID:990006125-1769018400-1769032800@irishkevins.com
SUMMARY:Irish Kevin
DESCRIPTION:
URL:https://irishkevins.com/event/irish-kevin-5/2026-01-21/
CATEGORIES:Irish Kevin
ATTACH;FMTTYPE=image/jpeg:https://irishkevins.com/wp-content/uploads/2023/12/Irish-Kevin.jpg
END:VEVENT
END:VCALENDAR