BEGIN:VCALENDAR
VERSION:2.0
PRODID:-//Irish Kevin&#039;s Bar - ECPv6.15.20//NONSGML v1.0//EN
CALSCALE:GREGORIAN
METHOD:PUBLISH
X-WR-CALNAME:Irish Kevin&#039;s Bar
X-ORIGINAL-URL:https://irishkevins.com
X-WR-CALDESC:Events for Irish Kevin&#039;s Bar
REFRESH-INTERVAL;VALUE=DURATION:PT1H
X-Robots-Tag:noindex
X-PUBLISHED-TTL:PT1H
BEGIN:VTIMEZONE
TZID:America/New_York
BEGIN:DAYLIGHT
TZOFFSETFROM:-0500
TZOFFSETTO:-0400
TZNAME:EDT
DTSTART:20240310T070000
END:DAYLIGHT
BEGIN:STANDARD
TZOFFSETFROM:-0400
TZOFFSETTO:-0500
TZNAME:EST
DTSTART:20241103T060000
END:STANDARD
BEGIN:DAYLIGHT
TZOFFSETFROM:-0500
TZOFFSETTO:-0400
TZNAME:EDT
DTSTART:20250309T070000
END:DAYLIGHT
BEGIN:STANDARD
TZOFFSETFROM:-0400
TZOFFSETTO:-0500
TZNAME:EST
DTSTART:20251102T060000
END:STANDARD
BEGIN:DAYLIGHT
TZOFFSETFROM:-0500
TZOFFSETTO:-0400
TZNAME:EDT
DTSTART:20260308T070000
END:DAYLIGHT
BEGIN:STANDARD
TZOFFSETFROM:-0400
TZOFFSETTO:-0500
TZNAME:EST
DTSTART:20261101T060000
END:STANDARD
BEGIN:DAYLIGHT
TZOFFSETFROM:-0500
TZOFFSETTO:-0400
TZNAME:EDT
DTSTART:20270314T070000
END:DAYLIGHT
BEGIN:STANDARD
TZOFFSETFROM:-0400
TZOFFSETTO:-0500
TZNAME:EST
DTSTART:20271107T060000
END:STANDARD
END:VTIMEZONE
BEGIN:VEVENT
DTSTART;TZID=America/New_York:20251125T143000
DTEND;TZID=America/New_York:20251125T180000
DTSTAMP:20260423T014841
CREATED:20251109T203129Z
LAST-MODIFIED:20251109T203129Z
UID:990005887-1764081000-1764093600@irishkevins.com
SUMMARY:Irish Kevin
DESCRIPTION:
URL:https://irishkevins.com/event/irish-kevin-2/2025-11-25/
CATEGORIES:Irish Kevin
ATTACH;FMTTYPE=image/jpeg:https://irishkevins.com/wp-content/uploads/2023/12/Irish-Kevin.jpg
END:VEVENT
BEGIN:VEVENT
DTSTART;TZID=America/New_York:20251126T180000
DTEND;TZID=America/New_York:20251126T220000
DTSTAMP:20260423T014841
CREATED:20251109T203129Z
LAST-MODIFIED:20251109T203129Z
UID:990005888-1764180000-1764194400@irishkevins.com
SUMMARY:Irish Kevin
DESCRIPTION:
URL:https://irishkevins.com/event/irish-kevin-2/2025-11-26/
CATEGORIES:Irish Kevin
ATTACH;FMTTYPE=image/jpeg:https://irishkevins.com/wp-content/uploads/2023/12/Irish-Kevin.jpg
END:VEVENT
BEGIN:VEVENT
DTSTART;TZID=America/New_York:20251127T143000
DTEND;TZID=America/New_York:20251127T183000
DTSTAMP:20260423T014841
CREATED:20251109T203129Z
LAST-MODIFIED:20251109T203129Z
UID:990005889-1764253800-1764268200@irishkevins.com
SUMMARY:Irish Kevin
DESCRIPTION:
URL:https://irishkevins.com/event/irish-kevin-2/2025-11-27/
CATEGORIES:Irish Kevin
ATTACH;FMTTYPE=image/jpeg:https://irishkevins.com/wp-content/uploads/2023/12/Irish-Kevin.jpg
END:VEVENT
BEGIN:VEVENT
DTSTART;TZID=America/New_York:20251129T183000
DTEND;TZID=America/New_York:20251129T223000
DTSTAMP:20260423T014841
CREATED:20251109T203129Z
LAST-MODIFIED:20251109T203129Z
UID:990005890-1764441000-1764455400@irishkevins.com
SUMMARY:Irish Kevin
DESCRIPTION:
URL:https://irishkevins.com/event/irish-kevin-2/2025-11-29/
CATEGORIES:Irish Kevin
ATTACH;FMTTYPE=image/jpeg:https://irishkevins.com/wp-content/uploads/2023/12/Irish-Kevin.jpg
END:VEVENT
BEGIN:VEVENT
DTSTART;TZID=America/New_York:20251202T143000
DTEND;TZID=America/New_York:20251202T180000
DTSTAMP:20260423T014841
CREATED:20251203T004011Z
LAST-MODIFIED:20251203T004011Z
UID:990005995-1764685800-1764698400@irishkevins.com
SUMMARY:Irish Kevin
DESCRIPTION:
URL:https://irishkevins.com/event/irish-kevin-4/2025-12-02/
CATEGORIES:Irish Kevin
ATTACH;FMTTYPE=image/jpeg:https://irishkevins.com/wp-content/uploads/2023/12/Irish-Kevin.jpg
END:VEVENT
BEGIN:VEVENT
DTSTART;TZID=America/New_York:20251203T180000
DTEND;TZID=America/New_York:20251203T220000
DTSTAMP:20260423T014841
CREATED:20251203T004011Z
LAST-MODIFIED:20251203T004011Z
UID:990005996-1764784800-1764799200@irishkevins.com
SUMMARY:Irish Kevin
DESCRIPTION:
URL:https://irishkevins.com/event/irish-kevin-4/2025-12-03/
CATEGORIES:Irish Kevin
ATTACH;FMTTYPE=image/jpeg:https://irishkevins.com/wp-content/uploads/2023/12/Irish-Kevin.jpg
END:VEVENT
BEGIN:VEVENT
DTSTART;TZID=America/New_York:20251204T140000
DTEND;TZID=America/New_York:20251204T180000
DTSTAMP:20260423T014841
CREATED:20251203T004011Z
LAST-MODIFIED:20251203T004011Z
UID:990005997-1764856800-1764871200@irishkevins.com
SUMMARY:Irish Kevin
DESCRIPTION:
URL:https://irishkevins.com/event/irish-kevin-4/2025-12-04/
CATEGORIES:Irish Kevin
ATTACH;FMTTYPE=image/jpeg:https://irishkevins.com/wp-content/uploads/2023/12/Irish-Kevin.jpg
END:VEVENT
BEGIN:VEVENT
DTSTART;TZID=America/New_York:20251206T183000
DTEND;TZID=America/New_York:20251206T223000
DTSTAMP:20260423T014841
CREATED:20251203T004011Z
LAST-MODIFIED:20251203T004011Z
UID:990005998-1765045800-1765060200@irishkevins.com
SUMMARY:Irish Kevin
DESCRIPTION:
URL:https://irishkevins.com/event/irish-kevin-4/2025-12-06/
CATEGORIES:Irish Kevin
ATTACH;FMTTYPE=image/jpeg:https://irishkevins.com/wp-content/uploads/2023/12/Irish-Kevin.jpg
END:VEVENT
BEGIN:VEVENT
DTSTART;TZID=America/New_York:20251209T143000
DTEND;TZID=America/New_York:20251209T180000
DTSTAMP:20260423T014841
CREATED:20251203T004011Z
LAST-MODIFIED:20251203T004011Z
UID:990005999-1765290600-1765303200@irishkevins.com
SUMMARY:Irish Kevin
DESCRIPTION:
URL:https://irishkevins.com/event/irish-kevin-4/2025-12-09/
CATEGORIES:Irish Kevin
ATTACH;FMTTYPE=image/jpeg:https://irishkevins.com/wp-content/uploads/2023/12/Irish-Kevin.jpg
END:VEVENT
BEGIN:VEVENT
DTSTART;TZID=America/New_York:20251210T180000
DTEND;TZID=America/New_York:20251210T220000
DTSTAMP:20260423T014841
CREATED:20251203T004011Z
LAST-MODIFIED:20251203T004011Z
UID:990006000-1765389600-1765404000@irishkevins.com
SUMMARY:Irish Kevin
DESCRIPTION:
URL:https://irishkevins.com/event/irish-kevin-4/2025-12-10/
CATEGORIES:Irish Kevin
ATTACH;FMTTYPE=image/jpeg:https://irishkevins.com/wp-content/uploads/2023/12/Irish-Kevin.jpg
END:VEVENT
BEGIN:VEVENT
DTSTART;TZID=America/New_York:20251211T143000
DTEND;TZID=America/New_York:20251211T183000
DTSTAMP:20260423T014841
CREATED:20251203T004011Z
LAST-MODIFIED:20251203T004011Z
UID:990006001-1765463400-1765477800@irishkevins.com
SUMMARY:Irish Kevin
DESCRIPTION:
URL:https://irishkevins.com/event/irish-kevin-4/2025-12-11/
CATEGORIES:Irish Kevin
ATTACH;FMTTYPE=image/jpeg:https://irishkevins.com/wp-content/uploads/2023/12/Irish-Kevin.jpg
END:VEVENT
BEGIN:VEVENT
DTSTART;TZID=America/New_York:20251213T183000
DTEND;TZID=America/New_York:20251213T223000
DTSTAMP:20260423T014841
CREATED:20251203T004011Z
LAST-MODIFIED:20251203T004011Z
UID:990006002-1765650600-1765665000@irishkevins.com
SUMMARY:Irish Kevin
DESCRIPTION:
URL:https://irishkevins.com/event/irish-kevin-4/2025-12-13/
CATEGORIES:Irish Kevin
ATTACH;FMTTYPE=image/jpeg:https://irishkevins.com/wp-content/uploads/2023/12/Irish-Kevin.jpg
END:VEVENT
BEGIN:VEVENT
DTSTART;TZID=America/New_York:20251216T143000
DTEND;TZID=America/New_York:20251216T180000
DTSTAMP:20260423T014841
CREATED:20251203T004011Z
LAST-MODIFIED:20251203T004011Z
UID:990006003-1765895400-1765908000@irishkevins.com
SUMMARY:Irish Kevin
DESCRIPTION:
URL:https://irishkevins.com/event/irish-kevin-4/2025-12-16/
CATEGORIES:Irish Kevin
ATTACH;FMTTYPE=image/jpeg:https://irishkevins.com/wp-content/uploads/2023/12/Irish-Kevin.jpg
END:VEVENT
BEGIN:VEVENT
DTSTART;TZID=America/New_York:20251217T180000
DTEND;TZID=America/New_York:20251217T220000
DTSTAMP:20260423T014841
CREATED:20251203T004011Z
LAST-MODIFIED:20251203T004011Z
UID:990006004-1765994400-1766008800@irishkevins.com
SUMMARY:Irish Kevin
DESCRIPTION:
URL:https://irishkevins.com/event/irish-kevin-4/2025-12-17/
CATEGORIES:Irish Kevin
ATTACH;FMTTYPE=image/jpeg:https://irishkevins.com/wp-content/uploads/2023/12/Irish-Kevin.jpg
END:VEVENT
BEGIN:VEVENT
DTSTART;TZID=America/New_York:20251218T143000
DTEND;TZID=America/New_York:20251218T183000
DTSTAMP:20260423T014841
CREATED:20251203T004011Z
LAST-MODIFIED:20251203T004011Z
UID:990006005-1766068200-1766082600@irishkevins.com
SUMMARY:Irish Kevin
DESCRIPTION:
URL:https://irishkevins.com/event/irish-kevin-4/2025-12-18/
CATEGORIES:Irish Kevin
ATTACH;FMTTYPE=image/jpeg:https://irishkevins.com/wp-content/uploads/2023/12/Irish-Kevin.jpg
END:VEVENT
BEGIN:VEVENT
DTSTART;TZID=America/New_York:20251223T143000
DTEND;TZID=America/New_York:20251223T180000
DTSTAMP:20260423T014841
CREATED:20251203T004011Z
LAST-MODIFIED:20251203T004011Z
UID:990006006-1766500200-1766512800@irishkevins.com
SUMMARY:Irish Kevin
DESCRIPTION:
URL:https://irishkevins.com/event/irish-kevin-4/2025-12-23/
CATEGORIES:Irish Kevin
ATTACH;FMTTYPE=image/jpeg:https://irishkevins.com/wp-content/uploads/2023/12/Irish-Kevin.jpg
END:VEVENT
BEGIN:VEVENT
DTSTART;TZID=America/New_York:20251224T180000
DTEND;TZID=America/New_York:20251224T220000
DTSTAMP:20260423T014841
CREATED:20251203T004011Z
LAST-MODIFIED:20251203T004011Z
UID:990006007-1766599200-1766613600@irishkevins.com
SUMMARY:Irish Kevin
DESCRIPTION:
URL:https://irishkevins.com/event/irish-kevin-4/2025-12-24/
CATEGORIES:Irish Kevin
ATTACH;FMTTYPE=image/jpeg:https://irishkevins.com/wp-content/uploads/2023/12/Irish-Kevin.jpg
END:VEVENT
BEGIN:VEVENT
DTSTART;TZID=America/New_York:20251225T143000
DTEND;TZID=America/New_York:20251225T183000
DTSTAMP:20260423T014841
CREATED:20251203T004011Z
LAST-MODIFIED:20251203T004011Z
UID:990006008-1766673000-1766687400@irishkevins.com
SUMMARY:Irish Kevin
DESCRIPTION:
URL:https://irishkevins.com/event/irish-kevin-4/2025-12-25/
CATEGORIES:Irish Kevin
ATTACH;FMTTYPE=image/jpeg:https://irishkevins.com/wp-content/uploads/2023/12/Irish-Kevin.jpg
END:VEVENT
BEGIN:VEVENT
DTSTART;TZID=America/New_York:20251227T183000
DTEND;TZID=America/New_York:20251227T223000
DTSTAMP:20260423T014841
CREATED:20251203T004011Z
LAST-MODIFIED:20251203T004011Z
UID:990006009-1766860200-1766874600@irishkevins.com
SUMMARY:Irish Kevin
DESCRIPTION:
URL:https://irishkevins.com/event/irish-kevin-4/2025-12-27/
CATEGORIES:Irish Kevin
ATTACH;FMTTYPE=image/jpeg:https://irishkevins.com/wp-content/uploads/2023/12/Irish-Kevin.jpg
END:VEVENT
BEGIN:VEVENT
DTSTART;TZID=America/New_York:20251230T143000
DTEND;TZID=America/New_York:20251230T180000
DTSTAMP:20260423T014841
CREATED:20251203T004011Z
LAST-MODIFIED:20251203T004011Z
UID:990006010-1767105000-1767117600@irishkevins.com
SUMMARY:Irish Kevin
DESCRIPTION:
URL:https://irishkevins.com/event/irish-kevin-4/2025-12-30/
CATEGORIES:Irish Kevin
ATTACH;FMTTYPE=image/jpeg:https://irishkevins.com/wp-content/uploads/2023/12/Irish-Kevin.jpg
END:VEVENT
BEGIN:VEVENT
DTSTART;TZID=America/New_York:20251231T190000
DTEND;TZID=America/New_York:20251231T230000
DTSTAMP:20260423T014841
CREATED:20251203T004011Z
LAST-MODIFIED:20251203T004011Z
UID:990006011-1767207600-1767222000@irishkevins.com
SUMMARY:Irish Kevin
DESCRIPTION:
URL:https://irishkevins.com/event/irish-kevin-4/2025-12-31/
CATEGORIES:Irish Kevin
ATTACH;FMTTYPE=image/jpeg:https://irishkevins.com/wp-content/uploads/2023/12/Irish-Kevin.jpg
END:VEVENT
BEGIN:VEVENT
DTSTART;TZID=America/New_York:20260101T143000
DTEND;TZID=America/New_York:20260101T183000
DTSTAMP:20260423T014841
CREATED:20260104T202316Z
LAST-MODIFIED:20260104T202316Z
UID:990006118-1767277800-1767292200@irishkevins.com
SUMMARY:Irish Kevin
DESCRIPTION:
URL:https://irishkevins.com/event/irish-kevin-5/2026-01-01/
CATEGORIES:Irish Kevin
ATTACH;FMTTYPE=image/jpeg:https://irishkevins.com/wp-content/uploads/2023/12/Irish-Kevin.jpg
END:VEVENT
BEGIN:VEVENT
DTSTART;TZID=America/New_York:20260103T183000
DTEND;TZID=America/New_York:20260103T223000
DTSTAMP:20260423T014841
CREATED:20260104T202316Z
LAST-MODIFIED:20260104T202316Z
UID:990006119-1767465000-1767479400@irishkevins.com
SUMMARY:Irish Kevin
DESCRIPTION:
URL:https://irishkevins.com/event/irish-kevin-5/2026-01-03/
CATEGORIES:Irish Kevin
ATTACH;FMTTYPE=image/jpeg:https://irishkevins.com/wp-content/uploads/2023/12/Irish-Kevin.jpg
END:VEVENT
BEGIN:VEVENT
DTSTART;TZID=America/New_York:20260113T143000
DTEND;TZID=America/New_York:20260113T180000
DTSTAMP:20260423T014841
CREATED:20260104T202316Z
LAST-MODIFIED:20260104T202316Z
UID:990006120-1768314600-1768327200@irishkevins.com
SUMMARY:Irish Kevin
DESCRIPTION:
URL:https://irishkevins.com/event/irish-kevin-5/2026-01-13/
CATEGORIES:Irish Kevin
ATTACH;FMTTYPE=image/jpeg:https://irishkevins.com/wp-content/uploads/2023/12/Irish-Kevin.jpg
END:VEVENT
BEGIN:VEVENT
DTSTART;TZID=America/New_York:20260114T180000
DTEND;TZID=America/New_York:20260114T220000
DTSTAMP:20260423T014841
CREATED:20260104T202316Z
LAST-MODIFIED:20260104T202316Z
UID:990006121-1768413600-1768428000@irishkevins.com
SUMMARY:Irish Kevin
DESCRIPTION:
URL:https://irishkevins.com/event/irish-kevin-5/2026-01-14/
CATEGORIES:Irish Kevin
ATTACH;FMTTYPE=image/jpeg:https://irishkevins.com/wp-content/uploads/2023/12/Irish-Kevin.jpg
END:VEVENT
BEGIN:VEVENT
DTSTART;TZID=America/New_York:20260115T143000
DTEND;TZID=America/New_York:20260115T183000
DTSTAMP:20260423T014841
CREATED:20260104T202316Z
LAST-MODIFIED:20260104T202316Z
UID:990006122-1768487400-1768501800@irishkevins.com
SUMMARY:Irish Kevin
DESCRIPTION:
URL:https://irishkevins.com/event/irish-kevin-5/2026-01-15/
CATEGORIES:Irish Kevin
ATTACH;FMTTYPE=image/jpeg:https://irishkevins.com/wp-content/uploads/2023/12/Irish-Kevin.jpg
END:VEVENT
BEGIN:VEVENT
DTSTART;TZID=America/New_York:20260117T183000
DTEND;TZID=America/New_York:20260117T223000
DTSTAMP:20260423T014841
CREATED:20260104T202316Z
LAST-MODIFIED:20260104T202316Z
UID:990006123-1768674600-1768689000@irishkevins.com
SUMMARY:Irish Kevin
DESCRIPTION:
URL:https://irishkevins.com/event/irish-kevin-5/2026-01-17/
CATEGORIES:Irish Kevin
ATTACH;FMTTYPE=image/jpeg:https://irishkevins.com/wp-content/uploads/2023/12/Irish-Kevin.jpg
END:VEVENT
BEGIN:VEVENT
DTSTART;TZID=America/New_York:20260120T143000
DTEND;TZID=America/New_York:20260120T180000
DTSTAMP:20260423T014841
CREATED:20260104T202316Z
LAST-MODIFIED:20260104T202316Z
UID:990006124-1768919400-1768932000@irishkevins.com
SUMMARY:Irish Kevin
DESCRIPTION:
URL:https://irishkevins.com/event/irish-kevin-5/2026-01-20/
CATEGORIES:Irish Kevin
ATTACH;FMTTYPE=image/jpeg:https://irishkevins.com/wp-content/uploads/2023/12/Irish-Kevin.jpg
END:VEVENT
BEGIN:VEVENT
DTSTART;TZID=America/New_York:20260121T180000
DTEND;TZID=America/New_York:20260121T220000
DTSTAMP:20260423T014841
CREATED:20260104T202316Z
LAST-MODIFIED:20260104T202316Z
UID:990006125-1769018400-1769032800@irishkevins.com
SUMMARY:Irish Kevin
DESCRIPTION:
URL:https://irishkevins.com/event/irish-kevin-5/2026-01-21/
CATEGORIES:Irish Kevin
ATTACH;FMTTYPE=image/jpeg:https://irishkevins.com/wp-content/uploads/2023/12/Irish-Kevin.jpg
END:VEVENT
BEGIN:VEVENT
DTSTART;TZID=America/New_York:20260122T143000
DTEND;TZID=America/New_York:20260122T183000
DTSTAMP:20260423T014841
CREATED:20260104T202316Z
LAST-MODIFIED:20260104T202316Z
UID:990006126-1769092200-1769106600@irishkevins.com
SUMMARY:Irish Kevin
DESCRIPTION:
URL:https://irishkevins.com/event/irish-kevin-5/2026-01-22/
CATEGORIES:Irish Kevin
ATTACH;FMTTYPE=image/jpeg:https://irishkevins.com/wp-content/uploads/2023/12/Irish-Kevin.jpg
END:VEVENT
END:VCALENDAR