BEGIN:VCALENDAR
VERSION:2.0
PRODID:-//Irish Kevin&#039;s Bar - ECPv6.15.20//NONSGML v1.0//EN
CALSCALE:GREGORIAN
METHOD:PUBLISH
X-WR-CALNAME:Irish Kevin&#039;s Bar
X-ORIGINAL-URL:https://irishkevins.com
X-WR-CALDESC:Events for Irish Kevin&#039;s Bar
REFRESH-INTERVAL;VALUE=DURATION:PT1H
X-Robots-Tag:noindex
X-PUBLISHED-TTL:PT1H
BEGIN:VTIMEZONE
TZID:America/New_York
BEGIN:DAYLIGHT
TZOFFSETFROM:-0500
TZOFFSETTO:-0400
TZNAME:EDT
DTSTART:20240310T070000
END:DAYLIGHT
BEGIN:STANDARD
TZOFFSETFROM:-0400
TZOFFSETTO:-0500
TZNAME:EST
DTSTART:20241103T060000
END:STANDARD
BEGIN:DAYLIGHT
TZOFFSETFROM:-0500
TZOFFSETTO:-0400
TZNAME:EDT
DTSTART:20250309T070000
END:DAYLIGHT
BEGIN:STANDARD
TZOFFSETFROM:-0400
TZOFFSETTO:-0500
TZNAME:EST
DTSTART:20251102T060000
END:STANDARD
BEGIN:DAYLIGHT
TZOFFSETFROM:-0500
TZOFFSETTO:-0400
TZNAME:EDT
DTSTART:20260308T070000
END:DAYLIGHT
BEGIN:STANDARD
TZOFFSETFROM:-0400
TZOFFSETTO:-0500
TZNAME:EST
DTSTART:20261101T060000
END:STANDARD
END:VTIMEZONE
BEGIN:VEVENT
DTSTART;TZID=America/New_York:20251211T143000
DTEND;TZID=America/New_York:20251211T183000
DTSTAMP:20260423T040709
CREATED:20251203T004011Z
LAST-MODIFIED:20251203T004011Z
UID:990006001-1765463400-1765477800@irishkevins.com
SUMMARY:Irish Kevin
DESCRIPTION:
URL:https://irishkevins.com/event/irish-kevin-4/2025-12-11/
CATEGORIES:Irish Kevin
ATTACH;FMTTYPE=image/jpeg:https://irishkevins.com/wp-content/uploads/2023/12/Irish-Kevin.jpg
END:VEVENT
BEGIN:VEVENT
DTSTART;TZID=America/New_York:20251210T180000
DTEND;TZID=America/New_York:20251210T220000
DTSTAMP:20260423T040709
CREATED:20251203T004011Z
LAST-MODIFIED:20251203T004011Z
UID:990006000-1765389600-1765404000@irishkevins.com
SUMMARY:Irish Kevin
DESCRIPTION:
URL:https://irishkevins.com/event/irish-kevin-4/2025-12-10/
CATEGORIES:Irish Kevin
ATTACH;FMTTYPE=image/jpeg:https://irishkevins.com/wp-content/uploads/2023/12/Irish-Kevin.jpg
END:VEVENT
BEGIN:VEVENT
DTSTART;TZID=America/New_York:20251209T143000
DTEND;TZID=America/New_York:20251209T180000
DTSTAMP:20260423T040709
CREATED:20251203T004011Z
LAST-MODIFIED:20251203T004011Z
UID:990005999-1765290600-1765303200@irishkevins.com
SUMMARY:Irish Kevin
DESCRIPTION:
URL:https://irishkevins.com/event/irish-kevin-4/2025-12-09/
CATEGORIES:Irish Kevin
ATTACH;FMTTYPE=image/jpeg:https://irishkevins.com/wp-content/uploads/2023/12/Irish-Kevin.jpg
END:VEVENT
BEGIN:VEVENT
DTSTART;TZID=America/New_York:20251206T183000
DTEND;TZID=America/New_York:20251206T223000
DTSTAMP:20260423T040709
CREATED:20251203T004011Z
LAST-MODIFIED:20251203T004011Z
UID:990005998-1765045800-1765060200@irishkevins.com
SUMMARY:Irish Kevin
DESCRIPTION:
URL:https://irishkevins.com/event/irish-kevin-4/2025-12-06/
CATEGORIES:Irish Kevin
ATTACH;FMTTYPE=image/jpeg:https://irishkevins.com/wp-content/uploads/2023/12/Irish-Kevin.jpg
END:VEVENT
BEGIN:VEVENT
DTSTART;TZID=America/New_York:20251204T140000
DTEND;TZID=America/New_York:20251204T180000
DTSTAMP:20260423T040709
CREATED:20251203T004011Z
LAST-MODIFIED:20251203T004011Z
UID:990005997-1764856800-1764871200@irishkevins.com
SUMMARY:Irish Kevin
DESCRIPTION:
URL:https://irishkevins.com/event/irish-kevin-4/2025-12-04/
CATEGORIES:Irish Kevin
ATTACH;FMTTYPE=image/jpeg:https://irishkevins.com/wp-content/uploads/2023/12/Irish-Kevin.jpg
END:VEVENT
BEGIN:VEVENT
DTSTART;TZID=America/New_York:20251203T180000
DTEND;TZID=America/New_York:20251203T220000
DTSTAMP:20260423T040709
CREATED:20251203T004011Z
LAST-MODIFIED:20251203T004011Z
UID:990005996-1764784800-1764799200@irishkevins.com
SUMMARY:Irish Kevin
DESCRIPTION:
URL:https://irishkevins.com/event/irish-kevin-4/2025-12-03/
CATEGORIES:Irish Kevin
ATTACH;FMTTYPE=image/jpeg:https://irishkevins.com/wp-content/uploads/2023/12/Irish-Kevin.jpg
END:VEVENT
BEGIN:VEVENT
DTSTART;TZID=America/New_York:20251202T143000
DTEND;TZID=America/New_York:20251202T180000
DTSTAMP:20260423T040709
CREATED:20251203T004011Z
LAST-MODIFIED:20251203T004011Z
UID:990005995-1764685800-1764698400@irishkevins.com
SUMMARY:Irish Kevin
DESCRIPTION:
URL:https://irishkevins.com/event/irish-kevin-4/2025-12-02/
CATEGORIES:Irish Kevin
ATTACH;FMTTYPE=image/jpeg:https://irishkevins.com/wp-content/uploads/2023/12/Irish-Kevin.jpg
END:VEVENT
BEGIN:VEVENT
DTSTART;TZID=America/New_York:20251129T183000
DTEND;TZID=America/New_York:20251129T223000
DTSTAMP:20260423T040709
CREATED:20251109T203129Z
LAST-MODIFIED:20251109T203129Z
UID:990005890-1764441000-1764455400@irishkevins.com
SUMMARY:Irish Kevin
DESCRIPTION:
URL:https://irishkevins.com/event/irish-kevin-2/2025-11-29/
CATEGORIES:Irish Kevin
ATTACH;FMTTYPE=image/jpeg:https://irishkevins.com/wp-content/uploads/2023/12/Irish-Kevin.jpg
END:VEVENT
BEGIN:VEVENT
DTSTART;TZID=America/New_York:20251127T143000
DTEND;TZID=America/New_York:20251127T183000
DTSTAMP:20260423T040709
CREATED:20251109T203129Z
LAST-MODIFIED:20251109T203129Z
UID:990005889-1764253800-1764268200@irishkevins.com
SUMMARY:Irish Kevin
DESCRIPTION:
URL:https://irishkevins.com/event/irish-kevin-2/2025-11-27/
CATEGORIES:Irish Kevin
ATTACH;FMTTYPE=image/jpeg:https://irishkevins.com/wp-content/uploads/2023/12/Irish-Kevin.jpg
END:VEVENT
BEGIN:VEVENT
DTSTART;TZID=America/New_York:20251126T180000
DTEND;TZID=America/New_York:20251126T220000
DTSTAMP:20260423T040709
CREATED:20251109T203129Z
LAST-MODIFIED:20251109T203129Z
UID:990005888-1764180000-1764194400@irishkevins.com
SUMMARY:Irish Kevin
DESCRIPTION:
URL:https://irishkevins.com/event/irish-kevin-2/2025-11-26/
CATEGORIES:Irish Kevin
ATTACH;FMTTYPE=image/jpeg:https://irishkevins.com/wp-content/uploads/2023/12/Irish-Kevin.jpg
END:VEVENT
BEGIN:VEVENT
DTSTART;TZID=America/New_York:20251125T143000
DTEND;TZID=America/New_York:20251125T180000
DTSTAMP:20260423T040709
CREATED:20251109T203129Z
LAST-MODIFIED:20251109T203129Z
UID:990005887-1764081000-1764093600@irishkevins.com
SUMMARY:Irish Kevin
DESCRIPTION:
URL:https://irishkevins.com/event/irish-kevin-2/2025-11-25/
CATEGORIES:Irish Kevin
ATTACH;FMTTYPE=image/jpeg:https://irishkevins.com/wp-content/uploads/2023/12/Irish-Kevin.jpg
END:VEVENT
BEGIN:VEVENT
DTSTART;TZID=America/New_York:20251122T183000
DTEND;TZID=America/New_York:20251122T223000
DTSTAMP:20260423T040709
CREATED:20251109T203129Z
LAST-MODIFIED:20251109T203129Z
UID:990005886-1763836200-1763850600@irishkevins.com
SUMMARY:Irish Kevin
DESCRIPTION:
URL:https://irishkevins.com/event/irish-kevin-2/2025-11-22/
CATEGORIES:Irish Kevin
ATTACH;FMTTYPE=image/jpeg:https://irishkevins.com/wp-content/uploads/2023/12/Irish-Kevin.jpg
END:VEVENT
BEGIN:VEVENT
DTSTART;TZID=America/New_York:20251120T143000
DTEND;TZID=America/New_York:20251120T183000
DTSTAMP:20260423T040709
CREATED:20251109T203129Z
LAST-MODIFIED:20251109T203129Z
UID:990005885-1763649000-1763663400@irishkevins.com
SUMMARY:Irish Kevin
DESCRIPTION:
URL:https://irishkevins.com/event/irish-kevin-2/2025-11-20/
CATEGORIES:Irish Kevin
ATTACH;FMTTYPE=image/jpeg:https://irishkevins.com/wp-content/uploads/2023/12/Irish-Kevin.jpg
END:VEVENT
BEGIN:VEVENT
DTSTART;TZID=America/New_York:20251119T180000
DTEND;TZID=America/New_York:20251119T220000
DTSTAMP:20260423T040709
CREATED:20251109T203129Z
LAST-MODIFIED:20251109T203129Z
UID:990005884-1763575200-1763589600@irishkevins.com
SUMMARY:Irish Kevin
DESCRIPTION:
URL:https://irishkevins.com/event/irish-kevin-2/2025-11-19/
CATEGORIES:Irish Kevin
ATTACH;FMTTYPE=image/jpeg:https://irishkevins.com/wp-content/uploads/2023/12/Irish-Kevin.jpg
END:VEVENT
BEGIN:VEVENT
DTSTART;TZID=America/New_York:20251108T183000
DTEND;TZID=America/New_York:20251108T223000
DTSTAMP:20260423T040709
CREATED:20251109T203129Z
LAST-MODIFIED:20251109T203129Z
UID:990005883-1762626600-1762641000@irishkevins.com
SUMMARY:Irish Kevin
DESCRIPTION:
URL:https://irishkevins.com/event/irish-kevin-2/2025-11-08/
CATEGORIES:Irish Kevin
ATTACH;FMTTYPE=image/jpeg:https://irishkevins.com/wp-content/uploads/2023/12/Irish-Kevin.jpg
END:VEVENT
BEGIN:VEVENT
DTSTART;TZID=America/New_York:20251106T143000
DTEND;TZID=America/New_York:20251106T183000
DTSTAMP:20260423T040709
CREATED:20251109T203129Z
LAST-MODIFIED:20251109T203129Z
UID:990005882-1762439400-1762453800@irishkevins.com
SUMMARY:Irish Kevin
DESCRIPTION:
URL:https://irishkevins.com/event/irish-kevin-2/2025-11-06/
CATEGORIES:Irish Kevin
ATTACH;FMTTYPE=image/jpeg:https://irishkevins.com/wp-content/uploads/2023/12/Irish-Kevin.jpg
END:VEVENT
BEGIN:VEVENT
DTSTART;TZID=America/New_York:20251105T180000
DTEND;TZID=America/New_York:20251105T220000
DTSTAMP:20260423T040709
CREATED:20251109T203129Z
LAST-MODIFIED:20251109T203129Z
UID:990005881-1762365600-1762380000@irishkevins.com
SUMMARY:Irish Kevin
DESCRIPTION:
URL:https://irishkevins.com/event/irish-kevin-2/2025-11-05/
CATEGORIES:Irish Kevin
ATTACH;FMTTYPE=image/jpeg:https://irishkevins.com/wp-content/uploads/2023/12/Irish-Kevin.jpg
END:VEVENT
BEGIN:VEVENT
DTSTART;TZID=America/New_York:20251104T143000
DTEND;TZID=America/New_York:20251104T180000
DTSTAMP:20260423T040709
CREATED:20251109T203129Z
LAST-MODIFIED:20251109T203129Z
UID:990005880-1762266600-1762279200@irishkevins.com
SUMMARY:Irish Kevin
DESCRIPTION:
URL:https://irishkevins.com/event/irish-kevin-2/2025-11-04/
CATEGORIES:Irish Kevin
ATTACH;FMTTYPE=image/jpeg:https://irishkevins.com/wp-content/uploads/2023/12/Irish-Kevin.jpg
END:VEVENT
BEGIN:VEVENT
DTSTART;TZID=America/New_York:20251101T183000
DTEND;TZID=America/New_York:20251101T223000
DTSTAMP:20260423T040709
CREATED:20251008T174308Z
LAST-MODIFIED:20251008T181549Z
UID:990005765-1762021800-1762036200@irishkevins.com
SUMMARY:Irish Kevin
DESCRIPTION:
URL:https://irishkevins.com/event/irish-kevin/2025-11-01/
CATEGORIES:Irish Kevin
ATTACH;FMTTYPE=image/jpeg:https://irishkevins.com/wp-content/uploads/2023/12/Irish-Kevin.jpg
END:VEVENT
BEGIN:VEVENT
DTSTART;TZID=America/New_York:20251030T143000
DTEND;TZID=America/New_York:20251030T183000
DTSTAMP:20260423T040709
CREATED:20251008T174308Z
LAST-MODIFIED:20251008T181549Z
UID:990005764-1761834600-1761849000@irishkevins.com
SUMMARY:Irish Kevin
DESCRIPTION:
URL:https://irishkevins.com/event/irish-kevin/2025-10-30/
CATEGORIES:Irish Kevin
ATTACH;FMTTYPE=image/jpeg:https://irishkevins.com/wp-content/uploads/2023/12/Irish-Kevin.jpg
END:VEVENT
BEGIN:VEVENT
DTSTART;TZID=America/New_York:20251029T180000
DTEND;TZID=America/New_York:20251029T220000
DTSTAMP:20260423T040709
CREATED:20251008T174308Z
LAST-MODIFIED:20251008T181549Z
UID:990005763-1761760800-1761775200@irishkevins.com
SUMMARY:Irish Kevin
DESCRIPTION:
URL:https://irishkevins.com/event/irish-kevin/2025-10-29/
CATEGORIES:Irish Kevin
ATTACH;FMTTYPE=image/jpeg:https://irishkevins.com/wp-content/uploads/2023/12/Irish-Kevin.jpg
END:VEVENT
BEGIN:VEVENT
DTSTART;TZID=America/New_York:20251028T143000
DTEND;TZID=America/New_York:20251028T180000
DTSTAMP:20260423T040709
CREATED:20251008T174308Z
LAST-MODIFIED:20251008T181549Z
UID:990005762-1761661800-1761674400@irishkevins.com
SUMMARY:Irish Kevin
DESCRIPTION:
URL:https://irishkevins.com/event/irish-kevin/2025-10-28/
CATEGORIES:Irish Kevin
ATTACH;FMTTYPE=image/jpeg:https://irishkevins.com/wp-content/uploads/2023/12/Irish-Kevin.jpg
END:VEVENT
BEGIN:VEVENT
DTSTART;TZID=America/New_York:20251025T201500
DTEND;TZID=America/New_York:20251025T233000
DTSTAMP:20260423T040709
CREATED:20251008T174308Z
LAST-MODIFIED:20251008T181549Z
UID:990005761-1761423300-1761435000@irishkevins.com
SUMMARY:Irish Kevin
DESCRIPTION:
URL:https://irishkevins.com/event/irish-kevin/2025-10-25/
CATEGORIES:Irish Kevin
ATTACH;FMTTYPE=image/jpeg:https://irishkevins.com/wp-content/uploads/2023/12/Irish-Kevin.jpg
END:VEVENT
BEGIN:VEVENT
DTSTART;TZID=America/New_York:20251024T170000
DTEND;TZID=America/New_York:20251024T201500
DTSTAMP:20260423T040709
CREATED:20251008T174308Z
LAST-MODIFIED:20251008T181549Z
UID:990005760-1761325200-1761336900@irishkevins.com
SUMMARY:Irish Kevin
DESCRIPTION:
URL:https://irishkevins.com/event/irish-kevin/2025-10-24/
CATEGORIES:Irish Kevin
ATTACH;FMTTYPE=image/jpeg:https://irishkevins.com/wp-content/uploads/2023/12/Irish-Kevin.jpg
END:VEVENT
BEGIN:VEVENT
DTSTART;TZID=America/New_York:20251023T140000
DTEND;TZID=America/New_York:20251023T180000
DTSTAMP:20260423T040709
CREATED:20251008T174308Z
LAST-MODIFIED:20251008T181549Z
UID:990005759-1761228000-1761242400@irishkevins.com
SUMMARY:Irish Kevin
DESCRIPTION:
URL:https://irishkevins.com/event/irish-kevin/2025-10-23/
CATEGORIES:Irish Kevin
ATTACH;FMTTYPE=image/jpeg:https://irishkevins.com/wp-content/uploads/2023/12/Irish-Kevin.jpg
END:VEVENT
END:VCALENDAR