BEGIN:VCALENDAR
VERSION:2.0
PRODID:-//Irish Kevin&#039;s Bar - ECPv6.15.20//NONSGML v1.0//EN
CALSCALE:GREGORIAN
METHOD:PUBLISH
X-WR-CALNAME:Irish Kevin&#039;s Bar
X-ORIGINAL-URL:https://irishkevins.com
X-WR-CALDESC:Events for Irish Kevin&#039;s Bar
REFRESH-INTERVAL;VALUE=DURATION:PT1H
X-Robots-Tag:noindex
X-PUBLISHED-TTL:PT1H
BEGIN:VTIMEZONE
TZID:America/New_York
BEGIN:DAYLIGHT
TZOFFSETFROM:-0500
TZOFFSETTO:-0400
TZNAME:EDT
DTSTART:20240310T070000
END:DAYLIGHT
BEGIN:STANDARD
TZOFFSETFROM:-0400
TZOFFSETTO:-0500
TZNAME:EST
DTSTART:20241103T060000
END:STANDARD
BEGIN:DAYLIGHT
TZOFFSETFROM:-0500
TZOFFSETTO:-0400
TZNAME:EDT
DTSTART:20250309T070000
END:DAYLIGHT
BEGIN:STANDARD
TZOFFSETFROM:-0400
TZOFFSETTO:-0500
TZNAME:EST
DTSTART:20251102T060000
END:STANDARD
BEGIN:DAYLIGHT
TZOFFSETFROM:-0500
TZOFFSETTO:-0400
TZNAME:EDT
DTSTART:20260308T070000
END:DAYLIGHT
BEGIN:STANDARD
TZOFFSETFROM:-0400
TZOFFSETTO:-0500
TZNAME:EST
DTSTART:20261101T060000
END:STANDARD
END:VTIMEZONE
BEGIN:VEVENT
DTSTART;TZID=America/New_York:20251201T143000
DTEND;TZID=America/New_York:20251201T180000
DTSTAMP:20260422T182148
CREATED:20251203T002350Z
LAST-MODIFIED:20251203T002350Z
UID:990005962-1764599400-1764612000@irishkevins.com
SUMMARY:Jeff Harris
DESCRIPTION:
URL:https://irishkevins.com/event/jeff-harris-5/2025-12-01/
CATEGORIES:Jeff Harris
ATTACH;FMTTYPE=image/jpeg:https://irishkevins.com/wp-content/uploads/2023/09/Jeff-Harris-380.jpg
END:VEVENT
BEGIN:VEVENT
DTSTART;TZID=America/New_York:20251205T110000
DTEND;TZID=America/New_York:20251205T143000
DTSTAMP:20260422T182148
CREATED:20251203T002350Z
LAST-MODIFIED:20251203T002350Z
UID:990005963-1764932400-1764945000@irishkevins.com
SUMMARY:Jeff Harris
DESCRIPTION:
URL:https://irishkevins.com/event/jeff-harris-5/2025-12-05/
CATEGORIES:Jeff Harris
ATTACH;FMTTYPE=image/jpeg:https://irishkevins.com/wp-content/uploads/2023/09/Jeff-Harris-380.jpg
END:VEVENT
BEGIN:VEVENT
DTSTART;TZID=America/New_York:20251208T143000
DTEND;TZID=America/New_York:20251208T180000
DTSTAMP:20260422T182148
CREATED:20251203T002350Z
LAST-MODIFIED:20251203T002350Z
UID:990005964-1765204200-1765216800@irishkevins.com
SUMMARY:Jeff Harris
DESCRIPTION:
URL:https://irishkevins.com/event/jeff-harris-5/2025-12-08/
CATEGORIES:Jeff Harris
ATTACH;FMTTYPE=image/jpeg:https://irishkevins.com/wp-content/uploads/2023/09/Jeff-Harris-380.jpg
END:VEVENT
BEGIN:VEVENT
DTSTART;TZID=America/New_York:20251212T110000
DTEND;TZID=America/New_York:20251212T143000
DTSTAMP:20260422T182148
CREATED:20251203T002350Z
LAST-MODIFIED:20251203T002350Z
UID:990005965-1765537200-1765549800@irishkevins.com
SUMMARY:Jeff Harris
DESCRIPTION:
URL:https://irishkevins.com/event/jeff-harris-5/2025-12-12/
CATEGORIES:Jeff Harris
ATTACH;FMTTYPE=image/jpeg:https://irishkevins.com/wp-content/uploads/2023/09/Jeff-Harris-380.jpg
END:VEVENT
BEGIN:VEVENT
DTSTART;TZID=America/New_York:20251213T110000
DTEND;TZID=America/New_York:20251213T143000
DTSTAMP:20260422T182148
CREATED:20251203T002350Z
LAST-MODIFIED:20251203T002350Z
UID:990005966-1765623600-1765636200@irishkevins.com
SUMMARY:Jeff Harris
DESCRIPTION:
URL:https://irishkevins.com/event/jeff-harris-5/2025-12-13/
CATEGORIES:Jeff Harris
ATTACH;FMTTYPE=image/jpeg:https://irishkevins.com/wp-content/uploads/2023/09/Jeff-Harris-380.jpg
END:VEVENT
BEGIN:VEVENT
DTSTART;TZID=America/New_York:20251214T133000
DTEND;TZID=America/New_York:20251214T180000
DTSTAMP:20260422T182148
CREATED:20251203T002350Z
LAST-MODIFIED:20251203T002350Z
UID:990005967-1765719000-1765735200@irishkevins.com
SUMMARY:Jeff Harris
DESCRIPTION:
URL:https://irishkevins.com/event/jeff-harris-5/2025-12-14/
CATEGORIES:Jeff Harris
ATTACH;FMTTYPE=image/jpeg:https://irishkevins.com/wp-content/uploads/2023/09/Jeff-Harris-380.jpg
END:VEVENT
BEGIN:VEVENT
DTSTART;TZID=America/New_York:20251215T143000
DTEND;TZID=America/New_York:20251215T180000
DTSTAMP:20260422T182148
CREATED:20251203T002350Z
LAST-MODIFIED:20251203T002350Z
UID:990005968-1765809000-1765821600@irishkevins.com
SUMMARY:Jeff Harris
DESCRIPTION:
URL:https://irishkevins.com/event/jeff-harris-5/2025-12-15/
CATEGORIES:Jeff Harris
ATTACH;FMTTYPE=image/jpeg:https://irishkevins.com/wp-content/uploads/2023/09/Jeff-Harris-380.jpg
END:VEVENT
BEGIN:VEVENT
DTSTART;TZID=America/New_York:20251219T110000
DTEND;TZID=America/New_York:20251219T143000
DTSTAMP:20260422T182148
CREATED:20251203T002350Z
LAST-MODIFIED:20251203T002350Z
UID:990005969-1766142000-1766154600@irishkevins.com
SUMMARY:Jeff Harris
DESCRIPTION:
URL:https://irishkevins.com/event/jeff-harris-5/2025-12-19/
CATEGORIES:Jeff Harris
ATTACH;FMTTYPE=image/jpeg:https://irishkevins.com/wp-content/uploads/2023/09/Jeff-Harris-380.jpg
END:VEVENT
BEGIN:VEVENT
DTSTART;TZID=America/New_York:20251220T110000
DTEND;TZID=America/New_York:20251220T143000
DTSTAMP:20260422T182148
CREATED:20251203T002350Z
LAST-MODIFIED:20251203T002350Z
UID:990005970-1766228400-1766241000@irishkevins.com
SUMMARY:Jeff Harris
DESCRIPTION:
URL:https://irishkevins.com/event/jeff-harris-5/2025-12-20/
CATEGORIES:Jeff Harris
ATTACH;FMTTYPE=image/jpeg:https://irishkevins.com/wp-content/uploads/2023/09/Jeff-Harris-380.jpg
END:VEVENT
BEGIN:VEVENT
DTSTART;TZID=America/New_York:20251221T143000
DTEND;TZID=America/New_York:20251221T180000
DTSTAMP:20260422T182148
CREATED:20251203T002350Z
LAST-MODIFIED:20251203T002350Z
UID:990005971-1766327400-1766340000@irishkevins.com
SUMMARY:Jeff Harris
DESCRIPTION:
URL:https://irishkevins.com/event/jeff-harris-5/2025-12-21/
CATEGORIES:Jeff Harris
ATTACH;FMTTYPE=image/jpeg:https://irishkevins.com/wp-content/uploads/2023/09/Jeff-Harris-380.jpg
END:VEVENT
BEGIN:VEVENT
DTSTART;TZID=America/New_York:20251222T143000
DTEND;TZID=America/New_York:20251222T180000
DTSTAMP:20260422T182148
CREATED:20251203T002350Z
LAST-MODIFIED:20251203T002350Z
UID:990005972-1766413800-1766426400@irishkevins.com
SUMMARY:Jeff Harris
DESCRIPTION:
URL:https://irishkevins.com/event/jeff-harris-5/2025-12-22/
CATEGORIES:Jeff Harris
ATTACH;FMTTYPE=image/jpeg:https://irishkevins.com/wp-content/uploads/2023/09/Jeff-Harris-380.jpg
END:VEVENT
BEGIN:VEVENT
DTSTART;TZID=America/New_York:20251226T110000
DTEND;TZID=America/New_York:20251226T143000
DTSTAMP:20260422T182148
CREATED:20251203T002350Z
LAST-MODIFIED:20251203T002350Z
UID:990005973-1766746800-1766759400@irishkevins.com
SUMMARY:Jeff Harris
DESCRIPTION:
URL:https://irishkevins.com/event/jeff-harris-5/2025-12-26/
CATEGORIES:Jeff Harris
ATTACH;FMTTYPE=image/jpeg:https://irishkevins.com/wp-content/uploads/2023/09/Jeff-Harris-380.jpg
END:VEVENT
BEGIN:VEVENT
DTSTART;TZID=America/New_York:20251227T110000
DTEND;TZID=America/New_York:20251227T143000
DTSTAMP:20260422T182148
CREATED:20251203T002350Z
LAST-MODIFIED:20251203T002350Z
UID:990005974-1766833200-1766845800@irishkevins.com
SUMMARY:Jeff Harris
DESCRIPTION:
URL:https://irishkevins.com/event/jeff-harris-5/2025-12-27/
CATEGORIES:Jeff Harris
ATTACH;FMTTYPE=image/jpeg:https://irishkevins.com/wp-content/uploads/2023/09/Jeff-Harris-380.jpg
END:VEVENT
BEGIN:VEVENT
DTSTART;TZID=America/New_York:20251229T143000
DTEND;TZID=America/New_York:20251229T180000
DTSTAMP:20260422T182148
CREATED:20251203T002350Z
LAST-MODIFIED:20251203T002350Z
UID:990005975-1767018600-1767031200@irishkevins.com
SUMMARY:Jeff Harris
DESCRIPTION:
URL:https://irishkevins.com/event/jeff-harris-5/2025-12-29/
CATEGORIES:Jeff Harris
ATTACH;FMTTYPE=image/jpeg:https://irishkevins.com/wp-content/uploads/2023/09/Jeff-Harris-380.jpg
END:VEVENT
END:VCALENDAR