BEGIN:VCALENDAR
VERSION:2.0
PRODID:-//Irish Kevin&#039;s Bar - ECPv6.15.20//NONSGML v1.0//EN
CALSCALE:GREGORIAN
METHOD:PUBLISH
X-ORIGINAL-URL:https://irishkevins.com
X-WR-CALDESC:Events for Irish Kevin&#039;s Bar
REFRESH-INTERVAL;VALUE=DURATION:PT1H
X-Robots-Tag:noindex
X-PUBLISHED-TTL:PT1H
BEGIN:VTIMEZONE
TZID:America/New_York
BEGIN:DAYLIGHT
TZOFFSETFROM:-0500
TZOFFSETTO:-0400
TZNAME:EDT
DTSTART:20240310T070000
END:DAYLIGHT
BEGIN:STANDARD
TZOFFSETFROM:-0400
TZOFFSETTO:-0500
TZNAME:EST
DTSTART:20241103T060000
END:STANDARD
BEGIN:DAYLIGHT
TZOFFSETFROM:-0500
TZOFFSETTO:-0400
TZNAME:EDT
DTSTART:20250309T070000
END:DAYLIGHT
BEGIN:STANDARD
TZOFFSETFROM:-0400
TZOFFSETTO:-0500
TZNAME:EST
DTSTART:20251102T060000
END:STANDARD
BEGIN:DAYLIGHT
TZOFFSETFROM:-0500
TZOFFSETTO:-0400
TZNAME:EDT
DTSTART:20260308T070000
END:DAYLIGHT
BEGIN:STANDARD
TZOFFSETFROM:-0400
TZOFFSETTO:-0500
TZNAME:EST
DTSTART:20261101T060000
END:STANDARD
END:VTIMEZONE
BEGIN:VEVENT
DTSTART;TZID=America/New_York:20251105T220000
DTEND;TZID=America/New_York:20251106T020000
DTSTAMP:20260423T005720
CREATED:20251109T202712Z
LAST-MODIFIED:20251109T202712Z
UID:990005872-1762380000-1762394400@irishkevins.com
SUMMARY:Kari Wolf
DESCRIPTION:
URL:https://irishkevins.com/event/kari-wolf-4/2025-11-05/
CATEGORIES:Kari Wolf
END:VEVENT
BEGIN:VEVENT
DTSTART;TZID=America/New_York:20251109T220000
DTEND;TZID=America/New_York:20251110T020000
DTSTAMP:20260423T005720
CREATED:20251109T202712Z
LAST-MODIFIED:20251109T202712Z
UID:990005873-1762725600-1762740000@irishkevins.com
SUMMARY:Kari Wolf
DESCRIPTION:
URL:https://irishkevins.com/event/kari-wolf-4/2025-11-09/
CATEGORIES:Kari Wolf
END:VEVENT
BEGIN:VEVENT
DTSTART;TZID=America/New_York:20251110T220000
DTEND;TZID=America/New_York:20251111T020000
DTSTAMP:20260423T005720
CREATED:20251109T202712Z
LAST-MODIFIED:20251109T202712Z
UID:990005874-1762812000-1762826400@irishkevins.com
SUMMARY:Kari Wolf
DESCRIPTION:
URL:https://irishkevins.com/event/kari-wolf-4/2025-11-10/
CATEGORIES:Kari Wolf
END:VEVENT
BEGIN:VEVENT
DTSTART;TZID=America/New_York:20251111T220000
DTEND;TZID=America/New_York:20251112T020000
DTSTAMP:20260423T005720
CREATED:20251109T202712Z
LAST-MODIFIED:20251109T202712Z
UID:990005875-1762898400-1762912800@irishkevins.com
SUMMARY:Kari Wolf
DESCRIPTION:
URL:https://irishkevins.com/event/kari-wolf-4/2025-11-11/
CATEGORIES:Kari Wolf
END:VEVENT
BEGIN:VEVENT
DTSTART;TZID=America/New_York:20251116T143000
DTEND;TZID=America/New_York:20251116T180000
DTSTAMP:20260423T005720
CREATED:20251109T202712Z
LAST-MODIFIED:20251109T202712Z
UID:990005876-1763303400-1763316000@irishkevins.com
SUMMARY:Kari Wolf
DESCRIPTION:
URL:https://irishkevins.com/event/kari-wolf-4/2025-11-16/
CATEGORIES:Kari Wolf
END:VEVENT
BEGIN:VEVENT
DTSTART;TZID=America/New_York:20251119T220000
DTEND;TZID=America/New_York:20251120T020000
DTSTAMP:20260423T005720
CREATED:20251109T202712Z
LAST-MODIFIED:20251109T202712Z
UID:990005877-1763589600-1763604000@irishkevins.com
SUMMARY:Kari Wolf
DESCRIPTION:
URL:https://irishkevins.com/event/kari-wolf-4/2025-11-19/
CATEGORIES:Kari Wolf
END:VEVENT
BEGIN:VEVENT
DTSTART;TZID=America/New_York:20251126T220000
DTEND;TZID=America/New_York:20251127T020000
DTSTAMP:20260423T005720
CREATED:20251109T202712Z
LAST-MODIFIED:20251109T202712Z
UID:990005878-1764194400-1764208800@irishkevins.com
SUMMARY:Kari Wolf
DESCRIPTION:
URL:https://irishkevins.com/event/kari-wolf-4/2025-11-26/
CATEGORIES:Kari Wolf
END:VEVENT
END:VCALENDAR