BEGIN:VCALENDAR
VERSION:2.0
PRODID:-//Irish Kevin&#039;s Bar - ECPv6.15.20//NONSGML v1.0//EN
CALSCALE:GREGORIAN
METHOD:PUBLISH
X-WR-CALNAME:Irish Kevin&#039;s Bar
X-ORIGINAL-URL:https://irishkevins.com
X-WR-CALDESC:Events for Irish Kevin&#039;s Bar
REFRESH-INTERVAL;VALUE=DURATION:PT1H
X-Robots-Tag:noindex
X-PUBLISHED-TTL:PT1H
BEGIN:VTIMEZONE
TZID:America/New_York
BEGIN:DAYLIGHT
TZOFFSETFROM:-0500
TZOFFSETTO:-0400
TZNAME:EDT
DTSTART:20250309T070000
END:DAYLIGHT
BEGIN:STANDARD
TZOFFSETFROM:-0400
TZOFFSETTO:-0500
TZNAME:EST
DTSTART:20251102T060000
END:STANDARD
BEGIN:DAYLIGHT
TZOFFSETFROM:-0500
TZOFFSETTO:-0400
TZNAME:EDT
DTSTART:20260308T070000
END:DAYLIGHT
BEGIN:STANDARD
TZOFFSETFROM:-0400
TZOFFSETTO:-0500
TZNAME:EST
DTSTART:20261101T060000
END:STANDARD
BEGIN:DAYLIGHT
TZOFFSETFROM:-0500
TZOFFSETTO:-0400
TZNAME:EDT
DTSTART:20270314T070000
END:DAYLIGHT
BEGIN:STANDARD
TZOFFSETFROM:-0400
TZOFFSETTO:-0500
TZNAME:EST
DTSTART:20271107T060000
END:STANDARD
END:VTIMEZONE
BEGIN:VEVENT
DTSTART;TZID=America/New_York:20260105T220000
DTEND;TZID=America/New_York:20260106T020000
DTSTAMP:20260423T042427
CREATED:20260104T201558Z
LAST-MODIFIED:20260104T201558Z
UID:990006112-1767650400-1767664800@irishkevins.com
SUMMARY:Kari Wolf
DESCRIPTION:
URL:https://irishkevins.com/event/kari-wolf-20/2026-01-05/
CATEGORIES:Kari Wolf
END:VEVENT
BEGIN:VEVENT
DTSTART;TZID=America/New_York:20260107T220000
DTEND;TZID=America/New_York:20260108T020000
DTSTAMP:20260423T042427
CREATED:20260104T201558Z
LAST-MODIFIED:20260104T201558Z
UID:990006113-1767823200-1767837600@irishkevins.com
SUMMARY:Kari Wolf
DESCRIPTION:
URL:https://irishkevins.com/event/kari-wolf-20/2026-01-07/
CATEGORIES:Kari Wolf
END:VEVENT
BEGIN:VEVENT
DTSTART;TZID=America/New_York:20260110T183000
DTEND;TZID=America/New_York:20260110T223000
DTSTAMP:20260423T042427
CREATED:20260104T201558Z
LAST-MODIFIED:20260104T201558Z
UID:990006114-1768069800-1768084200@irishkevins.com
SUMMARY:Kari Wolf
DESCRIPTION:
URL:https://irishkevins.com/event/kari-wolf-20/2026-01-10/
CATEGORIES:Kari Wolf
END:VEVENT
BEGIN:VEVENT
DTSTART;TZID=America/New_York:20260114T220000
DTEND;TZID=America/New_York:20260115T020000
DTSTAMP:20260423T042427
CREATED:20260104T201558Z
LAST-MODIFIED:20260104T201558Z
UID:990006115-1768428000-1768442400@irishkevins.com
SUMMARY:Kari Wolf
DESCRIPTION:
URL:https://irishkevins.com/event/kari-wolf-20/2026-01-14/
CATEGORIES:Kari Wolf
END:VEVENT
BEGIN:VEVENT
DTSTART;TZID=America/New_York:20260121T220000
DTEND;TZID=America/New_York:20260122T020000
DTSTAMP:20260423T042427
CREATED:20260104T201558Z
LAST-MODIFIED:20260104T201558Z
UID:990006116-1769032800-1769047200@irishkevins.com
SUMMARY:Kari Wolf
DESCRIPTION:
URL:https://irishkevins.com/event/kari-wolf-20/2026-01-21/
CATEGORIES:Kari Wolf
END:VEVENT
BEGIN:VEVENT
DTSTART;TZID=America/New_York:20260128T220000
DTEND;TZID=America/New_York:20260129T020000
DTSTAMP:20260423T042427
CREATED:20260104T201558Z
LAST-MODIFIED:20260104T201558Z
UID:990006117-1769637600-1769652000@irishkevins.com
SUMMARY:Kari Wolf
DESCRIPTION:
URL:https://irishkevins.com/event/kari-wolf-20/2026-01-28/
CATEGORIES:Kari Wolf
END:VEVENT
BEGIN:VEVENT
DTSTART;TZID=America/New_York:20260204T220000
DTEND;TZID=America/New_York:20260205T020000
DTSTAMP:20260423T042427
CREATED:20260204T160611Z
LAST-MODIFIED:20260204T160611Z
UID:990006230-1770242400-1770256800@irishkevins.com
SUMMARY:Kari Wolf
DESCRIPTION:
URL:https://irishkevins.com/event/kari-wolf-21/2026-02-04/
CATEGORIES:Kari Wolf
END:VEVENT
BEGIN:VEVENT
DTSTART;TZID=America/New_York:20260211T220000
DTEND;TZID=America/New_York:20260212T020000
DTSTAMP:20260423T042427
CREATED:20260204T160611Z
LAST-MODIFIED:20260204T160611Z
UID:990006231-1770847200-1770861600@irishkevins.com
SUMMARY:Kari Wolf
DESCRIPTION:
URL:https://irishkevins.com/event/kari-wolf-21/2026-02-11/
CATEGORIES:Kari Wolf
END:VEVENT
BEGIN:VEVENT
DTSTART;TZID=America/New_York:20260218T220000
DTEND;TZID=America/New_York:20260219T020000
DTSTAMP:20260423T042427
CREATED:20260204T160611Z
LAST-MODIFIED:20260204T160611Z
UID:990006232-1771452000-1771466400@irishkevins.com
SUMMARY:Kari Wolf
DESCRIPTION:
URL:https://irishkevins.com/event/kari-wolf-21/2026-02-18/
CATEGORIES:Kari Wolf
END:VEVENT
BEGIN:VEVENT
DTSTART;TZID=America/New_York:20260225T220000
DTEND;TZID=America/New_York:20260226T020000
DTSTAMP:20260423T042427
CREATED:20260204T160611Z
LAST-MODIFIED:20260204T160611Z
UID:990006233-1772056800-1772071200@irishkevins.com
SUMMARY:Kari Wolf
DESCRIPTION:
URL:https://irishkevins.com/event/kari-wolf-21/2026-02-25/
CATEGORIES:Kari Wolf
END:VEVENT
BEGIN:VEVENT
DTSTART;TZID=America/New_York:20260304T220000
DTEND;TZID=America/New_York:20260305T020000
DTSTAMP:20260423T042427
CREATED:20260302T185435Z
LAST-MODIFIED:20260302T185435Z
UID:990006361-1772661600-1772676000@irishkevins.com
SUMMARY:Kari Wolf
DESCRIPTION:
URL:https://irishkevins.com/event/kari-wolf/2026-03-04/
CATEGORIES:Kari Wolf
END:VEVENT
BEGIN:VEVENT
DTSTART;TZID=America/New_York:20260311T220000
DTEND;TZID=America/New_York:20260312T020000
DTSTAMP:20260423T042427
CREATED:20260302T185435Z
LAST-MODIFIED:20260302T185435Z
UID:990006362-1773266400-1773280800@irishkevins.com
SUMMARY:Kari Wolf
DESCRIPTION:
URL:https://irishkevins.com/event/kari-wolf/2026-03-11/
CATEGORIES:Kari Wolf
END:VEVENT
BEGIN:VEVENT
DTSTART;TZID=America/New_York:20260318T220000
DTEND;TZID=America/New_York:20260319T020000
DTSTAMP:20260423T042427
CREATED:20260302T185435Z
LAST-MODIFIED:20260302T185435Z
UID:990006363-1773871200-1773885600@irishkevins.com
SUMMARY:Kari Wolf
DESCRIPTION:
URL:https://irishkevins.com/event/kari-wolf/2026-03-18/
CATEGORIES:Kari Wolf
END:VEVENT
BEGIN:VEVENT
DTSTART;TZID=America/New_York:20260325T220000
DTEND;TZID=America/New_York:20260326T020000
DTSTAMP:20260423T042427
CREATED:20260302T185435Z
LAST-MODIFIED:20260302T185435Z
UID:990006364-1774476000-1774490400@irishkevins.com
SUMMARY:Kari Wolf
DESCRIPTION:
URL:https://irishkevins.com/event/kari-wolf/2026-03-25/
CATEGORIES:Kari Wolf
END:VEVENT
BEGIN:VEVENT
DTSTART;TZID=America/New_York:20260326T143000
DTEND;TZID=America/New_York:20260326T183000
DTSTAMP:20260423T042427
CREATED:20260302T185435Z
LAST-MODIFIED:20260302T185435Z
UID:990006365-1774535400-1774549800@irishkevins.com
SUMMARY:Kari Wolf
DESCRIPTION:
URL:https://irishkevins.com/event/kari-wolf/2026-03-26/
CATEGORIES:Kari Wolf
END:VEVENT
BEGIN:VEVENT
DTSTART;TZID=America/New_York:20260401T220000
DTEND;TZID=America/New_York:20260402T020000
DTSTAMP:20260423T042427
CREATED:20260302T185435Z
LAST-MODIFIED:20260302T185435Z
UID:990006366-1775080800-1775095200@irishkevins.com
SUMMARY:Kari Wolf
DESCRIPTION:
URL:https://irishkevins.com/event/kari-wolf/2026-04-01/
CATEGORIES:Kari Wolf
END:VEVENT
BEGIN:VEVENT
DTSTART;TZID=America/New_York:20260422T220000
DTEND;TZID=America/New_York:20260423T020000
DTSTAMP:20260423T042427
CREATED:20260322T172519Z
LAST-MODIFIED:20260322T172519Z
UID:990006550-1776895200-1776909600@irishkevins.com
SUMMARY:Kari Wolf
DESCRIPTION:
URL:https://irishkevins.com/event/kari-wolf-22/2026-04-22/
CATEGORIES:Kari Wolf
END:VEVENT
BEGIN:VEVENT
DTSTART;TZID=America/New_York:20260429T220000
DTEND;TZID=America/New_York:20260430T020000
DTSTAMP:20260423T042427
CREATED:20260322T172519Z
LAST-MODIFIED:20260322T172519Z
UID:990006551-1777500000-1777514400@irishkevins.com
SUMMARY:Kari Wolf
DESCRIPTION:
URL:https://irishkevins.com/event/kari-wolf-22/2026-04-29/
CATEGORIES:Kari Wolf
END:VEVENT
END:VCALENDAR