BEGIN:VCALENDAR
VERSION:2.0
PRODID:-//Irish Kevin&#039;s Bar - ECPv6.15.20//NONSGML v1.0//EN
CALSCALE:GREGORIAN
METHOD:PUBLISH
X-ORIGINAL-URL:https://irishkevins.com
X-WR-CALDESC:Events for Irish Kevin&#039;s Bar
REFRESH-INTERVAL;VALUE=DURATION:PT1H
X-Robots-Tag:noindex
X-PUBLISHED-TTL:PT1H
BEGIN:VTIMEZONE
TZID:America/New_York
BEGIN:DAYLIGHT
TZOFFSETFROM:-0500
TZOFFSETTO:-0400
TZNAME:EDT
DTSTART:20250309T070000
END:DAYLIGHT
BEGIN:STANDARD
TZOFFSETFROM:-0400
TZOFFSETTO:-0500
TZNAME:EST
DTSTART:20251102T060000
END:STANDARD
BEGIN:DAYLIGHT
TZOFFSETFROM:-0500
TZOFFSETTO:-0400
TZNAME:EDT
DTSTART:20260308T070000
END:DAYLIGHT
BEGIN:STANDARD
TZOFFSETFROM:-0400
TZOFFSETTO:-0500
TZNAME:EST
DTSTART:20261101T060000
END:STANDARD
BEGIN:DAYLIGHT
TZOFFSETFROM:-0500
TZOFFSETTO:-0400
TZNAME:EDT
DTSTART:20270314T070000
END:DAYLIGHT
BEGIN:STANDARD
TZOFFSETFROM:-0400
TZOFFSETTO:-0500
TZNAME:EST
DTSTART:20271107T060000
END:STANDARD
END:VTIMEZONE
BEGIN:VEVENT
DTSTART;TZID=America/New_York:20260108T110000
DTEND;TZID=America/New_York:20260108T143000
DTSTAMP:20260422T213837
CREATED:20260104T204243Z
LAST-MODIFIED:20260104T204243Z
UID:990006133-1767870000-1767882600@irishkevins.com
SUMMARY:Mylo O'Maolain
DESCRIPTION:
URL:https://irishkevins.com/event/mylo-omaolain-4/2026-01-08/
CATEGORIES:Mylo O'Maolain
END:VEVENT
BEGIN:VEVENT
DTSTART;TZID=America/New_York:20260109T143000
DTEND;TZID=America/New_York:20260109T173000
DTSTAMP:20260422T213837
CREATED:20260104T204243Z
LAST-MODIFIED:20260104T204243Z
UID:990006134-1767969000-1767979800@irishkevins.com
SUMMARY:Mylo O'Maolain
DESCRIPTION:
URL:https://irishkevins.com/event/mylo-omaolain-4/2026-01-09/
CATEGORIES:Mylo O'Maolain
END:VEVENT
BEGIN:VEVENT
DTSTART;TZID=America/New_York:20260111T220000
DTEND;TZID=America/New_York:20260112T020000
DTSTAMP:20260422T213837
CREATED:20260104T204243Z
LAST-MODIFIED:20260104T204243Z
UID:990006135-1768168800-1768183200@irishkevins.com
SUMMARY:Mylo O'Maolain
DESCRIPTION:
URL:https://irishkevins.com/event/mylo-omaolain-4/2026-01-11/
CATEGORIES:Mylo O'Maolain
END:VEVENT
BEGIN:VEVENT
DTSTART;TZID=America/New_York:20260112T220000
DTEND;TZID=America/New_York:20260113T020000
DTSTAMP:20260422T213837
CREATED:20260104T204243Z
LAST-MODIFIED:20260104T204243Z
UID:990006136-1768255200-1768269600@irishkevins.com
SUMMARY:Mylo O'Maolain
DESCRIPTION:
URL:https://irishkevins.com/event/mylo-omaolain-4/2026-01-12/
CATEGORIES:Mylo O'Maolain
END:VEVENT
BEGIN:VEVENT
DTSTART;TZID=America/New_York:20260115T110000
DTEND;TZID=America/New_York:20260115T143000
DTSTAMP:20260422T213837
CREATED:20260104T204243Z
LAST-MODIFIED:20260104T204243Z
UID:990006137-1768474800-1768487400@irishkevins.com
SUMMARY:Mylo O'Maolain
DESCRIPTION:
URL:https://irishkevins.com/event/mylo-omaolain-4/2026-01-15/
CATEGORIES:Mylo O'Maolain
END:VEVENT
BEGIN:VEVENT
DTSTART;TZID=America/New_York:20260116T143000
DTEND;TZID=America/New_York:20260116T183000
DTSTAMP:20260422T213837
CREATED:20260104T204243Z
LAST-MODIFIED:20260104T204243Z
UID:990006138-1768573800-1768588200@irishkevins.com
SUMMARY:Mylo O'Maolain
DESCRIPTION:
URL:https://irishkevins.com/event/mylo-omaolain-4/2026-01-16/
CATEGORIES:Mylo O'Maolain
END:VEVENT
BEGIN:VEVENT
DTSTART;TZID=America/New_York:20260118T220000
DTEND;TZID=America/New_York:20260119T020000
DTSTAMP:20260422T213837
CREATED:20260104T204243Z
LAST-MODIFIED:20260104T204243Z
UID:990006139-1768773600-1768788000@irishkevins.com
SUMMARY:Mylo O'Maolain
DESCRIPTION:
URL:https://irishkevins.com/event/mylo-omaolain-4/2026-01-18/
CATEGORIES:Mylo O'Maolain
END:VEVENT
BEGIN:VEVENT
DTSTART;TZID=America/New_York:20260119T220000
DTEND;TZID=America/New_York:20260120T020000
DTSTAMP:20260422T213837
CREATED:20260104T204243Z
LAST-MODIFIED:20260104T204243Z
UID:990006140-1768860000-1768874400@irishkevins.com
SUMMARY:Mylo O'Maolain
DESCRIPTION:
URL:https://irishkevins.com/event/mylo-omaolain-4/2026-01-19/
CATEGORIES:Mylo O'Maolain
END:VEVENT
BEGIN:VEVENT
DTSTART;TZID=America/New_York:20260122T110000
DTEND;TZID=America/New_York:20260122T143000
DTSTAMP:20260422T213837
CREATED:20260104T204243Z
LAST-MODIFIED:20260104T204243Z
UID:990006141-1769079600-1769092200@irishkevins.com
SUMMARY:Mylo O'Maolain
DESCRIPTION:
URL:https://irishkevins.com/event/mylo-omaolain-4/2026-01-22/
CATEGORIES:Mylo O'Maolain
END:VEVENT
BEGIN:VEVENT
DTSTART;TZID=America/New_York:20260123T143000
DTEND;TZID=America/New_York:20260123T183000
DTSTAMP:20260422T213837
CREATED:20260104T204243Z
LAST-MODIFIED:20260104T204243Z
UID:990006142-1769178600-1769193000@irishkevins.com
SUMMARY:Mylo O'Maolain
DESCRIPTION:
URL:https://irishkevins.com/event/mylo-omaolain-4/2026-01-23/
CATEGORIES:Mylo O'Maolain
END:VEVENT
BEGIN:VEVENT
DTSTART;TZID=America/New_York:20260125T220000
DTEND;TZID=America/New_York:20260126T020000
DTSTAMP:20260422T213837
CREATED:20260104T204243Z
LAST-MODIFIED:20260104T204243Z
UID:990006143-1769378400-1769392800@irishkevins.com
SUMMARY:Mylo O'Maolain
DESCRIPTION:
URL:https://irishkevins.com/event/mylo-omaolain-4/2026-01-25/
CATEGORIES:Mylo O'Maolain
END:VEVENT
BEGIN:VEVENT
DTSTART;TZID=America/New_York:20260126T220000
DTEND;TZID=America/New_York:20260127T020000
DTSTAMP:20260422T213837
CREATED:20260104T204243Z
LAST-MODIFIED:20260104T204243Z
UID:990006144-1769464800-1769479200@irishkevins.com
SUMMARY:Mylo O'Maolain
DESCRIPTION:
URL:https://irishkevins.com/event/mylo-omaolain-4/2026-01-26/
CATEGORIES:Mylo O'Maolain
END:VEVENT
BEGIN:VEVENT
DTSTART;TZID=America/New_York:20260129T110000
DTEND;TZID=America/New_York:20260129T143000
DTSTAMP:20260422T213837
CREATED:20260104T204243Z
LAST-MODIFIED:20260104T204243Z
UID:990006145-1769684400-1769697000@irishkevins.com
SUMMARY:Mylo O'Maolain
DESCRIPTION:
URL:https://irishkevins.com/event/mylo-omaolain-4/2026-01-29/
CATEGORIES:Mylo O'Maolain
END:VEVENT
BEGIN:VEVENT
DTSTART;TZID=America/New_York:20260130T143000
DTEND;TZID=America/New_York:20260130T183000
DTSTAMP:20260422T213837
CREATED:20260104T204243Z
LAST-MODIFIED:20260104T204243Z
UID:990006146-1769783400-1769797800@irishkevins.com
SUMMARY:Mylo O'Maolain
DESCRIPTION:
URL:https://irishkevins.com/event/mylo-omaolain-4/2026-01-30/
CATEGORIES:Mylo O'Maolain
END:VEVENT
END:VCALENDAR