BEGIN:VCALENDAR
VERSION:2.0
PRODID:-//Irish Kevin&#039;s Bar - ECPv6.15.20//NONSGML v1.0//EN
CALSCALE:GREGORIAN
METHOD:PUBLISH
X-ORIGINAL-URL:https://irishkevins.com
X-WR-CALDESC:Events for Irish Kevin&#039;s Bar
REFRESH-INTERVAL;VALUE=DURATION:PT1H
X-Robots-Tag:noindex
X-PUBLISHED-TTL:PT1H
BEGIN:VTIMEZONE
TZID:America/New_York
BEGIN:DAYLIGHT
TZOFFSETFROM:-0500
TZOFFSETTO:-0400
TZNAME:EDT
DTSTART:20240310T070000
END:DAYLIGHT
BEGIN:STANDARD
TZOFFSETFROM:-0400
TZOFFSETTO:-0500
TZNAME:EST
DTSTART:20241103T060000
END:STANDARD
BEGIN:DAYLIGHT
TZOFFSETFROM:-0500
TZOFFSETTO:-0400
TZNAME:EDT
DTSTART:20250309T070000
END:DAYLIGHT
BEGIN:STANDARD
TZOFFSETFROM:-0400
TZOFFSETTO:-0500
TZNAME:EST
DTSTART:20251102T060000
END:STANDARD
BEGIN:DAYLIGHT
TZOFFSETFROM:-0500
TZOFFSETTO:-0400
TZNAME:EDT
DTSTART:20260308T070000
END:DAYLIGHT
BEGIN:STANDARD
TZOFFSETFROM:-0400
TZOFFSETTO:-0500
TZNAME:EST
DTSTART:20261101T060000
END:STANDARD
END:VTIMEZONE
BEGIN:VEVENT
DTSTART;TZID=America/New_York:20251218T110000
DTEND;TZID=America/New_York:20251218T143000
DTSTAMP:20260422T234811
CREATED:20251203T004502Z
LAST-MODIFIED:20251203T010933Z
UID:990006020-1766055600-1766068200@irishkevins.com
SUMMARY:Mylo O'Maolain
DESCRIPTION:
URL:https://irishkevins.com/event/mylo-omaolain-3/2025-12-18/
CATEGORIES:Mylo O'Maolain
END:VEVENT
BEGIN:VEVENT
DTSTART;TZID=America/New_York:20251215T220000
DTEND;TZID=America/New_York:20251216T020000
DTSTAMP:20260422T234811
CREATED:20251203T004502Z
LAST-MODIFIED:20251203T010933Z
UID:990006019-1765836000-1765850400@irishkevins.com
SUMMARY:Mylo O'Maolain
DESCRIPTION:
URL:https://irishkevins.com/event/mylo-omaolain-3/2025-12-15/
CATEGORIES:Mylo O'Maolain
END:VEVENT
BEGIN:VEVENT
DTSTART;TZID=America/New_York:20251212T143000
DTEND;TZID=America/New_York:20251212T180000
DTSTAMP:20260422T234811
CREATED:20251203T004502Z
LAST-MODIFIED:20251203T010933Z
UID:990006018-1765549800-1765562400@irishkevins.com
SUMMARY:Mylo O'Maolain
DESCRIPTION:
URL:https://irishkevins.com/event/mylo-omaolain-3/2025-12-12/
CATEGORIES:Mylo O'Maolain
END:VEVENT
BEGIN:VEVENT
DTSTART;TZID=America/New_York:20251211T110000
DTEND;TZID=America/New_York:20251211T143000
DTSTAMP:20260422T234812
CREATED:20251203T004502Z
LAST-MODIFIED:20251203T010933Z
UID:990006017-1765450800-1765463400@irishkevins.com
SUMMARY:Mylo O'Maolain
DESCRIPTION:
URL:https://irishkevins.com/event/mylo-omaolain-3/2025-12-11/
CATEGORIES:Mylo O'Maolain
END:VEVENT
BEGIN:VEVENT
DTSTART;TZID=America/New_York:20251208T220000
DTEND;TZID=America/New_York:20251209T020000
DTSTAMP:20260422T234812
CREATED:20251203T004502Z
LAST-MODIFIED:20251203T010933Z
UID:990006016-1765231200-1765245600@irishkevins.com
SUMMARY:Mylo O'Maolain
DESCRIPTION:
URL:https://irishkevins.com/event/mylo-omaolain-3/2025-12-08/
CATEGORIES:Mylo O'Maolain
END:VEVENT
BEGIN:VEVENT
DTSTART;TZID=America/New_York:20251207T220000
DTEND;TZID=America/New_York:20251208T020000
DTSTAMP:20260422T234812
CREATED:20251203T004502Z
LAST-MODIFIED:20251203T010933Z
UID:990006015-1765144800-1765159200@irishkevins.com
SUMMARY:Mylo O'Maolain
DESCRIPTION:
URL:https://irishkevins.com/event/mylo-omaolain-3/2025-12-07/
CATEGORIES:Mylo O'Maolain
END:VEVENT
BEGIN:VEVENT
DTSTART;TZID=America/New_York:20251205T143000
DTEND;TZID=America/New_York:20251205T183000
DTSTAMP:20260422T234812
CREATED:20251203T004502Z
LAST-MODIFIED:20251203T010933Z
UID:990006014-1764945000-1764959400@irishkevins.com
SUMMARY:Mylo O'Maolain
DESCRIPTION:
URL:https://irishkevins.com/event/mylo-omaolain-3/2025-12-05/
CATEGORIES:Mylo O'Maolain
END:VEVENT
BEGIN:VEVENT
DTSTART;TZID=America/New_York:20251204T110000
DTEND;TZID=America/New_York:20251204T143000
DTSTAMP:20260422T234812
CREATED:20251203T004502Z
LAST-MODIFIED:20251203T010933Z
UID:990006013-1764846000-1764858600@irishkevins.com
SUMMARY:Mylo O'Maolain
DESCRIPTION:
URL:https://irishkevins.com/event/mylo-omaolain-3/2025-12-04/
CATEGORIES:Mylo O'Maolain
END:VEVENT
BEGIN:VEVENT
DTSTART;TZID=America/New_York:20251201T220000
DTEND;TZID=America/New_York:20251202T020000
DTSTAMP:20260422T234812
CREATED:20251203T004502Z
LAST-MODIFIED:20251203T010933Z
UID:990006012-1764626400-1764640800@irishkevins.com
SUMMARY:Mylo O'Maolain
DESCRIPTION:
URL:https://irishkevins.com/event/mylo-omaolain-3/2025-12-01/
CATEGORIES:Mylo O'Maolain
END:VEVENT
BEGIN:VEVENT
DTSTART;TZID=America/New_York:20251130T220000
DTEND;TZID=America/New_York:20251201T020000
DTSTAMP:20260422T234812
CREATED:20251109T204412Z
LAST-MODIFIED:20251109T204412Z
UID:990005903-1764540000-1764554400@irishkevins.com
SUMMARY:Mylo O'Maolain
DESCRIPTION:
URL:https://irishkevins.com/event/mylo-omaolain-2/2025-11-30/
CATEGORIES:Mylo O'Maolain
END:VEVENT
BEGIN:VEVENT
DTSTART;TZID=America/New_York:20251128T143000
DTEND;TZID=America/New_York:20251128T183000
DTSTAMP:20260422T234812
CREATED:20251109T204412Z
LAST-MODIFIED:20251109T204412Z
UID:990005902-1764340200-1764354600@irishkevins.com
SUMMARY:Mylo O'Maolain
DESCRIPTION:
URL:https://irishkevins.com/event/mylo-omaolain-2/2025-11-28/
CATEGORIES:Mylo O'Maolain
END:VEVENT
BEGIN:VEVENT
DTSTART;TZID=America/New_York:20251127T110000
DTEND;TZID=America/New_York:20251127T143000
DTSTAMP:20260422T234812
CREATED:20251109T204412Z
LAST-MODIFIED:20251109T204412Z
UID:990005901-1764241200-1764253800@irishkevins.com
SUMMARY:Mylo O'Maolain
DESCRIPTION:
URL:https://irishkevins.com/event/mylo-omaolain-2/2025-11-27/
CATEGORIES:Mylo O'Maolain
END:VEVENT
BEGIN:VEVENT
DTSTART;TZID=America/New_York:20251124T220000
DTEND;TZID=America/New_York:20251125T020000
DTSTAMP:20260422T234812
CREATED:20251109T204412Z
LAST-MODIFIED:20251109T204412Z
UID:990005900-1764021600-1764036000@irishkevins.com
SUMMARY:Mylo O'Maolain
DESCRIPTION:
URL:https://irishkevins.com/event/mylo-omaolain-2/2025-11-24/
CATEGORIES:Mylo O'Maolain
END:VEVENT
BEGIN:VEVENT
DTSTART;TZID=America/New_York:20251123T220000
DTEND;TZID=America/New_York:20251124T020000
DTSTAMP:20260422T234812
CREATED:20251109T204412Z
LAST-MODIFIED:20251109T204412Z
UID:990005899-1763935200-1763949600@irishkevins.com
SUMMARY:Mylo O'Maolain
DESCRIPTION:
URL:https://irishkevins.com/event/mylo-omaolain-2/2025-11-23/
CATEGORIES:Mylo O'Maolain
END:VEVENT
BEGIN:VEVENT
DTSTART;TZID=America/New_York:20251121T143000
DTEND;TZID=America/New_York:20251121T183000
DTSTAMP:20260422T234812
CREATED:20251109T204412Z
LAST-MODIFIED:20251109T204412Z
UID:990005898-1763735400-1763749800@irishkevins.com
SUMMARY:Mylo O'Maolain
DESCRIPTION:
URL:https://irishkevins.com/event/mylo-omaolain-2/2025-11-21/
CATEGORIES:Mylo O'Maolain
END:VEVENT
BEGIN:VEVENT
DTSTART;TZID=America/New_York:20251120T110000
DTEND;TZID=America/New_York:20251120T143000
DTSTAMP:20260422T234812
CREATED:20251109T204412Z
LAST-MODIFIED:20251109T204412Z
UID:990005897-1763636400-1763649000@irishkevins.com
SUMMARY:Mylo O'Maolain
DESCRIPTION:
URL:https://irishkevins.com/event/mylo-omaolain-2/2025-11-20/
CATEGORIES:Mylo O'Maolain
END:VEVENT
BEGIN:VEVENT
DTSTART;TZID=America/New_York:20251117T220000
DTEND;TZID=America/New_York:20251118T020000
DTSTAMP:20260422T234812
CREATED:20251109T204412Z
LAST-MODIFIED:20251109T204412Z
UID:990005896-1763416800-1763431200@irishkevins.com
SUMMARY:Mylo O'Maolain
DESCRIPTION:
URL:https://irishkevins.com/event/mylo-omaolain-2/2025-11-17/
CATEGORIES:Mylo O'Maolain
END:VEVENT
BEGIN:VEVENT
DTSTART;TZID=America/New_York:20251116T220000
DTEND;TZID=America/New_York:20251117T020000
DTSTAMP:20260422T234812
CREATED:20251109T204412Z
LAST-MODIFIED:20251109T204412Z
UID:990005895-1763330400-1763344800@irishkevins.com
SUMMARY:Mylo O'Maolain
DESCRIPTION:
URL:https://irishkevins.com/event/mylo-omaolain-2/2025-11-16/
CATEGORIES:Mylo O'Maolain
END:VEVENT
BEGIN:VEVENT
DTSTART;TZID=America/New_York:20251115T183000
DTEND;TZID=America/New_York:20251115T223000
DTSTAMP:20260422T234812
CREATED:20251109T204412Z
LAST-MODIFIED:20251109T204412Z
UID:990005894-1763231400-1763245800@irishkevins.com
SUMMARY:Mylo O'Maolain
DESCRIPTION:
URL:https://irishkevins.com/event/mylo-omaolain-2/2025-11-15/
CATEGORIES:Mylo O'Maolain
END:VEVENT
BEGIN:VEVENT
DTSTART;TZID=America/New_York:20251114T143000
DTEND;TZID=America/New_York:20251114T183000
DTSTAMP:20260422T234812
CREATED:20251109T204412Z
LAST-MODIFIED:20251109T204412Z
UID:990005893-1763130600-1763145000@irishkevins.com
SUMMARY:Mylo O'Maolain
DESCRIPTION:
URL:https://irishkevins.com/event/mylo-omaolain-2/2025-11-14/
CATEGORIES:Mylo O'Maolain
END:VEVENT
BEGIN:VEVENT
DTSTART;TZID=America/New_York:20251113T110000
DTEND;TZID=America/New_York:20251113T143000
DTSTAMP:20260422T234812
CREATED:20251109T204412Z
LAST-MODIFIED:20251109T204412Z
UID:990005892-1763031600-1763044200@irishkevins.com
SUMMARY:Mylo O'Maolain
DESCRIPTION:
URL:https://irishkevins.com/event/mylo-omaolain-2/2025-11-13/
CATEGORIES:Mylo O'Maolain
END:VEVENT
BEGIN:VEVENT
DTSTART;TZID=America/New_York:20251103T220000
DTEND;TZID=America/New_York:20251104T020000
DTSTAMP:20260422T234812
CREATED:20251109T204412Z
LAST-MODIFIED:20251109T204412Z
UID:990005891-1762207200-1762221600@irishkevins.com
SUMMARY:Mylo O'Maolain
DESCRIPTION:
URL:https://irishkevins.com/event/mylo-omaolain-2/2025-11-03/
CATEGORIES:Mylo O'Maolain
END:VEVENT
BEGIN:VEVENT
DTSTART;TZID=America/New_York:20251102T220000
DTEND;TZID=America/New_York:20251103T020000
DTSTAMP:20260422T234812
CREATED:20251008T175357Z
LAST-MODIFIED:20251008T175357Z
UID:990005785-1762120800-1762135200@irishkevins.com
SUMMARY:Mylo O'Maolain
DESCRIPTION:
URL:https://irishkevins.com/event/mylo-omaolain-8/2025-11-02/
CATEGORIES:Mylo O'Maolain
END:VEVENT
BEGIN:VEVENT
DTSTART;TZID=America/New_York:20251031T143000
DTEND;TZID=America/New_York:20251031T183000
DTSTAMP:20260422T234812
CREATED:20251008T175357Z
LAST-MODIFIED:20251008T175357Z
UID:990005784-1761921000-1761935400@irishkevins.com
SUMMARY:Mylo O'Maolain
DESCRIPTION:
URL:https://irishkevins.com/event/mylo-omaolain-8/2025-10-31/
CATEGORIES:Mylo O'Maolain
END:VEVENT
BEGIN:VEVENT
DTSTART;TZID=America/New_York:20251030T110000
DTEND;TZID=America/New_York:20251030T143000
DTSTAMP:20260422T234812
CREATED:20251008T175357Z
LAST-MODIFIED:20251008T175357Z
UID:990005783-1761822000-1761834600@irishkevins.com
SUMMARY:Mylo O'Maolain
DESCRIPTION:
URL:https://irishkevins.com/event/mylo-omaolain-8/2025-10-30/
CATEGORIES:Mylo O'Maolain
END:VEVENT
BEGIN:VEVENT
DTSTART;TZID=America/New_York:20251027T220000
DTEND;TZID=America/New_York:20251028T020000
DTSTAMP:20260422T234812
CREATED:20251008T175357Z
LAST-MODIFIED:20251008T175357Z
UID:990005782-1761602400-1761616800@irishkevins.com
SUMMARY:Mylo O'Maolain
DESCRIPTION:
URL:https://irishkevins.com/event/mylo-omaolain-8/2025-10-27/
CATEGORIES:Mylo O'Maolain
END:VEVENT
BEGIN:VEVENT
DTSTART;TZID=America/New_York:20251026T220000
DTEND;TZID=America/New_York:20251027T020000
DTSTAMP:20260422T234812
CREATED:20251008T175357Z
LAST-MODIFIED:20251008T175357Z
UID:990005781-1761516000-1761530400@irishkevins.com
SUMMARY:Mylo O'Maolain
DESCRIPTION:
URL:https://irishkevins.com/event/mylo-omaolain-8/2025-10-26/
CATEGORIES:Mylo O'Maolain
END:VEVENT
BEGIN:VEVENT
DTSTART;TZID=America/New_York:20251025T100000
DTEND;TZID=America/New_York:20251025T133000
DTSTAMP:20260422T234812
CREATED:20251008T175357Z
LAST-MODIFIED:20251008T175357Z
UID:990005780-1761386400-1761399000@irishkevins.com
SUMMARY:Mylo O'Maolain
DESCRIPTION:
URL:https://irishkevins.com/event/mylo-omaolain-8/2025-10-25/
CATEGORIES:Mylo O'Maolain
END:VEVENT
BEGIN:VEVENT
DTSTART;TZID=America/New_York:20251024T133000
DTEND;TZID=America/New_York:20251024T170000
DTSTAMP:20260422T234812
CREATED:20251008T175357Z
LAST-MODIFIED:20251008T175357Z
UID:990005779-1761312600-1761325200@irishkevins.com
SUMMARY:Mylo O'Maolain
DESCRIPTION:
URL:https://irishkevins.com/event/mylo-omaolain-8/2025-10-24/
CATEGORIES:Mylo O'Maolain
END:VEVENT
BEGIN:VEVENT
DTSTART;TZID=America/New_York:20251023T220000
DTEND;TZID=America/New_York:20251024T020000
DTSTAMP:20260422T234812
CREATED:20251008T175357Z
LAST-MODIFIED:20251008T175357Z
UID:990006556-1761256800-1761271200@irishkevins.com
SUMMARY:Mylo O'Maolain
DESCRIPTION:
URL:https://irishkevins.com/event/mylo-omaolain-8/2025-10-23/
CATEGORIES:Mylo O'Maolain
END:VEVENT
END:VCALENDAR