BEGIN:VCALENDAR
VERSION:2.0
PRODID:-//Irish Kevin&#039;s Bar - ECPv6.15.20//NONSGML v1.0//EN
CALSCALE:GREGORIAN
METHOD:PUBLISH
X-WR-CALNAME:Irish Kevin&#039;s Bar
X-ORIGINAL-URL:https://irishkevins.com
X-WR-CALDESC:Events for Irish Kevin&#039;s Bar
REFRESH-INTERVAL;VALUE=DURATION:PT1H
X-Robots-Tag:noindex
X-PUBLISHED-TTL:PT1H
BEGIN:VTIMEZONE
TZID:America/New_York
BEGIN:DAYLIGHT
TZOFFSETFROM:-0500
TZOFFSETTO:-0400
TZNAME:EDT
DTSTART:20250309T070000
END:DAYLIGHT
BEGIN:STANDARD
TZOFFSETFROM:-0400
TZOFFSETTO:-0500
TZNAME:EST
DTSTART:20251102T060000
END:STANDARD
BEGIN:DAYLIGHT
TZOFFSETFROM:-0500
TZOFFSETTO:-0400
TZNAME:EDT
DTSTART:20260308T070000
END:DAYLIGHT
BEGIN:STANDARD
TZOFFSETFROM:-0400
TZOFFSETTO:-0500
TZNAME:EST
DTSTART:20261101T060000
END:STANDARD
BEGIN:DAYLIGHT
TZOFFSETFROM:-0500
TZOFFSETTO:-0400
TZNAME:EDT
DTSTART:20270314T070000
END:DAYLIGHT
BEGIN:STANDARD
TZOFFSETFROM:-0400
TZOFFSETTO:-0500
TZNAME:EST
DTSTART:20271107T060000
END:STANDARD
END:VTIMEZONE
BEGIN:VEVENT
DTSTART;TZID=America/New_York:20260205T143000
DTEND;TZID=America/New_York:20260205T183000
DTSTAMP:20260423T073224
CREATED:20260204T184236Z
LAST-MODIFIED:20260204T184236Z
UID:990006298-1770301800-1770316200@irishkevins.com
SUMMARY:NY Pauly
DESCRIPTION:
URL:https://irishkevins.com/event/ny-pauly-38/
CATEGORIES:NY Pauly
END:VEVENT
BEGIN:VEVENT
DTSTART;TZID=America/New_York:20260206T183000
DTEND;TZID=America/New_York:20260206T223000
DTSTAMP:20260423T073224
CREATED:20260204T163330Z
LAST-MODIFIED:20260204T163330Z
UID:990006280-1770402600-1770417000@irishkevins.com
SUMMARY:NY Pauly
DESCRIPTION:
URL:https://irishkevins.com/event/ny-pauly-37/2026-02-06/
CATEGORIES:NY Pauly
ATTACH;FMTTYPE=image/jpeg:https://irishkevins.com/wp-content/uploads/2023/09/NY-Pauly-380.jpg
END:VEVENT
BEGIN:VEVENT
DTSTART;TZID=America/New_York:20260207T143000
DTEND;TZID=America/New_York:20260207T183000
DTSTAMP:20260423T073224
CREATED:20260204T163330Z
LAST-MODIFIED:20260204T163330Z
UID:990006281-1770474600-1770489000@irishkevins.com
SUMMARY:NY Pauly
DESCRIPTION:
URL:https://irishkevins.com/event/ny-pauly-37/2026-02-07/
CATEGORIES:NY Pauly
ATTACH;FMTTYPE=image/jpeg:https://irishkevins.com/wp-content/uploads/2023/09/NY-Pauly-380.jpg
END:VEVENT
BEGIN:VEVENT
DTSTART;TZID=America/New_York:20260209T180000
DTEND;TZID=America/New_York:20260209T220000
DTSTAMP:20260423T073224
CREATED:20260204T163330Z
LAST-MODIFIED:20260204T163330Z
UID:990006282-1770660000-1770674400@irishkevins.com
SUMMARY:NY Pauly
DESCRIPTION:
URL:https://irishkevins.com/event/ny-pauly-37/2026-02-09/
CATEGORIES:NY Pauly
ATTACH;FMTTYPE=image/jpeg:https://irishkevins.com/wp-content/uploads/2023/09/NY-Pauly-380.jpg
END:VEVENT
BEGIN:VEVENT
DTSTART;TZID=America/New_York:20260210T180000
DTEND;TZID=America/New_York:20260210T220000
DTSTAMP:20260423T073224
CREATED:20260204T163330Z
LAST-MODIFIED:20260204T163330Z
UID:990006283-1770746400-1770760800@irishkevins.com
SUMMARY:NY Pauly
DESCRIPTION:
URL:https://irishkevins.com/event/ny-pauly-37/2026-02-10/
CATEGORIES:NY Pauly
ATTACH;FMTTYPE=image/jpeg:https://irishkevins.com/wp-content/uploads/2023/09/NY-Pauly-380.jpg
END:VEVENT
BEGIN:VEVENT
DTSTART;TZID=America/New_York:20260213T183000
DTEND;TZID=America/New_York:20260213T223000
DTSTAMP:20260423T073224
CREATED:20260204T163330Z
LAST-MODIFIED:20260204T163330Z
UID:990006284-1771007400-1771021800@irishkevins.com
SUMMARY:NY Pauly
DESCRIPTION:
URL:https://irishkevins.com/event/ny-pauly-37/2026-02-13/
CATEGORIES:NY Pauly
ATTACH;FMTTYPE=image/jpeg:https://irishkevins.com/wp-content/uploads/2023/09/NY-Pauly-380.jpg
END:VEVENT
BEGIN:VEVENT
DTSTART;TZID=America/New_York:20260214T143000
DTEND;TZID=America/New_York:20260214T183000
DTSTAMP:20260423T073224
CREATED:20260204T163330Z
LAST-MODIFIED:20260204T163330Z
UID:990006285-1771079400-1771093800@irishkevins.com
SUMMARY:NY Pauly
DESCRIPTION:
URL:https://irishkevins.com/event/ny-pauly-37/2026-02-14/
CATEGORIES:NY Pauly
ATTACH;FMTTYPE=image/jpeg:https://irishkevins.com/wp-content/uploads/2023/09/NY-Pauly-380.jpg
END:VEVENT
BEGIN:VEVENT
DTSTART;TZID=America/New_York:20260216T180000
DTEND;TZID=America/New_York:20260216T220000
DTSTAMP:20260423T073224
CREATED:20260204T163330Z
LAST-MODIFIED:20260204T163330Z
UID:990006286-1771264800-1771279200@irishkevins.com
SUMMARY:NY Pauly
DESCRIPTION:
URL:https://irishkevins.com/event/ny-pauly-37/2026-02-16/
CATEGORIES:NY Pauly
ATTACH;FMTTYPE=image/jpeg:https://irishkevins.com/wp-content/uploads/2023/09/NY-Pauly-380.jpg
END:VEVENT
BEGIN:VEVENT
DTSTART;TZID=America/New_York:20260217T180000
DTEND;TZID=America/New_York:20260217T220000
DTSTAMP:20260423T073224
CREATED:20260204T163330Z
LAST-MODIFIED:20260204T163330Z
UID:990006287-1771351200-1771365600@irishkevins.com
SUMMARY:NY Pauly
DESCRIPTION:
URL:https://irishkevins.com/event/ny-pauly-37/2026-02-17/
CATEGORIES:NY Pauly
ATTACH;FMTTYPE=image/jpeg:https://irishkevins.com/wp-content/uploads/2023/09/NY-Pauly-380.jpg
END:VEVENT
BEGIN:VEVENT
DTSTART;TZID=America/New_York:20260220T183000
DTEND;TZID=America/New_York:20260220T223000
DTSTAMP:20260423T073224
CREATED:20260204T163330Z
LAST-MODIFIED:20260204T163330Z
UID:990006288-1771612200-1771626600@irishkevins.com
SUMMARY:NY Pauly
DESCRIPTION:
URL:https://irishkevins.com/event/ny-pauly-37/2026-02-20/
CATEGORIES:NY Pauly
ATTACH;FMTTYPE=image/jpeg:https://irishkevins.com/wp-content/uploads/2023/09/NY-Pauly-380.jpg
END:VEVENT
BEGIN:VEVENT
DTSTART;TZID=America/New_York:20260221T143000
DTEND;TZID=America/New_York:20260221T183000
DTSTAMP:20260423T073224
CREATED:20260204T163330Z
LAST-MODIFIED:20260204T163330Z
UID:990006289-1771684200-1771698600@irishkevins.com
SUMMARY:NY Pauly
DESCRIPTION:
URL:https://irishkevins.com/event/ny-pauly-37/2026-02-21/
CATEGORIES:NY Pauly
ATTACH;FMTTYPE=image/jpeg:https://irishkevins.com/wp-content/uploads/2023/09/NY-Pauly-380.jpg
END:VEVENT
BEGIN:VEVENT
DTSTART;TZID=America/New_York:20260223T180000
DTEND;TZID=America/New_York:20260223T220000
DTSTAMP:20260423T073224
CREATED:20260204T163330Z
LAST-MODIFIED:20260204T163330Z
UID:990006290-1771869600-1771884000@irishkevins.com
SUMMARY:NY Pauly
DESCRIPTION:
URL:https://irishkevins.com/event/ny-pauly-37/2026-02-23/
CATEGORIES:NY Pauly
ATTACH;FMTTYPE=image/jpeg:https://irishkevins.com/wp-content/uploads/2023/09/NY-Pauly-380.jpg
END:VEVENT
BEGIN:VEVENT
DTSTART;TZID=America/New_York:20260224T180000
DTEND;TZID=America/New_York:20260224T220000
DTSTAMP:20260423T073224
CREATED:20260204T163330Z
LAST-MODIFIED:20260204T163330Z
UID:990006291-1771956000-1771970400@irishkevins.com
SUMMARY:NY Pauly
DESCRIPTION:
URL:https://irishkevins.com/event/ny-pauly-37/2026-02-24/
CATEGORIES:NY Pauly
ATTACH;FMTTYPE=image/jpeg:https://irishkevins.com/wp-content/uploads/2023/09/NY-Pauly-380.jpg
END:VEVENT
BEGIN:VEVENT
DTSTART;TZID=America/New_York:20260227T183000
DTEND;TZID=America/New_York:20260227T223000
DTSTAMP:20260423T073224
CREATED:20260204T163330Z
LAST-MODIFIED:20260204T163330Z
UID:990006292-1772217000-1772231400@irishkevins.com
SUMMARY:NY Pauly
DESCRIPTION:
URL:https://irishkevins.com/event/ny-pauly-37/2026-02-27/
CATEGORIES:NY Pauly
ATTACH;FMTTYPE=image/jpeg:https://irishkevins.com/wp-content/uploads/2023/09/NY-Pauly-380.jpg
END:VEVENT
BEGIN:VEVENT
DTSTART;TZID=America/New_York:20260228T143000
DTEND;TZID=America/New_York:20260228T183000
DTSTAMP:20260423T073224
CREATED:20260204T163330Z
LAST-MODIFIED:20260204T163330Z
UID:990006293-1772289000-1772303400@irishkevins.com
SUMMARY:NY Pauly
DESCRIPTION:
URL:https://irishkevins.com/event/ny-pauly-37/2026-02-28/
CATEGORIES:NY Pauly
ATTACH;FMTTYPE=image/jpeg:https://irishkevins.com/wp-content/uploads/2023/09/NY-Pauly-380.jpg
END:VEVENT
BEGIN:VEVENT
DTSTART;TZID=America/New_York:20260302T180000
DTEND;TZID=America/New_York:20260302T220000
DTSTAMP:20260423T073224
CREATED:20260302T192241Z
LAST-MODIFIED:20260302T192241Z
UID:990006413-1772474400-1772488800@irishkevins.com
SUMMARY:NY Pauly
DESCRIPTION:
URL:https://irishkevins.com/event/ny-pauly-2/2026-03-02/
CATEGORIES:NY Pauly
ATTACH;FMTTYPE=image/jpeg:https://irishkevins.com/wp-content/uploads/2023/09/NY-Pauly-380.jpg
END:VEVENT
BEGIN:VEVENT
DTSTART;TZID=America/New_York:20260303T180000
DTEND;TZID=America/New_York:20260303T220000
DTSTAMP:20260423T073224
CREATED:20260302T192241Z
LAST-MODIFIED:20260302T192241Z
UID:990006414-1772560800-1772575200@irishkevins.com
SUMMARY:NY Pauly
DESCRIPTION:
URL:https://irishkevins.com/event/ny-pauly-2/2026-03-03/
CATEGORIES:NY Pauly
ATTACH;FMTTYPE=image/jpeg:https://irishkevins.com/wp-content/uploads/2023/09/NY-Pauly-380.jpg
END:VEVENT
BEGIN:VEVENT
DTSTART;TZID=America/New_York:20260306T183000
DTEND;TZID=America/New_York:20260306T223000
DTSTAMP:20260423T073225
CREATED:20260302T192241Z
LAST-MODIFIED:20260302T192241Z
UID:990006415-1772821800-1772836200@irishkevins.com
SUMMARY:NY Pauly
DESCRIPTION:
URL:https://irishkevins.com/event/ny-pauly-2/2026-03-06/
CATEGORIES:NY Pauly
ATTACH;FMTTYPE=image/jpeg:https://irishkevins.com/wp-content/uploads/2023/09/NY-Pauly-380.jpg
END:VEVENT
BEGIN:VEVENT
DTSTART;TZID=America/New_York:20260307T143000
DTEND;TZID=America/New_York:20260307T183000
DTSTAMP:20260423T073225
CREATED:20260302T192241Z
LAST-MODIFIED:20260302T192241Z
UID:990006416-1772893800-1772908200@irishkevins.com
SUMMARY:NY Pauly
DESCRIPTION:
URL:https://irishkevins.com/event/ny-pauly-2/2026-03-07/
CATEGORIES:NY Pauly
ATTACH;FMTTYPE=image/jpeg:https://irishkevins.com/wp-content/uploads/2023/09/NY-Pauly-380.jpg
END:VEVENT
BEGIN:VEVENT
DTSTART;TZID=America/New_York:20260309T180000
DTEND;TZID=America/New_York:20260309T220000
DTSTAMP:20260423T073225
CREATED:20260302T192241Z
LAST-MODIFIED:20260302T192241Z
UID:990006417-1773079200-1773093600@irishkevins.com
SUMMARY:NY Pauly
DESCRIPTION:
URL:https://irishkevins.com/event/ny-pauly-2/2026-03-09/
CATEGORIES:NY Pauly
ATTACH;FMTTYPE=image/jpeg:https://irishkevins.com/wp-content/uploads/2023/09/NY-Pauly-380.jpg
END:VEVENT
BEGIN:VEVENT
DTSTART;TZID=America/New_York:20260310T180000
DTEND;TZID=America/New_York:20260310T220000
DTSTAMP:20260423T073225
CREATED:20260302T192241Z
LAST-MODIFIED:20260302T192241Z
UID:990006418-1773165600-1773180000@irishkevins.com
SUMMARY:NY Pauly
DESCRIPTION:
URL:https://irishkevins.com/event/ny-pauly-2/2026-03-10/
CATEGORIES:NY Pauly
ATTACH;FMTTYPE=image/jpeg:https://irishkevins.com/wp-content/uploads/2023/09/NY-Pauly-380.jpg
END:VEVENT
BEGIN:VEVENT
DTSTART;TZID=America/New_York:20260313T183000
DTEND;TZID=America/New_York:20260313T223000
DTSTAMP:20260423T073225
CREATED:20260302T192241Z
LAST-MODIFIED:20260302T192241Z
UID:990006419-1773426600-1773441000@irishkevins.com
SUMMARY:NY Pauly
DESCRIPTION:
URL:https://irishkevins.com/event/ny-pauly-2/2026-03-13/
CATEGORIES:NY Pauly
ATTACH;FMTTYPE=image/jpeg:https://irishkevins.com/wp-content/uploads/2023/09/NY-Pauly-380.jpg
END:VEVENT
BEGIN:VEVENT
DTSTART;TZID=America/New_York:20260314T143000
DTEND;TZID=America/New_York:20260314T183000
DTSTAMP:20260423T073225
CREATED:20260302T192241Z
LAST-MODIFIED:20260302T192241Z
UID:990006420-1773498600-1773513000@irishkevins.com
SUMMARY:NY Pauly
DESCRIPTION:
URL:https://irishkevins.com/event/ny-pauly-2/2026-03-14/
CATEGORIES:NY Pauly
ATTACH;FMTTYPE=image/jpeg:https://irishkevins.com/wp-content/uploads/2023/09/NY-Pauly-380.jpg
END:VEVENT
BEGIN:VEVENT
DTSTART;TZID=America/New_York:20260316T180000
DTEND;TZID=America/New_York:20260316T220000
DTSTAMP:20260423T073225
CREATED:20260302T192241Z
LAST-MODIFIED:20260302T192241Z
UID:990006421-1773684000-1773698400@irishkevins.com
SUMMARY:NY Pauly
DESCRIPTION:
URL:https://irishkevins.com/event/ny-pauly-2/2026-03-16/
CATEGORIES:NY Pauly
ATTACH;FMTTYPE=image/jpeg:https://irishkevins.com/wp-content/uploads/2023/09/NY-Pauly-380.jpg
END:VEVENT
BEGIN:VEVENT
DTSTART;TZID=America/New_York:20260317T190000
DTEND;TZID=America/New_York:20260317T230000
DTSTAMP:20260423T073225
CREATED:20260302T192241Z
LAST-MODIFIED:20260302T192241Z
UID:990006422-1773774000-1773788400@irishkevins.com
SUMMARY:NY Pauly
DESCRIPTION:
URL:https://irishkevins.com/event/ny-pauly-2/2026-03-17/
CATEGORIES:NY Pauly
ATTACH;FMTTYPE=image/jpeg:https://irishkevins.com/wp-content/uploads/2023/09/NY-Pauly-380.jpg
END:VEVENT
BEGIN:VEVENT
DTSTART;TZID=America/New_York:20260320T183000
DTEND;TZID=America/New_York:20260320T223000
DTSTAMP:20260423T073225
CREATED:20260302T192241Z
LAST-MODIFIED:20260302T192241Z
UID:990006423-1774031400-1774045800@irishkevins.com
SUMMARY:NY Pauly
DESCRIPTION:
URL:https://irishkevins.com/event/ny-pauly-2/2026-03-20/
CATEGORIES:NY Pauly
ATTACH;FMTTYPE=image/jpeg:https://irishkevins.com/wp-content/uploads/2023/09/NY-Pauly-380.jpg
END:VEVENT
BEGIN:VEVENT
DTSTART;TZID=America/New_York:20260321T143000
DTEND;TZID=America/New_York:20260321T183000
DTSTAMP:20260423T073225
CREATED:20260302T192241Z
LAST-MODIFIED:20260302T192241Z
UID:990006424-1774103400-1774117800@irishkevins.com
SUMMARY:NY Pauly
DESCRIPTION:
URL:https://irishkevins.com/event/ny-pauly-2/2026-03-21/
CATEGORIES:NY Pauly
ATTACH;FMTTYPE=image/jpeg:https://irishkevins.com/wp-content/uploads/2023/09/NY-Pauly-380.jpg
END:VEVENT
BEGIN:VEVENT
DTSTART;TZID=America/New_York:20260323T180000
DTEND;TZID=America/New_York:20260323T220000
DTSTAMP:20260423T073225
CREATED:20260302T192241Z
LAST-MODIFIED:20260302T192241Z
UID:990006425-1774288800-1774303200@irishkevins.com
SUMMARY:NY Pauly
DESCRIPTION:
URL:https://irishkevins.com/event/ny-pauly-2/2026-03-23/
CATEGORIES:NY Pauly
ATTACH;FMTTYPE=image/jpeg:https://irishkevins.com/wp-content/uploads/2023/09/NY-Pauly-380.jpg
END:VEVENT
BEGIN:VEVENT
DTSTART;TZID=America/New_York:20260324T180000
DTEND;TZID=America/New_York:20260324T220000
DTSTAMP:20260423T073225
CREATED:20260302T192241Z
LAST-MODIFIED:20260302T192241Z
UID:990006426-1774375200-1774389600@irishkevins.com
SUMMARY:NY Pauly
DESCRIPTION:
URL:https://irishkevins.com/event/ny-pauly-2/2026-03-24/
CATEGORIES:NY Pauly
ATTACH;FMTTYPE=image/jpeg:https://irishkevins.com/wp-content/uploads/2023/09/NY-Pauly-380.jpg
END:VEVENT
BEGIN:VEVENT
DTSTART;TZID=America/New_York:20260327T183000
DTEND;TZID=America/New_York:20260327T223000
DTSTAMP:20260423T073225
CREATED:20260302T192241Z
LAST-MODIFIED:20260302T192241Z
UID:990006427-1774636200-1774650600@irishkevins.com
SUMMARY:NY Pauly
DESCRIPTION:
URL:https://irishkevins.com/event/ny-pauly-2/2026-03-27/
CATEGORIES:NY Pauly
ATTACH;FMTTYPE=image/jpeg:https://irishkevins.com/wp-content/uploads/2023/09/NY-Pauly-380.jpg
END:VEVENT
END:VCALENDAR