BEGIN:VCALENDAR
VERSION:2.0
PRODID:-//Irish Kevin&#039;s Bar - ECPv6.15.20//NONSGML v1.0//EN
CALSCALE:GREGORIAN
METHOD:PUBLISH
X-WR-CALNAME:Irish Kevin&#039;s Bar
X-ORIGINAL-URL:https://irishkevins.com
X-WR-CALDESC:Events for Irish Kevin&#039;s Bar
REFRESH-INTERVAL;VALUE=DURATION:PT1H
X-Robots-Tag:noindex
X-PUBLISHED-TTL:PT1H
BEGIN:VTIMEZONE
TZID:America/New_York
BEGIN:DAYLIGHT
TZOFFSETFROM:-0500
TZOFFSETTO:-0400
TZNAME:EDT
DTSTART:20240310T070000
END:DAYLIGHT
BEGIN:STANDARD
TZOFFSETFROM:-0400
TZOFFSETTO:-0500
TZNAME:EST
DTSTART:20241103T060000
END:STANDARD
BEGIN:DAYLIGHT
TZOFFSETFROM:-0500
TZOFFSETTO:-0400
TZNAME:EDT
DTSTART:20250309T070000
END:DAYLIGHT
BEGIN:STANDARD
TZOFFSETFROM:-0400
TZOFFSETTO:-0500
TZNAME:EST
DTSTART:20251102T060000
END:STANDARD
BEGIN:DAYLIGHT
TZOFFSETFROM:-0500
TZOFFSETTO:-0400
TZNAME:EDT
DTSTART:20260308T070000
END:DAYLIGHT
BEGIN:STANDARD
TZOFFSETFROM:-0400
TZOFFSETTO:-0500
TZNAME:EST
DTSTART:20261101T060000
END:STANDARD
END:VTIMEZONE
BEGIN:VEVENT
DTSTART;TZID=America/New_York:20251124T180000
DTEND;TZID=America/New_York:20251124T220000
DTSTAMP:20260423T031605
CREATED:20251109T210532Z
LAST-MODIFIED:20251109T210532Z
UID:990005929-1764007200-1764021600@irishkevins.com
SUMMARY:NY Pauly
DESCRIPTION:
URL:https://irishkevins.com/event/ny-pauly-4/2025-11-24/
CATEGORIES:NY Pauly
ATTACH;FMTTYPE=image/jpeg:https://irishkevins.com/wp-content/uploads/2023/09/NY-Pauly-380.jpg
END:VEVENT
BEGIN:VEVENT
DTSTART;TZID=America/New_York:20251122T143000
DTEND;TZID=America/New_York:20251122T183000
DTSTAMP:20260423T031605
CREATED:20251109T210532Z
LAST-MODIFIED:20251109T210532Z
UID:990005928-1763821800-1763836200@irishkevins.com
SUMMARY:NY Pauly
DESCRIPTION:
URL:https://irishkevins.com/event/ny-pauly-4/2025-11-22/
CATEGORIES:NY Pauly
ATTACH;FMTTYPE=image/jpeg:https://irishkevins.com/wp-content/uploads/2023/09/NY-Pauly-380.jpg
END:VEVENT
BEGIN:VEVENT
DTSTART;TZID=America/New_York:20251121T183000
DTEND;TZID=America/New_York:20251121T223000
DTSTAMP:20260423T031605
CREATED:20251109T210532Z
LAST-MODIFIED:20251109T210532Z
UID:990005927-1763749800-1763764200@irishkevins.com
SUMMARY:NY Pauly
DESCRIPTION:
URL:https://irishkevins.com/event/ny-pauly-4/2025-11-21/
CATEGORIES:NY Pauly
ATTACH;FMTTYPE=image/jpeg:https://irishkevins.com/wp-content/uploads/2023/09/NY-Pauly-380.jpg
END:VEVENT
BEGIN:VEVENT
DTSTART;TZID=America/New_York:20251118T180000
DTEND;TZID=America/New_York:20251118T220000
DTSTAMP:20260423T031605
CREATED:20251109T210532Z
LAST-MODIFIED:20251109T210532Z
UID:990005926-1763488800-1763503200@irishkevins.com
SUMMARY:NY Pauly
DESCRIPTION:
URL:https://irishkevins.com/event/ny-pauly-4/2025-11-18/
CATEGORIES:NY Pauly
ATTACH;FMTTYPE=image/jpeg:https://irishkevins.com/wp-content/uploads/2023/09/NY-Pauly-380.jpg
END:VEVENT
BEGIN:VEVENT
DTSTART;TZID=America/New_York:20251117T180000
DTEND;TZID=America/New_York:20251117T220000
DTSTAMP:20260423T031605
CREATED:20251109T210532Z
LAST-MODIFIED:20251109T210532Z
UID:990005925-1763402400-1763416800@irishkevins.com
SUMMARY:NY Pauly
DESCRIPTION:
URL:https://irishkevins.com/event/ny-pauly-4/2025-11-17/
CATEGORIES:NY Pauly
ATTACH;FMTTYPE=image/jpeg:https://irishkevins.com/wp-content/uploads/2023/09/NY-Pauly-380.jpg
END:VEVENT
BEGIN:VEVENT
DTSTART;TZID=America/New_York:20251115T143000
DTEND;TZID=America/New_York:20251115T183000
DTSTAMP:20260423T031605
CREATED:20251109T210532Z
LAST-MODIFIED:20251109T210532Z
UID:990005924-1763217000-1763231400@irishkevins.com
SUMMARY:NY Pauly
DESCRIPTION:
URL:https://irishkevins.com/event/ny-pauly-4/2025-11-15/
CATEGORIES:NY Pauly
ATTACH;FMTTYPE=image/jpeg:https://irishkevins.com/wp-content/uploads/2023/09/NY-Pauly-380.jpg
END:VEVENT
BEGIN:VEVENT
DTSTART;TZID=America/New_York:20251114T183000
DTEND;TZID=America/New_York:20251114T223000
DTSTAMP:20260423T031605
CREATED:20251109T210532Z
LAST-MODIFIED:20251109T210532Z
UID:990005923-1763145000-1763159400@irishkevins.com
SUMMARY:NY Pauly
DESCRIPTION:
URL:https://irishkevins.com/event/ny-pauly-4/2025-11-14/
CATEGORIES:NY Pauly
ATTACH;FMTTYPE=image/jpeg:https://irishkevins.com/wp-content/uploads/2023/09/NY-Pauly-380.jpg
END:VEVENT
BEGIN:VEVENT
DTSTART;TZID=America/New_York:20251112T180000
DTEND;TZID=America/New_York:20251112T220000
DTSTAMP:20260423T031605
CREATED:20251109T210532Z
LAST-MODIFIED:20251109T210532Z
UID:990005922-1762970400-1762984800@irishkevins.com
SUMMARY:NY Pauly
DESCRIPTION:
URL:https://irishkevins.com/event/ny-pauly-4/2025-11-12/
CATEGORIES:NY Pauly
ATTACH;FMTTYPE=image/jpeg:https://irishkevins.com/wp-content/uploads/2023/09/NY-Pauly-380.jpg
END:VEVENT
BEGIN:VEVENT
DTSTART;TZID=America/New_York:20251111T180000
DTEND;TZID=America/New_York:20251111T220000
DTSTAMP:20260423T031605
CREATED:20251109T210532Z
LAST-MODIFIED:20251109T210532Z
UID:990005921-1762884000-1762898400@irishkevins.com
SUMMARY:NY Pauly
DESCRIPTION:
URL:https://irishkevins.com/event/ny-pauly-4/2025-11-11/
CATEGORIES:NY Pauly
ATTACH;FMTTYPE=image/jpeg:https://irishkevins.com/wp-content/uploads/2023/09/NY-Pauly-380.jpg
END:VEVENT
BEGIN:VEVENT
DTSTART;TZID=America/New_York:20251110T180000
DTEND;TZID=America/New_York:20251110T220000
DTSTAMP:20260423T031605
CREATED:20251109T210532Z
LAST-MODIFIED:20251109T210532Z
UID:990005920-1762797600-1762812000@irishkevins.com
SUMMARY:NY Pauly
DESCRIPTION:
URL:https://irishkevins.com/event/ny-pauly-4/2025-11-10/
CATEGORIES:NY Pauly
ATTACH;FMTTYPE=image/jpeg:https://irishkevins.com/wp-content/uploads/2023/09/NY-Pauly-380.jpg
END:VEVENT
BEGIN:VEVENT
DTSTART;TZID=America/New_York:20251108T143000
DTEND;TZID=America/New_York:20251108T183000
DTSTAMP:20260423T031605
CREATED:20251109T210532Z
LAST-MODIFIED:20251109T210532Z
UID:990005919-1762612200-1762626600@irishkevins.com
SUMMARY:NY Pauly
DESCRIPTION:
URL:https://irishkevins.com/event/ny-pauly-4/2025-11-08/
CATEGORIES:NY Pauly
ATTACH;FMTTYPE=image/jpeg:https://irishkevins.com/wp-content/uploads/2023/09/NY-Pauly-380.jpg
END:VEVENT
BEGIN:VEVENT
DTSTART;TZID=America/New_York:20251107T183000
DTEND;TZID=America/New_York:20251107T223000
DTSTAMP:20260423T031605
CREATED:20251109T210532Z
LAST-MODIFIED:20251109T210532Z
UID:990005918-1762540200-1762554600@irishkevins.com
SUMMARY:NY Pauly
DESCRIPTION:
URL:https://irishkevins.com/event/ny-pauly-4/2025-11-07/
CATEGORIES:NY Pauly
ATTACH;FMTTYPE=image/jpeg:https://irishkevins.com/wp-content/uploads/2023/09/NY-Pauly-380.jpg
END:VEVENT
BEGIN:VEVENT
DTSTART;TZID=America/New_York:20251104T180000
DTEND;TZID=America/New_York:20251104T220000
DTSTAMP:20260423T031605
CREATED:20251109T210532Z
LAST-MODIFIED:20251109T210532Z
UID:990005917-1762279200-1762293600@irishkevins.com
SUMMARY:NY Pauly
DESCRIPTION:
URL:https://irishkevins.com/event/ny-pauly-4/2025-11-04/
CATEGORIES:NY Pauly
ATTACH;FMTTYPE=image/jpeg:https://irishkevins.com/wp-content/uploads/2023/09/NY-Pauly-380.jpg
END:VEVENT
BEGIN:VEVENT
DTSTART;TZID=America/New_York:20251103T180000
DTEND;TZID=America/New_York:20251103T220000
DTSTAMP:20260423T031605
CREATED:20251109T210532Z
LAST-MODIFIED:20251109T210532Z
UID:990005916-1762192800-1762207200@irishkevins.com
SUMMARY:NY Pauly
DESCRIPTION:
URL:https://irishkevins.com/event/ny-pauly-4/2025-11-03/
CATEGORIES:NY Pauly
ATTACH;FMTTYPE=image/jpeg:https://irishkevins.com/wp-content/uploads/2023/09/NY-Pauly-380.jpg
END:VEVENT
BEGIN:VEVENT
DTSTART;TZID=America/New_York:20251101T143000
DTEND;TZID=America/New_York:20251101T183000
DTSTAMP:20260423T031605
CREATED:20251008T180835Z
LAST-MODIFIED:20251008T180835Z
UID:990005815-1762007400-1762021800@irishkevins.com
SUMMARY:NY Pauly
DESCRIPTION:
URL:https://irishkevins.com/event/ny-pauly/2025-11-01/
CATEGORIES:NY Pauly
ATTACH;FMTTYPE=image/jpeg:https://irishkevins.com/wp-content/uploads/2023/09/NY-Pauly-380.jpg
END:VEVENT
BEGIN:VEVENT
DTSTART;TZID=America/New_York:20251031T183000
DTEND;TZID=America/New_York:20251031T223000
DTSTAMP:20260423T031605
CREATED:20251008T180835Z
LAST-MODIFIED:20251008T180835Z
UID:990005814-1761935400-1761949800@irishkevins.com
SUMMARY:NY Pauly
DESCRIPTION:
URL:https://irishkevins.com/event/ny-pauly/2025-10-31/
CATEGORIES:NY Pauly
ATTACH;FMTTYPE=image/jpeg:https://irishkevins.com/wp-content/uploads/2023/09/NY-Pauly-380.jpg
END:VEVENT
BEGIN:VEVENT
DTSTART;TZID=America/New_York:20251028T180000
DTEND;TZID=America/New_York:20251028T220000
DTSTAMP:20260423T031605
CREATED:20251008T180835Z
LAST-MODIFIED:20251008T180835Z
UID:990005813-1761674400-1761688800@irishkevins.com
SUMMARY:NY Pauly
DESCRIPTION:
URL:https://irishkevins.com/event/ny-pauly/2025-10-28/
CATEGORIES:NY Pauly
ATTACH;FMTTYPE=image/jpeg:https://irishkevins.com/wp-content/uploads/2023/09/NY-Pauly-380.jpg
END:VEVENT
BEGIN:VEVENT
DTSTART;TZID=America/New_York:20251027T180000
DTEND;TZID=America/New_York:20251027T220000
DTSTAMP:20260423T031605
CREATED:20251008T180835Z
LAST-MODIFIED:20251008T180835Z
UID:990005812-1761588000-1761602400@irishkevins.com
SUMMARY:NY Pauly
DESCRIPTION:
URL:https://irishkevins.com/event/ny-pauly/2025-10-27/
CATEGORIES:NY Pauly
ATTACH;FMTTYPE=image/jpeg:https://irishkevins.com/wp-content/uploads/2023/09/NY-Pauly-380.jpg
END:VEVENT
BEGIN:VEVENT
DTSTART;TZID=America/New_York:20251025T170000
DTEND;TZID=America/New_York:20251025T201500
DTSTAMP:20260423T031605
CREATED:20251008T180835Z
LAST-MODIFIED:20251008T180835Z
UID:990005811-1761411600-1761423300@irishkevins.com
SUMMARY:NY Pauly
DESCRIPTION:
URL:https://irishkevins.com/event/ny-pauly/2025-10-25/
CATEGORIES:NY Pauly
ATTACH;FMTTYPE=image/jpeg:https://irishkevins.com/wp-content/uploads/2023/09/NY-Pauly-380.jpg
END:VEVENT
BEGIN:VEVENT
DTSTART;TZID=America/New_York:20251024T201500
DTEND;TZID=America/New_York:20251024T233000
DTSTAMP:20260423T031605
CREATED:20251008T180835Z
LAST-MODIFIED:20251008T180835Z
UID:990005810-1761336900-1761348600@irishkevins.com
SUMMARY:NY Pauly
DESCRIPTION:
URL:https://irishkevins.com/event/ny-pauly/2025-10-24/
CATEGORIES:NY Pauly
ATTACH;FMTTYPE=image/jpeg:https://irishkevins.com/wp-content/uploads/2023/09/NY-Pauly-380.jpg
END:VEVENT
END:VCALENDAR