BEGIN:VCALENDAR
VERSION:2.0
PRODID:-//Irish Kevin&#039;s Bar - ECPv6.15.20//NONSGML v1.0//EN
CALSCALE:GREGORIAN
METHOD:PUBLISH
X-WR-CALNAME:Irish Kevin&#039;s Bar
X-ORIGINAL-URL:https://irishkevins.com
X-WR-CALDESC:Events for Irish Kevin&#039;s Bar
REFRESH-INTERVAL;VALUE=DURATION:PT1H
X-Robots-Tag:noindex
X-PUBLISHED-TTL:PT1H
BEGIN:VTIMEZONE
TZID:America/New_York
BEGIN:DAYLIGHT
TZOFFSETFROM:-0500
TZOFFSETTO:-0400
TZNAME:EDT
DTSTART:20250309T070000
END:DAYLIGHT
BEGIN:STANDARD
TZOFFSETFROM:-0400
TZOFFSETTO:-0500
TZNAME:EST
DTSTART:20251102T060000
END:STANDARD
BEGIN:DAYLIGHT
TZOFFSETFROM:-0500
TZOFFSETTO:-0400
TZNAME:EDT
DTSTART:20260308T070000
END:DAYLIGHT
BEGIN:STANDARD
TZOFFSETFROM:-0400
TZOFFSETTO:-0500
TZNAME:EST
DTSTART:20261101T060000
END:STANDARD
BEGIN:DAYLIGHT
TZOFFSETFROM:-0500
TZOFFSETTO:-0400
TZNAME:EDT
DTSTART:20270314T070000
END:DAYLIGHT
BEGIN:STANDARD
TZOFFSETFROM:-0400
TZOFFSETTO:-0500
TZNAME:EST
DTSTART:20271107T060000
END:STANDARD
END:VTIMEZONE
BEGIN:VEVENT
DTSTART;TZID=America/New_York:20260419T180000
DTEND;TZID=America/New_York:20260419T220000
DTSTAMP:20260422T142440
CREATED:20260322T171509Z
LAST-MODIFIED:20260322T171509Z
UID:990006518-1776621600-1776636000@irishkevins.com
SUMMARY:Oren Polak
DESCRIPTION:
URL:https://irishkevins.com/event/oren-polak-9/2026-04-19/
CATEGORIES:Oren Polak
ATTACH;FMTTYPE=image/jpeg:https://irishkevins.com/wp-content/uploads/2023/09/Oren-Polak-450.jpg
END:VEVENT
BEGIN:VEVENT
DTSTART;TZID=America/New_York:20260416T183000
DTEND;TZID=America/New_York:20260416T223000
DTSTAMP:20260422T142440
CREATED:20260322T171509Z
LAST-MODIFIED:20260322T171509Z
UID:990006517-1776364200-1776378600@irishkevins.com
SUMMARY:Oren Polak
DESCRIPTION:
URL:https://irishkevins.com/event/oren-polak-9/2026-04-16/
CATEGORIES:Oren Polak
ATTACH;FMTTYPE=image/jpeg:https://irishkevins.com/wp-content/uploads/2023/09/Oren-Polak-450.jpg
END:VEVENT
BEGIN:VEVENT
DTSTART;TZID=America/New_York:20260415T110000
DTEND;TZID=America/New_York:20260415T143000
DTSTAMP:20260422T142440
CREATED:20260322T171509Z
LAST-MODIFIED:20260322T171509Z
UID:990006516-1776250800-1776263400@irishkevins.com
SUMMARY:Oren Polak
DESCRIPTION:
URL:https://irishkevins.com/event/oren-polak-9/2026-04-15/
CATEGORIES:Oren Polak
ATTACH;FMTTYPE=image/jpeg:https://irishkevins.com/wp-content/uploads/2023/09/Oren-Polak-450.jpg
END:VEVENT
BEGIN:VEVENT
DTSTART;TZID=America/New_York:20260413T143000
DTEND;TZID=America/New_York:20260413T180000
DTSTAMP:20260422T142440
CREATED:20260322T171509Z
LAST-MODIFIED:20260322T171509Z
UID:990006515-1776090600-1776103200@irishkevins.com
SUMMARY:Oren Polak
DESCRIPTION:
URL:https://irishkevins.com/event/oren-polak-9/2026-04-13/
CATEGORIES:Oren Polak
ATTACH;FMTTYPE=image/jpeg:https://irishkevins.com/wp-content/uploads/2023/09/Oren-Polak-450.jpg
END:VEVENT
BEGIN:VEVENT
DTSTART;TZID=America/New_York:20260412T180000
DTEND;TZID=America/New_York:20260412T220000
DTSTAMP:20260422T142440
CREATED:20260322T171509Z
LAST-MODIFIED:20260322T171509Z
UID:990006514-1776016800-1776031200@irishkevins.com
SUMMARY:Oren Polak
DESCRIPTION:
URL:https://irishkevins.com/event/oren-polak-9/2026-04-12/
CATEGORIES:Oren Polak
ATTACH;FMTTYPE=image/jpeg:https://irishkevins.com/wp-content/uploads/2023/09/Oren-Polak-450.jpg
END:VEVENT
BEGIN:VEVENT
DTSTART;TZID=America/New_York:20260410T110000
DTEND;TZID=America/New_York:20260410T143000
DTSTAMP:20260422T142440
CREATED:20260322T171509Z
LAST-MODIFIED:20260322T171509Z
UID:990006513-1775818800-1775831400@irishkevins.com
SUMMARY:Oren Polak
DESCRIPTION:
URL:https://irishkevins.com/event/oren-polak-9/2026-04-10/
CATEGORIES:Oren Polak
ATTACH;FMTTYPE=image/jpeg:https://irishkevins.com/wp-content/uploads/2023/09/Oren-Polak-450.jpg
END:VEVENT
BEGIN:VEVENT
DTSTART;TZID=America/New_York:20260409T183000
DTEND;TZID=America/New_York:20260409T223000
DTSTAMP:20260422T142440
CREATED:20260322T171509Z
LAST-MODIFIED:20260322T171509Z
UID:990006512-1775759400-1775773800@irishkevins.com
SUMMARY:Oren Polak
DESCRIPTION:
URL:https://irishkevins.com/event/oren-polak-9/2026-04-09/
CATEGORIES:Oren Polak
ATTACH;FMTTYPE=image/jpeg:https://irishkevins.com/wp-content/uploads/2023/09/Oren-Polak-450.jpg
END:VEVENT
BEGIN:VEVENT
DTSTART;TZID=America/New_York:20260408T110000
DTEND;TZID=America/New_York:20260408T143000
DTSTAMP:20260422T142440
CREATED:20260322T171509Z
LAST-MODIFIED:20260322T171509Z
UID:990006511-1775646000-1775658600@irishkevins.com
SUMMARY:Oren Polak
DESCRIPTION:
URL:https://irishkevins.com/event/oren-polak-9/2026-04-08/
CATEGORIES:Oren Polak
ATTACH;FMTTYPE=image/jpeg:https://irishkevins.com/wp-content/uploads/2023/09/Oren-Polak-450.jpg
END:VEVENT
BEGIN:VEVENT
DTSTART;TZID=America/New_York:20260406T180000
DTEND;TZID=America/New_York:20260406T220000
DTSTAMP:20260422T142440
CREATED:20260322T171509Z
LAST-MODIFIED:20260322T171509Z
UID:990006510-1775498400-1775512800@irishkevins.com
SUMMARY:Oren Polak
DESCRIPTION:
URL:https://irishkevins.com/event/oren-polak-9/2026-04-06/
CATEGORIES:Oren Polak
ATTACH;FMTTYPE=image/jpeg:https://irishkevins.com/wp-content/uploads/2023/09/Oren-Polak-450.jpg
END:VEVENT
BEGIN:VEVENT
DTSTART;TZID=America/New_York:20260405T180000
DTEND;TZID=America/New_York:20260405T220000
DTSTAMP:20260422T142440
CREATED:20260302T191613Z
LAST-MODIFIED:20260302T191613Z
UID:990006412-1775412000-1775426400@irishkevins.com
SUMMARY:Oren Polak
DESCRIPTION:
URL:https://irishkevins.com/event/oren-polak-2/2026-04-05/
CATEGORIES:Oren Polak
ATTACH;FMTTYPE=image/jpeg:https://irishkevins.com/wp-content/uploads/2023/09/Oren-Polak-450.jpg
END:VEVENT
BEGIN:VEVENT
DTSTART;TZID=America/New_York:20260403T143000
DTEND;TZID=America/New_York:20260403T183000
DTSTAMP:20260422T142440
CREATED:20260302T191613Z
LAST-MODIFIED:20260302T191613Z
UID:990006411-1775226600-1775241000@irishkevins.com
SUMMARY:Oren Polak
DESCRIPTION:
URL:https://irishkevins.com/event/oren-polak-2/2026-04-03/
CATEGORIES:Oren Polak
ATTACH;FMTTYPE=image/jpeg:https://irishkevins.com/wp-content/uploads/2023/09/Oren-Polak-450.jpg
END:VEVENT
BEGIN:VEVENT
DTSTART;TZID=America/New_York:20260402T183000
DTEND;TZID=America/New_York:20260402T223000
DTSTAMP:20260422T142440
CREATED:20260302T191613Z
LAST-MODIFIED:20260302T191613Z
UID:990006410-1775154600-1775169000@irishkevins.com
SUMMARY:Oren Polak
DESCRIPTION:
URL:https://irishkevins.com/event/oren-polak-2/2026-04-02/
CATEGORIES:Oren Polak
ATTACH;FMTTYPE=image/jpeg:https://irishkevins.com/wp-content/uploads/2023/09/Oren-Polak-450.jpg
END:VEVENT
BEGIN:VEVENT
DTSTART;TZID=America/New_York:20260401T180000
DTEND;TZID=America/New_York:20260401T220000
DTSTAMP:20260422T142440
CREATED:20260302T191613Z
LAST-MODIFIED:20260302T191613Z
UID:990006409-1775066400-1775080800@irishkevins.com
SUMMARY:Oren Polak
DESCRIPTION:
URL:https://irishkevins.com/event/oren-polak-2/2026-04-01/
CATEGORIES:Oren Polak
ATTACH;FMTTYPE=image/jpeg:https://irishkevins.com/wp-content/uploads/2023/09/Oren-Polak-450.jpg
END:VEVENT
BEGIN:VEVENT
DTSTART;TZID=America/New_York:20260331T143000
DTEND;TZID=America/New_York:20260331T180000
DTSTAMP:20260422T142440
CREATED:20260302T191613Z
LAST-MODIFIED:20260302T191613Z
UID:990006408-1774967400-1774980000@irishkevins.com
SUMMARY:Oren Polak
DESCRIPTION:
URL:https://irishkevins.com/event/oren-polak-2/2026-03-31/
CATEGORIES:Oren Polak
ATTACH;FMTTYPE=image/jpeg:https://irishkevins.com/wp-content/uploads/2023/09/Oren-Polak-450.jpg
END:VEVENT
BEGIN:VEVENT
DTSTART;TZID=America/New_York:20260329T180000
DTEND;TZID=America/New_York:20260329T220000
DTSTAMP:20260422T142440
CREATED:20260302T191613Z
LAST-MODIFIED:20260302T191613Z
UID:990006407-1774807200-1774821600@irishkevins.com
SUMMARY:Oren Polak
DESCRIPTION:
URL:https://irishkevins.com/event/oren-polak-2/2026-03-29/
CATEGORIES:Oren Polak
ATTACH;FMTTYPE=image/jpeg:https://irishkevins.com/wp-content/uploads/2023/09/Oren-Polak-450.jpg
END:VEVENT
BEGIN:VEVENT
DTSTART;TZID=America/New_York:20260328T183000
DTEND;TZID=America/New_York:20260328T223000
DTSTAMP:20260422T142440
CREATED:20260302T191613Z
LAST-MODIFIED:20260302T191613Z
UID:990006406-1774722600-1774737000@irishkevins.com
SUMMARY:Oren Polak
DESCRIPTION:
URL:https://irishkevins.com/event/oren-polak-2/2026-03-28/
CATEGORIES:Oren Polak
ATTACH;FMTTYPE=image/jpeg:https://irishkevins.com/wp-content/uploads/2023/09/Oren-Polak-450.jpg
END:VEVENT
BEGIN:VEVENT
DTSTART;TZID=America/New_York:20260326T183000
DTEND;TZID=America/New_York:20260326T223000
DTSTAMP:20260422T142440
CREATED:20260302T191613Z
LAST-MODIFIED:20260302T191613Z
UID:990006405-1774549800-1774564200@irishkevins.com
SUMMARY:Oren Polak
DESCRIPTION:
URL:https://irishkevins.com/event/oren-polak-2/2026-03-26/
CATEGORIES:Oren Polak
ATTACH;FMTTYPE=image/jpeg:https://irishkevins.com/wp-content/uploads/2023/09/Oren-Polak-450.jpg
END:VEVENT
BEGIN:VEVENT
DTSTART;TZID=America/New_York:20260325T110000
DTEND;TZID=America/New_York:20260325T143000
DTSTAMP:20260422T142440
CREATED:20260302T191613Z
LAST-MODIFIED:20260302T191613Z
UID:990006404-1774436400-1774449000@irishkevins.com
SUMMARY:Oren Polak
DESCRIPTION:
URL:https://irishkevins.com/event/oren-polak-2/2026-03-25/
CATEGORIES:Oren Polak
ATTACH;FMTTYPE=image/jpeg:https://irishkevins.com/wp-content/uploads/2023/09/Oren-Polak-450.jpg
END:VEVENT
BEGIN:VEVENT
DTSTART;TZID=America/New_York:20260322T180000
DTEND;TZID=America/New_York:20260322T220000
DTSTAMP:20260422T142440
CREATED:20260302T191613Z
LAST-MODIFIED:20260302T191613Z
UID:990006403-1774202400-1774216800@irishkevins.com
SUMMARY:Oren Polak
DESCRIPTION:
URL:https://irishkevins.com/event/oren-polak-2/2026-03-22/
CATEGORIES:Oren Polak
ATTACH;FMTTYPE=image/jpeg:https://irishkevins.com/wp-content/uploads/2023/09/Oren-Polak-450.jpg
END:VEVENT
BEGIN:VEVENT
DTSTART;TZID=America/New_York:20260315T180000
DTEND;TZID=America/New_York:20260315T220000
DTSTAMP:20260422T142440
CREATED:20260302T191613Z
LAST-MODIFIED:20260302T191613Z
UID:990006402-1773597600-1773612000@irishkevins.com
SUMMARY:Oren Polak
DESCRIPTION:
URL:https://irishkevins.com/event/oren-polak-2/2026-03-15/
CATEGORIES:Oren Polak
ATTACH;FMTTYPE=image/jpeg:https://irishkevins.com/wp-content/uploads/2023/09/Oren-Polak-450.jpg
END:VEVENT
BEGIN:VEVENT
DTSTART;TZID=America/New_York:20260312T183000
DTEND;TZID=America/New_York:20260312T223000
DTSTAMP:20260422T142440
CREATED:20260302T191613Z
LAST-MODIFIED:20260302T191613Z
UID:990006401-1773340200-1773354600@irishkevins.com
SUMMARY:Oren Polak
DESCRIPTION:
URL:https://irishkevins.com/event/oren-polak-2/2026-03-12/
CATEGORIES:Oren Polak
ATTACH;FMTTYPE=image/jpeg:https://irishkevins.com/wp-content/uploads/2023/09/Oren-Polak-450.jpg
END:VEVENT
BEGIN:VEVENT
DTSTART;TZID=America/New_York:20260311T110000
DTEND;TZID=America/New_York:20260311T143000
DTSTAMP:20260422T142440
CREATED:20260302T191613Z
LAST-MODIFIED:20260302T191613Z
UID:990006400-1773226800-1773239400@irishkevins.com
SUMMARY:Oren Polak
DESCRIPTION:
URL:https://irishkevins.com/event/oren-polak-2/2026-03-11/
CATEGORIES:Oren Polak
ATTACH;FMTTYPE=image/jpeg:https://irishkevins.com/wp-content/uploads/2023/09/Oren-Polak-450.jpg
END:VEVENT
BEGIN:VEVENT
DTSTART;TZID=America/New_York:20260308T180000
DTEND;TZID=America/New_York:20260308T220000
DTSTAMP:20260422T142440
CREATED:20260302T191613Z
LAST-MODIFIED:20260302T191613Z
UID:990006399-1772992800-1773007200@irishkevins.com
SUMMARY:Oren Polak
DESCRIPTION:
URL:https://irishkevins.com/event/oren-polak-2/2026-03-08/
CATEGORIES:Oren Polak
ATTACH;FMTTYPE=image/jpeg:https://irishkevins.com/wp-content/uploads/2023/09/Oren-Polak-450.jpg
END:VEVENT
BEGIN:VEVENT
DTSTART;TZID=America/New_York:20260305T183000
DTEND;TZID=America/New_York:20260305T223000
DTSTAMP:20260422T142440
CREATED:20260302T191613Z
LAST-MODIFIED:20260302T191613Z
UID:990006398-1772735400-1772749800@irishkevins.com
SUMMARY:Oren Polak
DESCRIPTION:
URL:https://irishkevins.com/event/oren-polak-2/2026-03-05/
CATEGORIES:Oren Polak
ATTACH;FMTTYPE=image/jpeg:https://irishkevins.com/wp-content/uploads/2023/09/Oren-Polak-450.jpg
END:VEVENT
BEGIN:VEVENT
DTSTART;TZID=America/New_York:20260304T110000
DTEND;TZID=America/New_York:20260304T143000
DTSTAMP:20260422T142440
CREATED:20260302T191613Z
LAST-MODIFIED:20260302T191613Z
UID:990006397-1772622000-1772634600@irishkevins.com
SUMMARY:Oren Polak
DESCRIPTION:
URL:https://irishkevins.com/event/oren-polak-2/2026-03-04/
CATEGORIES:Oren Polak
ATTACH;FMTTYPE=image/jpeg:https://irishkevins.com/wp-content/uploads/2023/09/Oren-Polak-450.jpg
END:VEVENT
BEGIN:VEVENT
DTSTART;TZID=America/New_York:20260301T180000
DTEND;TZID=America/New_York:20260301T220000
DTSTAMP:20260422T142440
CREATED:20260204T162854Z
LAST-MODIFIED:20260204T162854Z
UID:990006277-1772388000-1772402400@irishkevins.com
SUMMARY:Oren Polak
DESCRIPTION:
URL:https://irishkevins.com/event/oren-polak-7/2026-03-01/
CATEGORIES:Oren Polak
ATTACH;FMTTYPE=image/jpeg:https://irishkevins.com/wp-content/uploads/2023/09/Oren-Polak-450.jpg
END:VEVENT
BEGIN:VEVENT
DTSTART;TZID=America/New_York:20260226T183000
DTEND;TZID=America/New_York:20260226T223000
DTSTAMP:20260422T142440
CREATED:20260204T162854Z
LAST-MODIFIED:20260204T162854Z
UID:990006276-1772130600-1772145000@irishkevins.com
SUMMARY:Oren Polak
DESCRIPTION:
URL:https://irishkevins.com/event/oren-polak-7/2026-02-26/
CATEGORIES:Oren Polak
ATTACH;FMTTYPE=image/jpeg:https://irishkevins.com/wp-content/uploads/2023/09/Oren-Polak-450.jpg
END:VEVENT
BEGIN:VEVENT
DTSTART;TZID=America/New_York:20260225T110000
DTEND;TZID=America/New_York:20260225T143000
DTSTAMP:20260422T142440
CREATED:20260204T162854Z
LAST-MODIFIED:20260204T162854Z
UID:990006275-1772017200-1772029800@irishkevins.com
SUMMARY:Oren Polak
DESCRIPTION:
URL:https://irishkevins.com/event/oren-polak-7/2026-02-25/
CATEGORIES:Oren Polak
ATTACH;FMTTYPE=image/jpeg:https://irishkevins.com/wp-content/uploads/2023/09/Oren-Polak-450.jpg
END:VEVENT
BEGIN:VEVENT
DTSTART;TZID=America/New_York:20260222T180000
DTEND;TZID=America/New_York:20260222T220000
DTSTAMP:20260422T142440
CREATED:20260204T162854Z
LAST-MODIFIED:20260204T162854Z
UID:990006274-1771783200-1771797600@irishkevins.com
SUMMARY:Oren Polak
DESCRIPTION:
URL:https://irishkevins.com/event/oren-polak-7/2026-02-22/
CATEGORIES:Oren Polak
ATTACH;FMTTYPE=image/jpeg:https://irishkevins.com/wp-content/uploads/2023/09/Oren-Polak-450.jpg
END:VEVENT
BEGIN:VEVENT
DTSTART;TZID=America/New_York:20260219T183000
DTEND;TZID=America/New_York:20260219T223000
DTSTAMP:20260422T142440
CREATED:20260204T162854Z
LAST-MODIFIED:20260204T162854Z
UID:990006273-1771525800-1771540200@irishkevins.com
SUMMARY:Oren Polak
DESCRIPTION:
URL:https://irishkevins.com/event/oren-polak-7/2026-02-19/
CATEGORIES:Oren Polak
ATTACH;FMTTYPE=image/jpeg:https://irishkevins.com/wp-content/uploads/2023/09/Oren-Polak-450.jpg
END:VEVENT
END:VCALENDAR