BEGIN:VCALENDAR
VERSION:2.0
PRODID:-//Irish Kevin&#039;s Bar - ECPv6.15.20//NONSGML v1.0//EN
CALSCALE:GREGORIAN
METHOD:PUBLISH
X-WR-CALNAME:Irish Kevin&#039;s Bar
X-ORIGINAL-URL:https://irishkevins.com
X-WR-CALDESC:Events for Irish Kevin&#039;s Bar
REFRESH-INTERVAL;VALUE=DURATION:PT1H
X-Robots-Tag:noindex
X-PUBLISHED-TTL:PT1H
BEGIN:VTIMEZONE
TZID:America/New_York
BEGIN:DAYLIGHT
TZOFFSETFROM:-0500
TZOFFSETTO:-0400
TZNAME:EDT
DTSTART:20250309T070000
END:DAYLIGHT
BEGIN:STANDARD
TZOFFSETFROM:-0400
TZOFFSETTO:-0500
TZNAME:EST
DTSTART:20251102T060000
END:STANDARD
BEGIN:DAYLIGHT
TZOFFSETFROM:-0500
TZOFFSETTO:-0400
TZNAME:EDT
DTSTART:20260308T070000
END:DAYLIGHT
BEGIN:STANDARD
TZOFFSETFROM:-0400
TZOFFSETTO:-0500
TZNAME:EST
DTSTART:20261101T060000
END:STANDARD
BEGIN:DAYLIGHT
TZOFFSETFROM:-0500
TZOFFSETTO:-0400
TZNAME:EDT
DTSTART:20270314T070000
END:DAYLIGHT
BEGIN:STANDARD
TZOFFSETFROM:-0400
TZOFFSETTO:-0500
TZNAME:EST
DTSTART:20271107T060000
END:STANDARD
END:VTIMEZONE
BEGIN:VEVENT
DTSTART;TZID=America/New_York:20260422T110000
DTEND;TZID=America/New_York:20260422T143000
DTSTAMP:20260422T133248
CREATED:20260322T171509Z
LAST-MODIFIED:20260322T171509Z
UID:990006519-1776855600-1776868200@irishkevins.com
SUMMARY:Oren Polak
DESCRIPTION:
URL:https://irishkevins.com/event/oren-polak-9/2026-04-22/
CATEGORIES:Oren Polak
ATTACH;FMTTYPE=image/jpeg:https://irishkevins.com/wp-content/uploads/2023/09/Oren-Polak-450.jpg
END:VEVENT
BEGIN:VEVENT
DTSTART;TZID=America/New_York:20260423T183000
DTEND;TZID=America/New_York:20260423T223000
DTSTAMP:20260422T133248
CREATED:20260322T171509Z
LAST-MODIFIED:20260322T171509Z
UID:990006520-1776969000-1776983400@irishkevins.com
SUMMARY:Oren Polak
DESCRIPTION:
URL:https://irishkevins.com/event/oren-polak-9/2026-04-23/
CATEGORIES:Oren Polak
ATTACH;FMTTYPE=image/jpeg:https://irishkevins.com/wp-content/uploads/2023/09/Oren-Polak-450.jpg
END:VEVENT
BEGIN:VEVENT
DTSTART;TZID=America/New_York:20260426T180000
DTEND;TZID=America/New_York:20260426T220000
DTSTAMP:20260422T133248
CREATED:20260322T171509Z
LAST-MODIFIED:20260322T171509Z
UID:990006521-1777226400-1777240800@irishkevins.com
SUMMARY:Oren Polak
DESCRIPTION:
URL:https://irishkevins.com/event/oren-polak-9/2026-04-26/
CATEGORIES:Oren Polak
ATTACH;FMTTYPE=image/jpeg:https://irishkevins.com/wp-content/uploads/2023/09/Oren-Polak-450.jpg
END:VEVENT
BEGIN:VEVENT
DTSTART;TZID=America/New_York:20260429T110000
DTEND;TZID=America/New_York:20260429T143000
DTSTAMP:20260422T133248
CREATED:20260322T171509Z
LAST-MODIFIED:20260322T171509Z
UID:990006522-1777460400-1777473000@irishkevins.com
SUMMARY:Oren Polak
DESCRIPTION:
URL:https://irishkevins.com/event/oren-polak-9/2026-04-29/
CATEGORIES:Oren Polak
ATTACH;FMTTYPE=image/jpeg:https://irishkevins.com/wp-content/uploads/2023/09/Oren-Polak-450.jpg
END:VEVENT
BEGIN:VEVENT
DTSTART;TZID=America/New_York:20260430T183000
DTEND;TZID=America/New_York:20260430T223000
DTSTAMP:20260422T133248
CREATED:20260322T171509Z
LAST-MODIFIED:20260322T171509Z
UID:990006523-1777573800-1777588200@irishkevins.com
SUMMARY:Oren Polak
DESCRIPTION:
URL:https://irishkevins.com/event/oren-polak-9/2026-04-30/
CATEGORIES:Oren Polak
ATTACH;FMTTYPE=image/jpeg:https://irishkevins.com/wp-content/uploads/2023/09/Oren-Polak-450.jpg
END:VEVENT
END:VCALENDAR