BEGIN:VCALENDAR
VERSION:2.0
PRODID:-//Irish Kevin&#039;s Bar - ECPv6.15.20//NONSGML v1.0//EN
CALSCALE:GREGORIAN
METHOD:PUBLISH
X-ORIGINAL-URL:https://irishkevins.com
X-WR-CALDESC:Events for Irish Kevin&#039;s Bar
REFRESH-INTERVAL;VALUE=DURATION:PT1H
X-Robots-Tag:noindex
X-PUBLISHED-TTL:PT1H
BEGIN:VTIMEZONE
TZID:America/New_York
BEGIN:DAYLIGHT
TZOFFSETFROM:-0500
TZOFFSETTO:-0400
TZNAME:EDT
DTSTART:20240310T070000
END:DAYLIGHT
BEGIN:STANDARD
TZOFFSETFROM:-0400
TZOFFSETTO:-0500
TZNAME:EST
DTSTART:20241103T060000
END:STANDARD
BEGIN:DAYLIGHT
TZOFFSETFROM:-0500
TZOFFSETTO:-0400
TZNAME:EDT
DTSTART:20250309T070000
END:DAYLIGHT
BEGIN:STANDARD
TZOFFSETFROM:-0400
TZOFFSETTO:-0500
TZNAME:EST
DTSTART:20251102T060000
END:STANDARD
BEGIN:DAYLIGHT
TZOFFSETFROM:-0500
TZOFFSETTO:-0400
TZNAME:EDT
DTSTART:20260308T070000
END:DAYLIGHT
BEGIN:STANDARD
TZOFFSETFROM:-0400
TZOFFSETTO:-0500
TZNAME:EST
DTSTART:20261101T060000
END:STANDARD
BEGIN:DAYLIGHT
TZOFFSETFROM:-0500
TZOFFSETTO:-0400
TZNAME:EDT
DTSTART:20270314T070000
END:DAYLIGHT
BEGIN:STANDARD
TZOFFSETFROM:-0400
TZOFFSETTO:-0500
TZNAME:EST
DTSTART:20271107T060000
END:STANDARD
END:VTIMEZONE
BEGIN:VEVENT
DTSTART;TZID=America/New_York:20260205T183000
DTEND;TZID=America/New_York:20260205T223000
DTSTAMP:20260422T204949
CREATED:20260204T162854Z
LAST-MODIFIED:20260204T162854Z
UID:990006267-1770316200-1770330600@irishkevins.com
SUMMARY:Oren Polak
DESCRIPTION:
URL:https://irishkevins.com/event/oren-polak-7/2026-02-05/
CATEGORIES:Oren Polak
ATTACH;FMTTYPE=image/jpeg:https://irishkevins.com/wp-content/uploads/2023/09/Oren-Polak-450.jpg
END:VEVENT
BEGIN:VEVENT
DTSTART;TZID=America/New_York:20260204T180000
DTEND;TZID=America/New_York:20260204T220000
DTSTAMP:20260422T204949
CREATED:20260204T184204Z
LAST-MODIFIED:20260204T184204Z
UID:990006297-1770228000-1770242400@irishkevins.com
SUMMARY:Oren Polak
DESCRIPTION:
URL:https://irishkevins.com/event/oren-polak-8/
CATEGORIES:Oren Polak
END:VEVENT
BEGIN:VEVENT
DTSTART;TZID=America/New_York:20260204T110000
DTEND;TZID=America/New_York:20260204T143000
DTSTAMP:20260422T204949
CREATED:20260204T162854Z
LAST-MODIFIED:20260204T162854Z
UID:990006266-1770202800-1770215400@irishkevins.com
SUMMARY:Oren Polak
DESCRIPTION:
URL:https://irishkevins.com/event/oren-polak-7/2026-02-04/
CATEGORIES:Oren Polak
ATTACH;FMTTYPE=image/jpeg:https://irishkevins.com/wp-content/uploads/2023/09/Oren-Polak-450.jpg
END:VEVENT
BEGIN:VEVENT
DTSTART;TZID=America/New_York:20260201T180000
DTEND;TZID=America/New_York:20260201T220000
DTSTAMP:20260422T204949
CREATED:20260104T205214Z
LAST-MODIFIED:20260104T205214Z
UID:990006163-1769968800-1769983200@irishkevins.com
SUMMARY:Oren Polak
DESCRIPTION:
URL:https://irishkevins.com/event/oren-polak-6/2026-02-01/
CATEGORIES:Oren Polak
ATTACH;FMTTYPE=image/jpeg:https://irishkevins.com/wp-content/uploads/2023/09/Oren-Polak-450.jpg
END:VEVENT
BEGIN:VEVENT
DTSTART;TZID=America/New_York:20260129T183000
DTEND;TZID=America/New_York:20260129T223000
DTSTAMP:20260422T204949
CREATED:20260104T205214Z
LAST-MODIFIED:20260104T205214Z
UID:990006162-1769711400-1769725800@irishkevins.com
SUMMARY:Oren Polak
DESCRIPTION:
URL:https://irishkevins.com/event/oren-polak-6/2026-01-29/
CATEGORIES:Oren Polak
ATTACH;FMTTYPE=image/jpeg:https://irishkevins.com/wp-content/uploads/2023/09/Oren-Polak-450.jpg
END:VEVENT
BEGIN:VEVENT
DTSTART;TZID=America/New_York:20260128T110000
DTEND;TZID=America/New_York:20260128T143000
DTSTAMP:20260422T204949
CREATED:20260104T205214Z
LAST-MODIFIED:20260104T205214Z
UID:990006161-1769598000-1769610600@irishkevins.com
SUMMARY:Oren Polak
DESCRIPTION:
URL:https://irishkevins.com/event/oren-polak-6/2026-01-28/
CATEGORIES:Oren Polak
ATTACH;FMTTYPE=image/jpeg:https://irishkevins.com/wp-content/uploads/2023/09/Oren-Polak-450.jpg
END:VEVENT
BEGIN:VEVENT
DTSTART;TZID=America/New_York:20260125T180000
DTEND;TZID=America/New_York:20260125T220000
DTSTAMP:20260422T204949
CREATED:20260104T205214Z
LAST-MODIFIED:20260104T205214Z
UID:990006160-1769364000-1769378400@irishkevins.com
SUMMARY:Oren Polak
DESCRIPTION:
URL:https://irishkevins.com/event/oren-polak-6/2026-01-25/
CATEGORIES:Oren Polak
ATTACH;FMTTYPE=image/jpeg:https://irishkevins.com/wp-content/uploads/2023/09/Oren-Polak-450.jpg
END:VEVENT
BEGIN:VEVENT
DTSTART;TZID=America/New_York:20260122T183000
DTEND;TZID=America/New_York:20260122T223000
DTSTAMP:20260422T204949
CREATED:20260104T205214Z
LAST-MODIFIED:20260104T205214Z
UID:990006159-1769106600-1769121000@irishkevins.com
SUMMARY:Oren Polak
DESCRIPTION:
URL:https://irishkevins.com/event/oren-polak-6/2026-01-22/
CATEGORIES:Oren Polak
ATTACH;FMTTYPE=image/jpeg:https://irishkevins.com/wp-content/uploads/2023/09/Oren-Polak-450.jpg
END:VEVENT
BEGIN:VEVENT
DTSTART;TZID=America/New_York:20260121T110000
DTEND;TZID=America/New_York:20260121T143000
DTSTAMP:20260422T204949
CREATED:20260104T205214Z
LAST-MODIFIED:20260104T205214Z
UID:990006158-1768993200-1769005800@irishkevins.com
SUMMARY:Oren Polak
DESCRIPTION:
URL:https://irishkevins.com/event/oren-polak-6/2026-01-21/
CATEGORIES:Oren Polak
ATTACH;FMTTYPE=image/jpeg:https://irishkevins.com/wp-content/uploads/2023/09/Oren-Polak-450.jpg
END:VEVENT
BEGIN:VEVENT
DTSTART;TZID=America/New_York:20260119T143000
DTEND;TZID=America/New_York:20260119T180000
DTSTAMP:20260422T204949
CREATED:20260104T205214Z
LAST-MODIFIED:20260104T205214Z
UID:990006157-1768833000-1768845600@irishkevins.com
SUMMARY:Oren Polak
DESCRIPTION:
URL:https://irishkevins.com/event/oren-polak-6/2026-01-19/
CATEGORIES:Oren Polak
ATTACH;FMTTYPE=image/jpeg:https://irishkevins.com/wp-content/uploads/2023/09/Oren-Polak-450.jpg
END:VEVENT
BEGIN:VEVENT
DTSTART;TZID=America/New_York:20260118T180000
DTEND;TZID=America/New_York:20260118T220000
DTSTAMP:20260422T204949
CREATED:20260104T205214Z
LAST-MODIFIED:20260104T205214Z
UID:990006156-1768759200-1768773600@irishkevins.com
SUMMARY:Oren Polak
DESCRIPTION:
URL:https://irishkevins.com/event/oren-polak-6/2026-01-18/
CATEGORIES:Oren Polak
ATTACH;FMTTYPE=image/jpeg:https://irishkevins.com/wp-content/uploads/2023/09/Oren-Polak-450.jpg
END:VEVENT
BEGIN:VEVENT
DTSTART;TZID=America/New_York:20260115T183000
DTEND;TZID=America/New_York:20260115T223000
DTSTAMP:20260422T204949
CREATED:20260104T205214Z
LAST-MODIFIED:20260104T205214Z
UID:990006155-1768501800-1768516200@irishkevins.com
SUMMARY:Oren Polak
DESCRIPTION:
URL:https://irishkevins.com/event/oren-polak-6/2026-01-15/
CATEGORIES:Oren Polak
ATTACH;FMTTYPE=image/jpeg:https://irishkevins.com/wp-content/uploads/2023/09/Oren-Polak-450.jpg
END:VEVENT
BEGIN:VEVENT
DTSTART;TZID=America/New_York:20260114T110000
DTEND;TZID=America/New_York:20260114T143000
DTSTAMP:20260422T204949
CREATED:20260104T205214Z
LAST-MODIFIED:20260104T205214Z
UID:990006154-1768388400-1768401000@irishkevins.com
SUMMARY:Oren Polak
DESCRIPTION:
URL:https://irishkevins.com/event/oren-polak-6/2026-01-14/
CATEGORIES:Oren Polak
ATTACH;FMTTYPE=image/jpeg:https://irishkevins.com/wp-content/uploads/2023/09/Oren-Polak-450.jpg
END:VEVENT
BEGIN:VEVENT
DTSTART;TZID=America/New_York:20260111T180000
DTEND;TZID=America/New_York:20260111T220000
DTSTAMP:20260422T204949
CREATED:20260104T205214Z
LAST-MODIFIED:20260104T205214Z
UID:990006153-1768154400-1768168800@irishkevins.com
SUMMARY:Oren Polak
DESCRIPTION:
URL:https://irishkevins.com/event/oren-polak-6/2026-01-11/
CATEGORIES:Oren Polak
ATTACH;FMTTYPE=image/jpeg:https://irishkevins.com/wp-content/uploads/2023/09/Oren-Polak-450.jpg
END:VEVENT
BEGIN:VEVENT
DTSTART;TZID=America/New_York:20260108T183000
DTEND;TZID=America/New_York:20260108T223000
DTSTAMP:20260422T204949
CREATED:20260104T205214Z
LAST-MODIFIED:20260104T205214Z
UID:990006152-1767897000-1767911400@irishkevins.com
SUMMARY:Oren Polak
DESCRIPTION:
URL:https://irishkevins.com/event/oren-polak-6/2026-01-08/
CATEGORIES:Oren Polak
ATTACH;FMTTYPE=image/jpeg:https://irishkevins.com/wp-content/uploads/2023/09/Oren-Polak-450.jpg
END:VEVENT
BEGIN:VEVENT
DTSTART;TZID=America/New_York:20260107T110000
DTEND;TZID=America/New_York:20260107T143000
DTSTAMP:20260422T204949
CREATED:20260104T205214Z
LAST-MODIFIED:20260104T205214Z
UID:990006151-1767783600-1767796200@irishkevins.com
SUMMARY:Oren Polak
DESCRIPTION:
URL:https://irishkevins.com/event/oren-polak-6/2026-01-07/
CATEGORIES:Oren Polak
ATTACH;FMTTYPE=image/jpeg:https://irishkevins.com/wp-content/uploads/2023/09/Oren-Polak-450.jpg
END:VEVENT
BEGIN:VEVENT
DTSTART;TZID=America/New_York:20260106T143000
DTEND;TZID=America/New_York:20260106T180000
DTSTAMP:20260422T204949
CREATED:20260104T205214Z
LAST-MODIFIED:20260104T205214Z
UID:990006150-1767709800-1767722400@irishkevins.com
SUMMARY:Oren Polak
DESCRIPTION:
URL:https://irishkevins.com/event/oren-polak-6/2026-01-06/
CATEGORIES:Oren Polak
ATTACH;FMTTYPE=image/jpeg:https://irishkevins.com/wp-content/uploads/2023/09/Oren-Polak-450.jpg
END:VEVENT
BEGIN:VEVENT
DTSTART;TZID=America/New_York:20260104T180000
DTEND;TZID=America/New_York:20260104T220000
DTSTAMP:20260422T204949
CREATED:20260104T205214Z
LAST-MODIFIED:20260104T205214Z
UID:990006149-1767549600-1767564000@irishkevins.com
SUMMARY:Oren Polak
DESCRIPTION:
URL:https://irishkevins.com/event/oren-polak-6/2026-01-04/
CATEGORIES:Oren Polak
ATTACH;FMTTYPE=image/jpeg:https://irishkevins.com/wp-content/uploads/2023/09/Oren-Polak-450.jpg
END:VEVENT
BEGIN:VEVENT
DTSTART;TZID=America/New_York:20260101T183000
DTEND;TZID=America/New_York:20260101T223000
DTSTAMP:20260422T204949
CREATED:20260104T205214Z
LAST-MODIFIED:20260104T205214Z
UID:990006148-1767292200-1767306600@irishkevins.com
SUMMARY:Oren Polak
DESCRIPTION:
URL:https://irishkevins.com/event/oren-polak-6/2026-01-01/
CATEGORIES:Oren Polak
ATTACH;FMTTYPE=image/jpeg:https://irishkevins.com/wp-content/uploads/2023/09/Oren-Polak-450.jpg
END:VEVENT
BEGIN:VEVENT
DTSTART;TZID=America/New_York:20251231T110000
DTEND;TZID=America/New_York:20251231T150000
DTSTAMP:20260422T204949
CREATED:20251203T005547Z
LAST-MODIFIED:20251203T005547Z
UID:990006036-1767178800-1767193200@irishkevins.com
SUMMARY:Oren Polak
DESCRIPTION:
URL:https://irishkevins.com/event/oren-polak-5/2025-12-31/
CATEGORIES:Oren Polak
ATTACH;FMTTYPE=image/jpeg:https://irishkevins.com/wp-content/uploads/2023/09/Oren-Polak-450.jpg
END:VEVENT
BEGIN:VEVENT
DTSTART;TZID=America/New_York:20251228T180000
DTEND;TZID=America/New_York:20251228T220000
DTSTAMP:20260422T204949
CREATED:20251203T005547Z
LAST-MODIFIED:20251203T005547Z
UID:990006035-1766944800-1766959200@irishkevins.com
SUMMARY:Oren Polak
DESCRIPTION:
URL:https://irishkevins.com/event/oren-polak-5/2025-12-28/
CATEGORIES:Oren Polak
ATTACH;FMTTYPE=image/jpeg:https://irishkevins.com/wp-content/uploads/2023/09/Oren-Polak-450.jpg
END:VEVENT
BEGIN:VEVENT
DTSTART;TZID=America/New_York:20251226T183000
DTEND;TZID=America/New_York:20251226T223000
DTSTAMP:20260422T204949
CREATED:20251203T005547Z
LAST-MODIFIED:20251203T005547Z
UID:990006034-1766773800-1766788200@irishkevins.com
SUMMARY:Oren Polak
DESCRIPTION:
URL:https://irishkevins.com/event/oren-polak-5/2025-12-26/
CATEGORIES:Oren Polak
ATTACH;FMTTYPE=image/jpeg:https://irishkevins.com/wp-content/uploads/2023/09/Oren-Polak-450.jpg
END:VEVENT
BEGIN:VEVENT
DTSTART;TZID=America/New_York:20251225T183000
DTEND;TZID=America/New_York:20251225T223000
DTSTAMP:20260422T204949
CREATED:20251203T005547Z
LAST-MODIFIED:20251203T005547Z
UID:990006033-1766687400-1766701800@irishkevins.com
SUMMARY:Oren Polak
DESCRIPTION:
URL:https://irishkevins.com/event/oren-polak-5/2025-12-25/
CATEGORIES:Oren Polak
ATTACH;FMTTYPE=image/jpeg:https://irishkevins.com/wp-content/uploads/2023/09/Oren-Polak-450.jpg
END:VEVENT
BEGIN:VEVENT
DTSTART;TZID=America/New_York:20251224T110000
DTEND;TZID=America/New_York:20251224T143000
DTSTAMP:20260422T204949
CREATED:20251203T005547Z
LAST-MODIFIED:20251203T005547Z
UID:990006032-1766574000-1766586600@irishkevins.com
SUMMARY:Oren Polak
DESCRIPTION:
URL:https://irishkevins.com/event/oren-polak-5/2025-12-24/
CATEGORIES:Oren Polak
ATTACH;FMTTYPE=image/jpeg:https://irishkevins.com/wp-content/uploads/2023/09/Oren-Polak-450.jpg
END:VEVENT
BEGIN:VEVENT
DTSTART;TZID=America/New_York:20251222T180000
DTEND;TZID=America/New_York:20251222T220000
DTSTAMP:20260422T204949
CREATED:20251203T005547Z
LAST-MODIFIED:20251203T005547Z
UID:990006031-1766426400-1766440800@irishkevins.com
SUMMARY:Oren Polak
DESCRIPTION:
URL:https://irishkevins.com/event/oren-polak-5/2025-12-22/
CATEGORIES:Oren Polak
ATTACH;FMTTYPE=image/jpeg:https://irishkevins.com/wp-content/uploads/2023/09/Oren-Polak-450.jpg
END:VEVENT
BEGIN:VEVENT
DTSTART;TZID=America/New_York:20251221T180000
DTEND;TZID=America/New_York:20251221T220000
DTSTAMP:20260422T204949
CREATED:20251203T005547Z
LAST-MODIFIED:20251203T005547Z
UID:990006030-1766340000-1766354400@irishkevins.com
SUMMARY:Oren Polak
DESCRIPTION:
URL:https://irishkevins.com/event/oren-polak-5/2025-12-21/
CATEGORIES:Oren Polak
ATTACH;FMTTYPE=image/jpeg:https://irishkevins.com/wp-content/uploads/2023/09/Oren-Polak-450.jpg
END:VEVENT
BEGIN:VEVENT
DTSTART;TZID=America/New_York:20251218T183000
DTEND;TZID=America/New_York:20251218T223000
DTSTAMP:20260422T204949
CREATED:20251203T005547Z
LAST-MODIFIED:20251203T005547Z
UID:990006029-1766082600-1766097000@irishkevins.com
SUMMARY:Oren Polak
DESCRIPTION:
URL:https://irishkevins.com/event/oren-polak-5/2025-12-18/
CATEGORIES:Oren Polak
ATTACH;FMTTYPE=image/jpeg:https://irishkevins.com/wp-content/uploads/2023/09/Oren-Polak-450.jpg
END:VEVENT
BEGIN:VEVENT
DTSTART;TZID=America/New_York:20251217T110000
DTEND;TZID=America/New_York:20251217T143000
DTSTAMP:20260422T204949
CREATED:20251203T005547Z
LAST-MODIFIED:20251203T005547Z
UID:990006028-1765969200-1765981800@irishkevins.com
SUMMARY:Oren Polak
DESCRIPTION:
URL:https://irishkevins.com/event/oren-polak-5/2025-12-17/
CATEGORIES:Oren Polak
ATTACH;FMTTYPE=image/jpeg:https://irishkevins.com/wp-content/uploads/2023/09/Oren-Polak-450.jpg
END:VEVENT
BEGIN:VEVENT
DTSTART;TZID=America/New_York:20251211T183000
DTEND;TZID=America/New_York:20251211T223000
DTSTAMP:20260422T204949
CREATED:20251203T005547Z
LAST-MODIFIED:20251203T005547Z
UID:990006027-1765477800-1765492200@irishkevins.com
SUMMARY:Oren Polak
DESCRIPTION:
URL:https://irishkevins.com/event/oren-polak-5/2025-12-11/
CATEGORIES:Oren Polak
ATTACH;FMTTYPE=image/jpeg:https://irishkevins.com/wp-content/uploads/2023/09/Oren-Polak-450.jpg
END:VEVENT
BEGIN:VEVENT
DTSTART;TZID=America/New_York:20251210T110000
DTEND;TZID=America/New_York:20251210T143000
DTSTAMP:20260422T204949
CREATED:20251203T005547Z
LAST-MODIFIED:20251203T005547Z
UID:990006026-1765364400-1765377000@irishkevins.com
SUMMARY:Oren Polak
DESCRIPTION:
URL:https://irishkevins.com/event/oren-polak-5/2025-12-10/
CATEGORIES:Oren Polak
ATTACH;FMTTYPE=image/jpeg:https://irishkevins.com/wp-content/uploads/2023/09/Oren-Polak-450.jpg
END:VEVENT
END:VCALENDAR