BEGIN:VCALENDAR
VERSION:2.0
PRODID:-//Irish Kevin&#039;s Bar - ECPv6.15.20//NONSGML v1.0//EN
CALSCALE:GREGORIAN
METHOD:PUBLISH
X-WR-CALNAME:Irish Kevin&#039;s Bar
X-ORIGINAL-URL:https://irishkevins.com
X-WR-CALDESC:Events for Irish Kevin&#039;s Bar
REFRESH-INTERVAL;VALUE=DURATION:PT1H
X-Robots-Tag:noindex
X-PUBLISHED-TTL:PT1H
BEGIN:VTIMEZONE
TZID:America/New_York
BEGIN:DAYLIGHT
TZOFFSETFROM:-0500
TZOFFSETTO:-0400
TZNAME:EDT
DTSTART:20240310T070000
END:DAYLIGHT
BEGIN:STANDARD
TZOFFSETFROM:-0400
TZOFFSETTO:-0500
TZNAME:EST
DTSTART:20241103T060000
END:STANDARD
BEGIN:DAYLIGHT
TZOFFSETFROM:-0500
TZOFFSETTO:-0400
TZNAME:EDT
DTSTART:20250309T070000
END:DAYLIGHT
BEGIN:STANDARD
TZOFFSETFROM:-0400
TZOFFSETTO:-0500
TZNAME:EST
DTSTART:20251102T060000
END:STANDARD
BEGIN:DAYLIGHT
TZOFFSETFROM:-0500
TZOFFSETTO:-0400
TZNAME:EDT
DTSTART:20260308T070000
END:DAYLIGHT
BEGIN:STANDARD
TZOFFSETFROM:-0400
TZOFFSETTO:-0500
TZNAME:EST
DTSTART:20261101T060000
END:STANDARD
BEGIN:DAYLIGHT
TZOFFSETFROM:-0500
TZOFFSETTO:-0400
TZNAME:EDT
DTSTART:20270314T070000
END:DAYLIGHT
BEGIN:STANDARD
TZOFFSETFROM:-0400
TZOFFSETTO:-0500
TZNAME:EST
DTSTART:20271107T060000
END:STANDARD
END:VTIMEZONE
BEGIN:VEVENT
DTSTART;TZID=America/New_York:20251205T223000
DTEND;TZID=America/New_York:20251206T023000
DTSTAMP:20260423T055216
CREATED:20251203T002952Z
LAST-MODIFIED:20251203T002952Z
UID:990005977-1764973800-1764988200@irishkevins.com
SUMMARY:Riptide Riot
DESCRIPTION:
URL:https://irishkevins.com/event/riptide-riot-6/2025-12-05/
CATEGORIES:Tim and Jim
END:VEVENT
BEGIN:VEVENT
DTSTART;TZID=America/New_York:20251209T220000
DTEND;TZID=America/New_York:20251210T020000
DTSTAMP:20260423T055216
CREATED:20251203T002952Z
LAST-MODIFIED:20251203T002952Z
UID:990005978-1765317600-1765332000@irishkevins.com
SUMMARY:Riptide Riot
DESCRIPTION:
URL:https://irishkevins.com/event/riptide-riot-6/2025-12-09/
CATEGORIES:Tim and Jim
END:VEVENT
BEGIN:VEVENT
DTSTART;TZID=America/New_York:20251211T223000
DTEND;TZID=America/New_York:20251212T023000
DTSTAMP:20260423T055216
CREATED:20251203T002952Z
LAST-MODIFIED:20251203T002952Z
UID:990005979-1765492200-1765506600@irishkevins.com
SUMMARY:Riptide Riot
DESCRIPTION:
URL:https://irishkevins.com/event/riptide-riot-6/2025-12-11/
CATEGORIES:Tim and Jim
END:VEVENT
BEGIN:VEVENT
DTSTART;TZID=America/New_York:20251212T223000
DTEND;TZID=America/New_York:20251213T023000
DTSTAMP:20260423T055216
CREATED:20251203T002952Z
LAST-MODIFIED:20251203T002952Z
UID:990005980-1765578600-1765593000@irishkevins.com
SUMMARY:Riptide Riot
DESCRIPTION:
URL:https://irishkevins.com/event/riptide-riot-6/2025-12-12/
CATEGORIES:Tim and Jim
END:VEVENT
BEGIN:VEVENT
DTSTART;TZID=America/New_York:20251216T220000
DTEND;TZID=America/New_York:20251217T020000
DTSTAMP:20260423T055216
CREATED:20251203T002952Z
LAST-MODIFIED:20251203T002952Z
UID:990005981-1765922400-1765936800@irishkevins.com
SUMMARY:Riptide Riot
DESCRIPTION:
URL:https://irishkevins.com/event/riptide-riot-6/2025-12-16/
CATEGORIES:Tim and Jim
END:VEVENT
BEGIN:VEVENT
DTSTART;TZID=America/New_York:20251218T223000
DTEND;TZID=America/New_York:20251219T023000
DTSTAMP:20260423T055216
CREATED:20251203T002952Z
LAST-MODIFIED:20251203T002952Z
UID:990005982-1766097000-1766111400@irishkevins.com
SUMMARY:Riptide Riot
DESCRIPTION:
URL:https://irishkevins.com/event/riptide-riot-6/2025-12-18/
CATEGORIES:Tim and Jim
END:VEVENT
BEGIN:VEVENT
DTSTART;TZID=America/New_York:20251219T223000
DTEND;TZID=America/New_York:20251220T023000
DTSTAMP:20260423T055216
CREATED:20251203T002952Z
LAST-MODIFIED:20251203T002952Z
UID:990005983-1766183400-1766197800@irishkevins.com
SUMMARY:Riptide Riot
DESCRIPTION:
URL:https://irishkevins.com/event/riptide-riot-6/2025-12-19/
CATEGORIES:Tim and Jim
END:VEVENT
BEGIN:VEVENT
DTSTART;TZID=America/New_York:20251220T223000
DTEND;TZID=America/New_York:20251221T023000
DTSTAMP:20260423T055216
CREATED:20251203T002952Z
LAST-MODIFIED:20251203T002952Z
UID:990005984-1766269800-1766284200@irishkevins.com
SUMMARY:Riptide Riot
DESCRIPTION:
URL:https://irishkevins.com/event/riptide-riot-6/2025-12-20/
CATEGORIES:Tim and Jim
END:VEVENT
BEGIN:VEVENT
DTSTART;TZID=America/New_York:20251225T223000
DTEND;TZID=America/New_York:20251226T023000
DTSTAMP:20260423T055217
CREATED:20251203T002952Z
LAST-MODIFIED:20251203T002952Z
UID:990005985-1766701800-1766716200@irishkevins.com
SUMMARY:Riptide Riot
DESCRIPTION:
URL:https://irishkevins.com/event/riptide-riot-6/2025-12-25/
CATEGORIES:Tim and Jim
END:VEVENT
BEGIN:VEVENT
DTSTART;TZID=America/New_York:20251226T223000
DTEND;TZID=America/New_York:20251227T023000
DTSTAMP:20260423T055217
CREATED:20251203T002952Z
LAST-MODIFIED:20251203T002952Z
UID:990005986-1766788200-1766802600@irishkevins.com
SUMMARY:Riptide Riot
DESCRIPTION:
URL:https://irishkevins.com/event/riptide-riot-6/2025-12-26/
CATEGORIES:Tim and Jim
END:VEVENT
BEGIN:VEVENT
DTSTART;TZID=America/New_York:20251230T220000
DTEND;TZID=America/New_York:20251231T020000
DTSTAMP:20260423T055217
CREATED:20251203T002952Z
LAST-MODIFIED:20251203T002952Z
UID:990005987-1767132000-1767146400@irishkevins.com
SUMMARY:Riptide Riot
DESCRIPTION:
URL:https://irishkevins.com/event/riptide-riot-6/2025-12-30/
CATEGORIES:Tim and Jim
END:VEVENT
BEGIN:VEVENT
DTSTART;TZID=America/New_York:20260101T223000
DTEND;TZID=America/New_York:20260102T023000
DTSTAMP:20260423T055217
CREATED:20260104T200631Z
LAST-MODIFIED:20260104T200631Z
UID:990006100-1767306600-1767321000@irishkevins.com
SUMMARY:Riptide Riot
DESCRIPTION:
URL:https://irishkevins.com/event/riptide-riot-7/2026-01-01/
CATEGORIES:Tim and Jim
END:VEVENT
BEGIN:VEVENT
DTSTART;TZID=America/New_York:20260102T223000
DTEND;TZID=America/New_York:20260103T023000
DTSTAMP:20260423T055217
CREATED:20260104T200631Z
LAST-MODIFIED:20260104T200631Z
UID:990006101-1767393000-1767407400@irishkevins.com
SUMMARY:Riptide Riot
DESCRIPTION:
URL:https://irishkevins.com/event/riptide-riot-7/2026-01-02/
CATEGORIES:Tim and Jim
END:VEVENT
BEGIN:VEVENT
DTSTART;TZID=America/New_York:20260106T220000
DTEND;TZID=America/New_York:20260107T020000
DTSTAMP:20260423T055217
CREATED:20260104T200631Z
LAST-MODIFIED:20260104T200631Z
UID:990006102-1767736800-1767751200@irishkevins.com
SUMMARY:Riptide Riot
DESCRIPTION:
URL:https://irishkevins.com/event/riptide-riot-7/2026-01-06/
CATEGORIES:Tim and Jim
END:VEVENT
BEGIN:VEVENT
DTSTART;TZID=America/New_York:20260108T223000
DTEND;TZID=America/New_York:20260109T023000
DTSTAMP:20260423T055217
CREATED:20260104T200631Z
LAST-MODIFIED:20260104T200631Z
UID:990006103-1767911400-1767925800@irishkevins.com
SUMMARY:Riptide Riot
DESCRIPTION:
URL:https://irishkevins.com/event/riptide-riot-7/2026-01-08/
CATEGORIES:Tim and Jim
END:VEVENT
BEGIN:VEVENT
DTSTART;TZID=America/New_York:20260109T223000
DTEND;TZID=America/New_York:20260110T023000
DTSTAMP:20260423T055217
CREATED:20260104T200631Z
LAST-MODIFIED:20260104T200631Z
UID:990006104-1767997800-1768012200@irishkevins.com
SUMMARY:Riptide Riot
DESCRIPTION:
URL:https://irishkevins.com/event/riptide-riot-7/2026-01-09/
CATEGORIES:Tim and Jim
END:VEVENT
BEGIN:VEVENT
DTSTART;TZID=America/New_York:20260115T223000
DTEND;TZID=America/New_York:20260116T023000
DTSTAMP:20260423T055217
CREATED:20260104T200631Z
LAST-MODIFIED:20260104T200631Z
UID:990006105-1768516200-1768530600@irishkevins.com
SUMMARY:Riptide Riot
DESCRIPTION:
URL:https://irishkevins.com/event/riptide-riot-7/2026-01-15/
CATEGORIES:Tim and Jim
END:VEVENT
BEGIN:VEVENT
DTSTART;TZID=America/New_York:20260116T223000
DTEND;TZID=America/New_York:20260117T023000
DTSTAMP:20260423T055217
CREATED:20260104T200631Z
LAST-MODIFIED:20260104T200631Z
UID:990006106-1768602600-1768617000@irishkevins.com
SUMMARY:Riptide Riot
DESCRIPTION:
URL:https://irishkevins.com/event/riptide-riot-7/2026-01-16/
CATEGORIES:Tim and Jim
END:VEVENT
BEGIN:VEVENT
DTSTART;TZID=America/New_York:20260122T223000
DTEND;TZID=America/New_York:20260123T023000
DTSTAMP:20260423T055217
CREATED:20260104T200631Z
LAST-MODIFIED:20260104T200631Z
UID:990006107-1769121000-1769135400@irishkevins.com
SUMMARY:Riptide Riot
DESCRIPTION:
URL:https://irishkevins.com/event/riptide-riot-7/2026-01-22/
CATEGORIES:Tim and Jim
END:VEVENT
BEGIN:VEVENT
DTSTART;TZID=America/New_York:20260123T223000
DTEND;TZID=America/New_York:20260124T023000
DTSTAMP:20260423T055217
CREATED:20260104T200631Z
LAST-MODIFIED:20260104T200631Z
UID:990006108-1769207400-1769221800@irishkevins.com
SUMMARY:Riptide Riot
DESCRIPTION:
URL:https://irishkevins.com/event/riptide-riot-7/2026-01-23/
CATEGORIES:Tim and Jim
END:VEVENT
BEGIN:VEVENT
DTSTART;TZID=America/New_York:20260130T223000
DTEND;TZID=America/New_York:20260131T023000
DTSTAMP:20260423T055217
CREATED:20260104T200631Z
LAST-MODIFIED:20260104T200631Z
UID:990006109-1769812200-1769826600@irishkevins.com
SUMMARY:Riptide Riot
DESCRIPTION:
URL:https://irishkevins.com/event/riptide-riot-7/2026-01-30/
CATEGORIES:Tim and Jim
END:VEVENT
BEGIN:VEVENT
DTSTART;TZID=America/New_York:20260205T223000
DTEND;TZID=America/New_York:20260206T023000
DTSTAMP:20260423T055217
CREATED:20260204T160424Z
LAST-MODIFIED:20260204T160424Z
UID:990006220-1770330600-1770345000@irishkevins.com
SUMMARY:Riptide Riot
DESCRIPTION:
URL:https://irishkevins.com/event/riptide-riot-8/2026-02-05/
CATEGORIES:Tim and Jim
END:VEVENT
BEGIN:VEVENT
DTSTART;TZID=America/New_York:20260206T223000
DTEND;TZID=America/New_York:20260207T023000
DTSTAMP:20260423T055217
CREATED:20260204T160424Z
LAST-MODIFIED:20260204T160424Z
UID:990006221-1770417000-1770431400@irishkevins.com
SUMMARY:Riptide Riot
DESCRIPTION:
URL:https://irishkevins.com/event/riptide-riot-8/2026-02-06/
CATEGORIES:Tim and Jim
END:VEVENT
BEGIN:VEVENT
DTSTART;TZID=America/New_York:20260210T220000
DTEND;TZID=America/New_York:20260211T020000
DTSTAMP:20260423T055217
CREATED:20260204T160424Z
LAST-MODIFIED:20260204T160424Z
UID:990006222-1770760800-1770775200@irishkevins.com
SUMMARY:Riptide Riot
DESCRIPTION:
URL:https://irishkevins.com/event/riptide-riot-8/2026-02-10/
CATEGORIES:Tim and Jim
END:VEVENT
BEGIN:VEVENT
DTSTART;TZID=America/New_York:20260212T223000
DTEND;TZID=America/New_York:20260213T023000
DTSTAMP:20260423T055217
CREATED:20260204T160424Z
LAST-MODIFIED:20260204T160424Z
UID:990006223-1770935400-1770949800@irishkevins.com
SUMMARY:Riptide Riot
DESCRIPTION:
URL:https://irishkevins.com/event/riptide-riot-8/2026-02-12/
CATEGORIES:Tim and Jim
END:VEVENT
BEGIN:VEVENT
DTSTART;TZID=America/New_York:20260213T223000
DTEND;TZID=America/New_York:20260214T023000
DTSTAMP:20260423T055217
CREATED:20260204T160424Z
LAST-MODIFIED:20260204T160424Z
UID:990006224-1771021800-1771036200@irishkevins.com
SUMMARY:Riptide Riot
DESCRIPTION:
URL:https://irishkevins.com/event/riptide-riot-8/2026-02-13/
CATEGORIES:Tim and Jim
END:VEVENT
BEGIN:VEVENT
DTSTART;TZID=America/New_York:20260217T220000
DTEND;TZID=America/New_York:20260218T020000
DTSTAMP:20260423T055217
CREATED:20260204T160424Z
LAST-MODIFIED:20260204T160424Z
UID:990006225-1771365600-1771380000@irishkevins.com
SUMMARY:Riptide Riot
DESCRIPTION:
URL:https://irishkevins.com/event/riptide-riot-8/2026-02-17/
CATEGORIES:Tim and Jim
END:VEVENT
BEGIN:VEVENT
DTSTART;TZID=America/New_York:20260219T223000
DTEND;TZID=America/New_York:20260220T023000
DTSTAMP:20260423T055217
CREATED:20260204T160424Z
LAST-MODIFIED:20260204T160424Z
UID:990006226-1771540200-1771554600@irishkevins.com
SUMMARY:Riptide Riot
DESCRIPTION:
URL:https://irishkevins.com/event/riptide-riot-8/2026-02-19/
CATEGORIES:Tim and Jim
END:VEVENT
BEGIN:VEVENT
DTSTART;TZID=America/New_York:20260220T223000
DTEND;TZID=America/New_York:20260221T023000
DTSTAMP:20260423T055217
CREATED:20260204T160424Z
LAST-MODIFIED:20260204T160424Z
UID:990006227-1771626600-1771641000@irishkevins.com
SUMMARY:Riptide Riot
DESCRIPTION:
URL:https://irishkevins.com/event/riptide-riot-8/2026-02-20/
CATEGORIES:Tim and Jim
END:VEVENT
BEGIN:VEVENT
DTSTART;TZID=America/New_York:20260226T223000
DTEND;TZID=America/New_York:20260227T023000
DTSTAMP:20260423T055217
CREATED:20260204T160424Z
LAST-MODIFIED:20260204T160424Z
UID:990006228-1772145000-1772159400@irishkevins.com
SUMMARY:Riptide Riot
DESCRIPTION:
URL:https://irishkevins.com/event/riptide-riot-8/2026-02-26/
CATEGORIES:Tim and Jim
END:VEVENT
END:VCALENDAR