BEGIN:VCALENDAR
VERSION:2.0
PRODID:-//Irish Kevin&#039;s Bar - ECPv6.15.20//NONSGML v1.0//EN
CALSCALE:GREGORIAN
METHOD:PUBLISH
X-WR-CALNAME:Irish Kevin&#039;s Bar
X-ORIGINAL-URL:https://irishkevins.com
X-WR-CALDESC:Events for Irish Kevin&#039;s Bar
REFRESH-INTERVAL;VALUE=DURATION:PT1H
X-Robots-Tag:noindex
X-PUBLISHED-TTL:PT1H
BEGIN:VTIMEZONE
TZID:America/New_York
BEGIN:DAYLIGHT
TZOFFSETFROM:-0500
TZOFFSETTO:-0400
TZNAME:EDT
DTSTART:20240310T070000
END:DAYLIGHT
BEGIN:STANDARD
TZOFFSETFROM:-0400
TZOFFSETTO:-0500
TZNAME:EST
DTSTART:20241103T060000
END:STANDARD
BEGIN:DAYLIGHT
TZOFFSETFROM:-0500
TZOFFSETTO:-0400
TZNAME:EDT
DTSTART:20250309T070000
END:DAYLIGHT
BEGIN:STANDARD
TZOFFSETFROM:-0400
TZOFFSETTO:-0500
TZNAME:EST
DTSTART:20251102T060000
END:STANDARD
BEGIN:DAYLIGHT
TZOFFSETFROM:-0500
TZOFFSETTO:-0400
TZNAME:EDT
DTSTART:20260308T070000
END:DAYLIGHT
BEGIN:STANDARD
TZOFFSETFROM:-0400
TZOFFSETTO:-0500
TZNAME:EST
DTSTART:20261101T060000
END:STANDARD
END:VTIMEZONE
BEGIN:VEVENT
DTSTART;TZID=America/New_York:20251218T223000
DTEND;TZID=America/New_York:20251219T023000
DTSTAMP:20260422T191310
CREATED:20251203T002952Z
LAST-MODIFIED:20251203T002952Z
UID:990005982-1766097000-1766111400@irishkevins.com
SUMMARY:Riptide Riot
DESCRIPTION:
URL:https://irishkevins.com/event/riptide-riot-6/2025-12-18/
CATEGORIES:Tim and Jim
END:VEVENT
BEGIN:VEVENT
DTSTART;TZID=America/New_York:20251216T220000
DTEND;TZID=America/New_York:20251217T020000
DTSTAMP:20260422T191310
CREATED:20251203T002952Z
LAST-MODIFIED:20251203T002952Z
UID:990005981-1765922400-1765936800@irishkevins.com
SUMMARY:Riptide Riot
DESCRIPTION:
URL:https://irishkevins.com/event/riptide-riot-6/2025-12-16/
CATEGORIES:Tim and Jim
END:VEVENT
BEGIN:VEVENT
DTSTART;TZID=America/New_York:20251212T223000
DTEND;TZID=America/New_York:20251213T023000
DTSTAMP:20260422T191310
CREATED:20251203T002952Z
LAST-MODIFIED:20251203T002952Z
UID:990005980-1765578600-1765593000@irishkevins.com
SUMMARY:Riptide Riot
DESCRIPTION:
URL:https://irishkevins.com/event/riptide-riot-6/2025-12-12/
CATEGORIES:Tim and Jim
END:VEVENT
BEGIN:VEVENT
DTSTART;TZID=America/New_York:20251211T223000
DTEND;TZID=America/New_York:20251212T023000
DTSTAMP:20260422T191310
CREATED:20251203T002952Z
LAST-MODIFIED:20251203T002952Z
UID:990005979-1765492200-1765506600@irishkevins.com
SUMMARY:Riptide Riot
DESCRIPTION:
URL:https://irishkevins.com/event/riptide-riot-6/2025-12-11/
CATEGORIES:Tim and Jim
END:VEVENT
BEGIN:VEVENT
DTSTART;TZID=America/New_York:20251209T220000
DTEND;TZID=America/New_York:20251210T020000
DTSTAMP:20260422T191310
CREATED:20251203T002952Z
LAST-MODIFIED:20251203T002952Z
UID:990005978-1765317600-1765332000@irishkevins.com
SUMMARY:Riptide Riot
DESCRIPTION:
URL:https://irishkevins.com/event/riptide-riot-6/2025-12-09/
CATEGORIES:Tim and Jim
END:VEVENT
BEGIN:VEVENT
DTSTART;TZID=America/New_York:20251205T223000
DTEND;TZID=America/New_York:20251206T023000
DTSTAMP:20260422T191310
CREATED:20251203T002952Z
LAST-MODIFIED:20251203T002952Z
UID:990005977-1764973800-1764988200@irishkevins.com
SUMMARY:Riptide Riot
DESCRIPTION:
URL:https://irishkevins.com/event/riptide-riot-6/2025-12-05/
CATEGORIES:Tim and Jim
END:VEVENT
BEGIN:VEVENT
DTSTART;TZID=America/New_York:20251128T223000
DTEND;TZID=America/New_York:20251129T023000
DTSTAMP:20260422T191310
CREATED:20251109T202340Z
LAST-MODIFIED:20251109T202340Z
UID:990005869-1764369000-1764383400@irishkevins.com
SUMMARY:Riptide Riot
DESCRIPTION:
URL:https://irishkevins.com/event/riptide-riot-5/2025-11-28/
CATEGORIES:Tim and Jim
END:VEVENT
BEGIN:VEVENT
DTSTART;TZID=America/New_York:20251127T223000
DTEND;TZID=America/New_York:20251128T023000
DTSTAMP:20260422T191310
CREATED:20251109T202340Z
LAST-MODIFIED:20251109T202340Z
UID:990005868-1764282600-1764297000@irishkevins.com
SUMMARY:Riptide Riot
DESCRIPTION:
URL:https://irishkevins.com/event/riptide-riot-5/2025-11-27/
CATEGORIES:Tim and Jim
END:VEVENT
BEGIN:VEVENT
DTSTART;TZID=America/New_York:20251122T223000
DTEND;TZID=America/New_York:20251123T023000
DTSTAMP:20260422T191310
CREATED:20251109T202340Z
LAST-MODIFIED:20251109T202340Z
UID:990005867-1763850600-1763865000@irishkevins.com
SUMMARY:Riptide Riot
DESCRIPTION:
URL:https://irishkevins.com/event/riptide-riot-5/2025-11-22/
CATEGORIES:Tim and Jim
END:VEVENT
BEGIN:VEVENT
DTSTART;TZID=America/New_York:20251121T223000
DTEND;TZID=America/New_York:20251122T023000
DTSTAMP:20260422T191310
CREATED:20251109T202340Z
LAST-MODIFIED:20251109T202340Z
UID:990005866-1763764200-1763778600@irishkevins.com
SUMMARY:Riptide Riot
DESCRIPTION:
URL:https://irishkevins.com/event/riptide-riot-5/2025-11-21/
CATEGORIES:Tim and Jim
END:VEVENT
BEGIN:VEVENT
DTSTART;TZID=America/New_York:20251120T223000
DTEND;TZID=America/New_York:20251121T023000
DTSTAMP:20260422T191310
CREATED:20251109T202340Z
LAST-MODIFIED:20251109T202340Z
UID:990005865-1763677800-1763692200@irishkevins.com
SUMMARY:Riptide Riot
DESCRIPTION:
URL:https://irishkevins.com/event/riptide-riot-5/2025-11-20/
CATEGORIES:Tim and Jim
END:VEVENT
BEGIN:VEVENT
DTSTART;TZID=America/New_York:20251115T223000
DTEND;TZID=America/New_York:20251116T023000
DTSTAMP:20260422T191310
CREATED:20251109T202340Z
LAST-MODIFIED:20251109T202340Z
UID:990005864-1763245800-1763260200@irishkevins.com
SUMMARY:Riptide Riot
DESCRIPTION:
URL:https://irishkevins.com/event/riptide-riot-5/2025-11-15/
CATEGORIES:Tim and Jim
END:VEVENT
BEGIN:VEVENT
DTSTART;TZID=America/New_York:20251114T223000
DTEND;TZID=America/New_York:20251115T023000
DTSTAMP:20260422T191310
CREATED:20251109T202340Z
LAST-MODIFIED:20251109T202340Z
UID:990005863-1763159400-1763173800@irishkevins.com
SUMMARY:Riptide Riot
DESCRIPTION:
URL:https://irishkevins.com/event/riptide-riot-5/2025-11-14/
CATEGORIES:Tim and Jim
END:VEVENT
BEGIN:VEVENT
DTSTART;TZID=America/New_York:20251113T223000
DTEND;TZID=America/New_York:20251114T023000
DTSTAMP:20260422T191310
CREATED:20251109T202340Z
LAST-MODIFIED:20251109T202340Z
UID:990005862-1763073000-1763087400@irishkevins.com
SUMMARY:Riptide Riot
DESCRIPTION:
URL:https://irishkevins.com/event/riptide-riot-5/2025-11-13/
CATEGORIES:Tim and Jim
END:VEVENT
BEGIN:VEVENT
DTSTART;TZID=America/New_York:20251106T223000
DTEND;TZID=America/New_York:20251107T023000
DTSTAMP:20260422T191310
CREATED:20251109T202340Z
LAST-MODIFIED:20251109T202340Z
UID:990005861-1762468200-1762482600@irishkevins.com
SUMMARY:Riptide Riot
DESCRIPTION:
URL:https://irishkevins.com/event/riptide-riot-5/2025-11-06/
CATEGORIES:Tim and Jim
END:VEVENT
BEGIN:VEVENT
DTSTART;TZID=America/New_York:20251104T220000
DTEND;TZID=America/New_York:20251105T020000
DTSTAMP:20260422T191310
CREATED:20251109T202340Z
LAST-MODIFIED:20251109T202340Z
UID:990005860-1762293600-1762308000@irishkevins.com
SUMMARY:Riptide Riot
DESCRIPTION:
URL:https://irishkevins.com/event/riptide-riot-5/2025-11-04/
CATEGORIES:Tim and Jim
END:VEVENT
BEGIN:VEVENT
DTSTART;TZID=America/New_York:20251031T223000
DTEND;TZID=America/New_York:20251101T023000
DTSTAMP:20260422T191310
CREATED:20251008T170612Z
LAST-MODIFIED:20251008T170612Z
UID:990005737-1761949800-1761964200@irishkevins.com
SUMMARY:Riptide Riot
DESCRIPTION:
URL:https://irishkevins.com/event/riptide-riot-4/2025-10-31/
CATEGORIES:Tim and Jim
END:VEVENT
BEGIN:VEVENT
DTSTART;TZID=America/New_York:20251030T223000
DTEND;TZID=America/New_York:20251031T023000
DTSTAMP:20260422T191310
CREATED:20251008T170612Z
LAST-MODIFIED:20251008T170612Z
UID:990005736-1761863400-1761877800@irishkevins.com
SUMMARY:Riptide Riot
DESCRIPTION:
URL:https://irishkevins.com/event/riptide-riot-4/2025-10-30/
CATEGORIES:Tim and Jim
END:VEVENT
BEGIN:VEVENT
DTSTART;TZID=America/New_York:20251025T233000
DTEND;TZID=America/New_York:20251026T033000
DTSTAMP:20260422T191310
CREATED:20251008T170612Z
LAST-MODIFIED:20251008T170612Z
UID:990005735-1761435000-1761449400@irishkevins.com
SUMMARY:Riptide Riot
DESCRIPTION:
URL:https://irishkevins.com/event/riptide-riot-4/2025-10-25/
CATEGORIES:Tim and Jim
END:VEVENT
BEGIN:VEVENT
DTSTART;TZID=America/New_York:20251024T233000
DTEND;TZID=America/New_York:20251025T033000
DTSTAMP:20260422T191310
CREATED:20251008T170612Z
LAST-MODIFIED:20251008T170612Z
UID:990005734-1761348600-1761363000@irishkevins.com
SUMMARY:Riptide Riot
DESCRIPTION:
URL:https://irishkevins.com/event/riptide-riot-4/2025-10-24/
CATEGORIES:Tim and Jim
END:VEVENT
END:VCALENDAR