BEGIN:VCALENDAR
VERSION:2.0
PRODID:-//Irish Kevin&#039;s Bar - ECPv6.15.20//NONSGML v1.0//EN
CALSCALE:GREGORIAN
METHOD:PUBLISH
X-ORIGINAL-URL:https://irishkevins.com
X-WR-CALDESC:Events for Irish Kevin&#039;s Bar
REFRESH-INTERVAL;VALUE=DURATION:PT1H
X-Robots-Tag:noindex
X-PUBLISHED-TTL:PT1H
BEGIN:VTIMEZONE
TZID:America/New_York
BEGIN:DAYLIGHT
TZOFFSETFROM:-0500
TZOFFSETTO:-0400
TZNAME:EDT
DTSTART:20240310T070000
END:DAYLIGHT
BEGIN:STANDARD
TZOFFSETFROM:-0400
TZOFFSETTO:-0500
TZNAME:EST
DTSTART:20241103T060000
END:STANDARD
BEGIN:DAYLIGHT
TZOFFSETFROM:-0500
TZOFFSETTO:-0400
TZNAME:EDT
DTSTART:20250309T070000
END:DAYLIGHT
BEGIN:STANDARD
TZOFFSETFROM:-0400
TZOFFSETTO:-0500
TZNAME:EST
DTSTART:20251102T060000
END:STANDARD
BEGIN:DAYLIGHT
TZOFFSETFROM:-0500
TZOFFSETTO:-0400
TZNAME:EDT
DTSTART:20260308T070000
END:DAYLIGHT
BEGIN:STANDARD
TZOFFSETFROM:-0400
TZOFFSETTO:-0500
TZNAME:EST
DTSTART:20261101T060000
END:STANDARD
BEGIN:DAYLIGHT
TZOFFSETFROM:-0500
TZOFFSETTO:-0400
TZNAME:EDT
DTSTART:20270314T070000
END:DAYLIGHT
BEGIN:STANDARD
TZOFFSETFROM:-0400
TZOFFSETTO:-0500
TZNAME:EST
DTSTART:20271107T060000
END:STANDARD
END:VTIMEZONE
BEGIN:VEVENT
DTSTART;TZID=America/New_York:20260209T110000
DTEND;TZID=America/New_York:20260209T143000
DTSTAMP:20260422T182455
CREATED:20260204T163515Z
LAST-MODIFIED:20260204T163515Z
UID:990006296-1770634800-1770647400@irishkevins.com
SUMMARY:Tim Bradach
DESCRIPTION:
URL:https://irishkevins.com/event/tim-bradach-7/2026-02-09/
CATEGORIES:Tim Bradach
END:VEVENT
BEGIN:VEVENT
DTSTART;TZID=America/New_York:20260208T110000
DTEND;TZID=America/New_York:20260208T143000
DTSTAMP:20260422T182455
CREATED:20260204T163515Z
LAST-MODIFIED:20260204T163515Z
UID:990006295-1770548400-1770561000@irishkevins.com
SUMMARY:Tim Bradach
DESCRIPTION:
URL:https://irishkevins.com/event/tim-bradach-7/2026-02-08/
CATEGORIES:Tim Bradach
END:VEVENT
BEGIN:VEVENT
DTSTART;TZID=America/New_York:20260202T110000
DTEND;TZID=America/New_York:20260202T143000
DTSTAMP:20260422T182455
CREATED:20260204T163515Z
LAST-MODIFIED:20260204T163515Z
UID:990006294-1770030000-1770042600@irishkevins.com
SUMMARY:Tim Bradach
DESCRIPTION:
URL:https://irishkevins.com/event/tim-bradach-7/2026-02-02/
CATEGORIES:Tim Bradach
END:VEVENT
BEGIN:VEVENT
DTSTART;TZID=America/New_York:20260201T110000
DTEND;TZID=America/New_York:20260201T143000
DTSTAMP:20260422T182455
CREATED:20260104T212200Z
LAST-MODIFIED:20260104T212200Z
UID:990006185-1769943600-1769956200@irishkevins.com
SUMMARY:Tim Bradach
DESCRIPTION:
URL:https://irishkevins.com/event/tim-bradach-6/2026-02-01/
CATEGORIES:Tim Bradach
END:VEVENT
BEGIN:VEVENT
DTSTART;TZID=America/New_York:20260129T223000
DTEND;TZID=America/New_York:20260130T023000
DTSTAMP:20260422T182455
CREATED:20260104T212200Z
LAST-MODIFIED:20260104T212200Z
UID:990006184-1769725800-1769740200@irishkevins.com
SUMMARY:Tim Bradach
DESCRIPTION:
URL:https://irishkevins.com/event/tim-bradach-6/2026-01-29/
CATEGORIES:Tim Bradach
END:VEVENT
BEGIN:VEVENT
DTSTART;TZID=America/New_York:20260118T143000
DTEND;TZID=America/New_York:20260118T180000
DTSTAMP:20260422T182455
CREATED:20260104T212200Z
LAST-MODIFIED:20260104T212200Z
UID:990006183-1768746600-1768759200@irishkevins.com
SUMMARY:Tim Bradach
DESCRIPTION:
URL:https://irishkevins.com/event/tim-bradach-6/2026-01-18/
CATEGORIES:Tim Bradach
END:VEVENT
BEGIN:VEVENT
DTSTART;TZID=America/New_York:20260104T220000
DTEND;TZID=America/New_York:20260105T020000
DTSTAMP:20260422T182455
CREATED:20260104T212200Z
LAST-MODIFIED:20260104T212200Z
UID:990006182-1767564000-1767578400@irishkevins.com
SUMMARY:Tim Bradach
DESCRIPTION:
URL:https://irishkevins.com/event/tim-bradach-6/2026-01-04/
CATEGORIES:Tim Bradach
END:VEVENT
BEGIN:VEVENT
DTSTART;TZID=America/New_York:20251228T143000
DTEND;TZID=America/New_York:20251228T180000
DTSTAMP:20260422T182455
CREATED:20251203T011332Z
LAST-MODIFIED:20251203T011332Z
UID:990006057-1766932200-1766944800@irishkevins.com
SUMMARY:Tim Bradach
DESCRIPTION:
URL:https://irishkevins.com/event/tim-bradach/2025-12-28/
CATEGORIES:Tim Bradach
END:VEVENT
BEGIN:VEVENT
DTSTART;TZID=America/New_York:20251224T220000
DTEND;TZID=America/New_York:20251225T020000
DTSTAMP:20260422T182455
CREATED:20251203T011332Z
LAST-MODIFIED:20251203T011332Z
UID:990006056-1766613600-1766628000@irishkevins.com
SUMMARY:Tim Bradach
DESCRIPTION:
URL:https://irishkevins.com/event/tim-bradach/2025-12-24/
CATEGORIES:Tim Bradach
END:VEVENT
BEGIN:VEVENT
DTSTART;TZID=America/New_York:20251223T180000
DTEND;TZID=America/New_York:20251223T220000
DTSTAMP:20260422T182455
CREATED:20251203T011332Z
LAST-MODIFIED:20251203T011332Z
UID:990006055-1766512800-1766527200@irishkevins.com
SUMMARY:Tim Bradach
DESCRIPTION:
URL:https://irishkevins.com/event/tim-bradach/2025-12-23/
CATEGORIES:Tim Bradach
END:VEVENT
BEGIN:VEVENT
DTSTART;TZID=America/New_York:20251222T220000
DTEND;TZID=America/New_York:20251223T020000
DTSTAMP:20260422T182455
CREATED:20251203T011332Z
LAST-MODIFIED:20251203T011332Z
UID:990006054-1766440800-1766455200@irishkevins.com
SUMMARY:Tim Bradach
DESCRIPTION:
URL:https://irishkevins.com/event/tim-bradach/2025-12-22/
CATEGORIES:Tim Bradach
END:VEVENT
BEGIN:VEVENT
DTSTART;TZID=America/New_York:20251207T143000
DTEND;TZID=America/New_York:20251207T180000
DTSTAMP:20260422T182455
CREATED:20251203T011332Z
LAST-MODIFIED:20251203T011332Z
UID:990006053-1765117800-1765130400@irishkevins.com
SUMMARY:Tim Bradach
DESCRIPTION:
URL:https://irishkevins.com/event/tim-bradach/2025-12-07/
CATEGORIES:Tim Bradach
END:VEVENT
BEGIN:VEVENT
DTSTART;TZID=America/New_York:20251206T110000
DTEND;TZID=America/New_York:20251206T143000
DTSTAMP:20260422T182455
CREATED:20251203T011332Z
LAST-MODIFIED:20251203T011332Z
UID:990006052-1765018800-1765031400@irishkevins.com
SUMMARY:Tim Bradach
DESCRIPTION:
URL:https://irishkevins.com/event/tim-bradach/2025-12-06/
CATEGORIES:Tim Bradach
END:VEVENT
BEGIN:VEVENT
DTSTART;TZID=America/New_York:20251119T110000
DTEND;TZID=America/New_York:20251119T143000
DTSTAMP:20260422T182455
CREATED:20251109T210651Z
LAST-MODIFIED:20251109T210651Z
UID:990005935-1763550000-1763562600@irishkevins.com
SUMMARY:Tim Bradach
DESCRIPTION:
URL:https://irishkevins.com/event/tim-bradach-5/2025-11-19/
CATEGORIES:Tim Bradach
END:VEVENT
BEGIN:VEVENT
DTSTART;TZID=America/New_York:20251116T110000
DTEND;TZID=America/New_York:20251116T143000
DTSTAMP:20260422T182455
CREATED:20251109T210651Z
LAST-MODIFIED:20251109T210651Z
UID:990005934-1763290800-1763303400@irishkevins.com
SUMMARY:Tim Bradach
DESCRIPTION:
URL:https://irishkevins.com/event/tim-bradach-5/2025-11-16/
CATEGORIES:Tim Bradach
END:VEVENT
BEGIN:VEVENT
DTSTART;TZID=America/New_York:20251112T220000
DTEND;TZID=America/New_York:20251113T020000
DTSTAMP:20260422T182455
CREATED:20251109T210651Z
LAST-MODIFIED:20251109T210651Z
UID:990005933-1762984800-1762999200@irishkevins.com
SUMMARY:Tim Bradach
DESCRIPTION:
URL:https://irishkevins.com/event/tim-bradach-5/2025-11-12/
CATEGORIES:Tim Bradach
END:VEVENT
END:VCALENDAR