BEGIN:VCALENDAR
VERSION:2.0
PRODID:-//Irish Kevin&#039;s Bar - ECPv6.15.20//NONSGML v1.0//EN
CALSCALE:GREGORIAN
METHOD:PUBLISH
X-WR-CALNAME:Irish Kevin&#039;s Bar
X-ORIGINAL-URL:https://irishkevins.com
X-WR-CALDESC:Events for Irish Kevin&#039;s Bar
REFRESH-INTERVAL;VALUE=DURATION:PT1H
X-Robots-Tag:noindex
X-PUBLISHED-TTL:PT1H
BEGIN:VTIMEZONE
TZID:America/New_York
BEGIN:DAYLIGHT
TZOFFSETFROM:-0500
TZOFFSETTO:-0400
TZNAME:EDT
DTSTART:20250309T070000
END:DAYLIGHT
BEGIN:STANDARD
TZOFFSETFROM:-0400
TZOFFSETTO:-0500
TZNAME:EST
DTSTART:20251102T060000
END:STANDARD
BEGIN:DAYLIGHT
TZOFFSETFROM:-0500
TZOFFSETTO:-0400
TZNAME:EDT
DTSTART:20260308T070000
END:DAYLIGHT
BEGIN:STANDARD
TZOFFSETFROM:-0400
TZOFFSETTO:-0500
TZNAME:EST
DTSTART:20261101T060000
END:STANDARD
BEGIN:DAYLIGHT
TZOFFSETFROM:-0500
TZOFFSETTO:-0400
TZNAME:EDT
DTSTART:20270314T070000
END:DAYLIGHT
BEGIN:STANDARD
TZOFFSETFROM:-0400
TZOFFSETTO:-0500
TZNAME:EST
DTSTART:20271107T060000
END:STANDARD
END:VTIMEZONE
BEGIN:VEVENT
DTSTART;TZID=America/New_York:20260416T223000
DTEND;TZID=America/New_York:20260417T023000
DTSTAMP:20260422T193742
CREATED:20260322T172348Z
LAST-MODIFIED:20260322T172348Z
UID:990006548-1776378600-1776393000@irishkevins.com
SUMMARY:Tim Bradach
DESCRIPTION:
URL:https://irishkevins.com/event/tim-bradach-8/2026-04-16/
CATEGORIES:Tim Bradach
END:VEVENT
BEGIN:VEVENT
DTSTART;TZID=America/New_York:20260417T223000
DTEND;TZID=America/New_York:20260418T023000
DTSTAMP:20260422T193742
CREATED:20260322T172348Z
LAST-MODIFIED:20260322T172348Z
UID:990006549-1776465000-1776479400@irishkevins.com
SUMMARY:Tim Bradach
DESCRIPTION:
URL:https://irishkevins.com/event/tim-bradach-8/2026-04-17/
CATEGORIES:Tim Bradach
END:VEVENT
END:VCALENDAR