BEGIN:VCALENDAR
VERSION:2.0
PRODID:-//Irish Kevin&#039;s Bar - ECPv6.15.20//NONSGML v1.0//EN
CALSCALE:GREGORIAN
METHOD:PUBLISH
X-WR-CALNAME:Irish Kevin&#039;s Bar
X-ORIGINAL-URL:https://irishkevins.com
X-WR-CALDESC:Events for Irish Kevin&#039;s Bar
REFRESH-INTERVAL;VALUE=DURATION:PT1H
X-Robots-Tag:noindex
X-PUBLISHED-TTL:PT1H
BEGIN:VTIMEZONE
TZID:America/New_York
BEGIN:DAYLIGHT
TZOFFSETFROM:-0500
TZOFFSETTO:-0400
TZNAME:EDT
DTSTART:20240310T070000
END:DAYLIGHT
BEGIN:STANDARD
TZOFFSETFROM:-0400
TZOFFSETTO:-0500
TZNAME:EST
DTSTART:20241103T060000
END:STANDARD
BEGIN:DAYLIGHT
TZOFFSETFROM:-0500
TZOFFSETTO:-0400
TZNAME:EDT
DTSTART:20250309T070000
END:DAYLIGHT
BEGIN:STANDARD
TZOFFSETFROM:-0400
TZOFFSETTO:-0500
TZNAME:EST
DTSTART:20251102T060000
END:STANDARD
BEGIN:DAYLIGHT
TZOFFSETFROM:-0500
TZOFFSETTO:-0400
TZNAME:EDT
DTSTART:20260308T070000
END:DAYLIGHT
BEGIN:STANDARD
TZOFFSETFROM:-0400
TZOFFSETTO:-0500
TZNAME:EST
DTSTART:20261101T060000
END:STANDARD
END:VTIMEZONE
BEGIN:VEVENT
DTSTART;TZID=America/New_York:20251206T110000
DTEND;TZID=America/New_York:20251206T143000
DTSTAMP:20260422T213504
CREATED:20251203T011332Z
LAST-MODIFIED:20251203T011332Z
UID:990006052-1765018800-1765031400@irishkevins.com
SUMMARY:Tim Bradach
DESCRIPTION:
URL:https://irishkevins.com/event/tim-bradach/2025-12-06/
CATEGORIES:Tim Bradach
END:VEVENT
BEGIN:VEVENT
DTSTART;TZID=America/New_York:20251119T110000
DTEND;TZID=America/New_York:20251119T143000
DTSTAMP:20260422T213504
CREATED:20251109T210651Z
LAST-MODIFIED:20251109T210651Z
UID:990005935-1763550000-1763562600@irishkevins.com
SUMMARY:Tim Bradach
DESCRIPTION:
URL:https://irishkevins.com/event/tim-bradach-5/2025-11-19/
CATEGORIES:Tim Bradach
END:VEVENT
BEGIN:VEVENT
DTSTART;TZID=America/New_York:20251116T110000
DTEND;TZID=America/New_York:20251116T143000
DTSTAMP:20260422T213504
CREATED:20251109T210651Z
LAST-MODIFIED:20251109T210651Z
UID:990005934-1763290800-1763303400@irishkevins.com
SUMMARY:Tim Bradach
DESCRIPTION:
URL:https://irishkevins.com/event/tim-bradach-5/2025-11-16/
CATEGORIES:Tim Bradach
END:VEVENT
BEGIN:VEVENT
DTSTART;TZID=America/New_York:20251112T220000
DTEND;TZID=America/New_York:20251113T020000
DTSTAMP:20260422T213504
CREATED:20251109T210651Z
LAST-MODIFIED:20251109T210651Z
UID:990005933-1762984800-1762999200@irishkevins.com
SUMMARY:Tim Bradach
DESCRIPTION:
URL:https://irishkevins.com/event/tim-bradach-5/2025-11-12/
CATEGORIES:Tim Bradach
END:VEVENT
END:VCALENDAR